Workbook

Sheet Portada
G3: Área de Calidade
C5: Cadro de Mando da Facultade de Filoloxía e Tradución
C7: Indicadores do Sistema de Garantía de Calidade
E8: Curso 2024/2025
C9: Índice
D10: Datos | F10: Resultados
D11: Indicadores de Centro | F11: Resumo dos Resultados
D12: =+"Anexos do "&Centro!F4 -> Anexos do Curso 2023-2024 | F12: Resultados por procedementos
D13: =+"Anexos do "&Centro!J4 -> Anexos do Curso 2024-2025
D14: =+"Anexos do "&Centro!N4 -> Anexos do curso 2025-2026
D16: Indicadores do Grao en Linguas Estranxeiras
D17: Indicadores do Grao en Traducción e Interpretación
D18: Indicadores do Grao en Filoloxía Aplicada Galega e Española
D19: Indicadores do Máster Universitario en Traducción Multimedia
D20: Indicadores do Máster Universitario en Estudos Ingleses Avanzados e as súas Aplicacións
D21: Indicadores do Máster en Lingüística Aplicada
D22: Indicadores do Máster Universitario en Traducción para a Comunicación Internacional | G22: Maio 2026

Sheet Centro
A2: Panel de indicadores - Cadro de mando da Facultade de Filoloxía e Tradución
A4: Indicadores | C4: Procedimientos asociados | E4: Crit. | F4: Curso 2023-2024 | J4: Curso 2024-2025 | N4: curso 2025-2026
A5: Cod | B5: Denominación Indicador | C5: Denominación | D5: Descripcion e Fonte de Información | E5: IRPD | F5: Meta | G5: Resultado | H5: Observacións | J5: Meta | K5: Resultado | L5: Observacións | N5: Meta | O5: Resultado | P5: Observacións
A6: Indicadores dos Programas de Calidade | F6: =+COUNTIF(H$7:H$37,"meta Conseguida")+COUNTIF(H$7:H$37,"meta Non Conseguida") -> 2 | G6: =+COUNTIF(H$7:H$37,"meta Conseguida") -> 2 | H6: =+IFERROR(G6/F6,0) -> 1 | J6: =+COUNTIF(L$7:L$37,"meta Conseguida")+COUNTIF(L$7:L$37,"meta Non Conseguida") -> 1 | K6: =+COUNTIF(L$7:L$37,"meta Conseguida") -> 1 | L6: =+IFERROR(K6/J6,0) -> 1 | N6: =+COUNTIF(P$7:P$37,"meta Conseguida")+COUNTIF(P$7:P$37,"meta Non Conseguida") -> 0 | O6: =+COUNTIF(P$7:P$37,"meta Conseguida") -> 0 | P6: =+IFERROR(O6/N6,0) -> 0
A7: I6 | B7: % Participación do PAS do centro en plans de formación | C7: PE-01 Xestión do PAS | D7: Só cubrir o Resultado, é un indicador informativo. Indicar a % do centro da columna "% Formación Si" do documento do "PAS_Formación" do portal de transparencia: https://secretaria.uvigo.gal/uv/web/transparencia/informe/show/5/37/86 Son os resultados do curso 23-24 | E7: 4 | F7: 0.75 | G7: 0.7704918 | H7: =+IF(ISBLANK(G7),"Introducir Resultado","Resultado Introducido") -> Resultado Introducido | J7: 0.75 | K7: 0.1745 | L7: =+IF(ISBLANK(K7),"Introducir Resultado","Resultado Introducido") -> Resultado Introducido | N7: 0.75 | P7: =+IF(ISBLANK(O7),"Introducir Resultado","Resultado Introducido") -> Introducir Resultado
A9: Indicadores institucionais da Universidade de Vigo
A10: I27 | B10: Nº Queixas recibidas | C10: MC-02: Xestión das queixas, suxestións e parabéns | D10: Cubrir Meta e Resultado. O indicador acádase se o resultado é igual ou inferior á meta. Indicar o Nº de queixas recibidas no curso e que sexan competencia do centro ou das súas titulacións. https://secretaria.uvigo.gal/uv/web/qsp/ | E10: 3 | G10: 1 | H10: =+IF(AND(ISBLANK(F10),ISBLANK(G10)),"Introducir Meta e Resultado",IF(ISBLANK(F10),"Indicador Sen Meta",IF(ISBLANK(G10),"Introducir Resultado",IF(G10<=F10,"Meta Conseguida","Meta Non Conseguida")))) -> Indicador Sen Meta | K10: 1 | L10: =+IF(AND(ISBLANK(J10),ISBLANK(K10)),"Introducir Meta e Resultado",IF(ISBLANK(J10),"Indicador Sen Meta",IF(ISBLANK(K10),"Introducir Resultado",IF(K10<=J10,"Meta Conseguida","Meta Non Conseguida")))) -> Indicador Sen Meta | N10: 0 | P10: =+IF(AND(ISBLANK(N10),ISBLANK(O10)),"Introducir Meta e Resultado",IF(ISBLANK(N10),"Indicador Sen Meta",IF(ISBLANK(O10),"Introducir Resultado",IF(O10<=N10,"Meta Conseguida","Meta Non Conseguida")))) -> Introducir Resultado
A11: I28 | B11: % de Titulacións que renovaron a súa acreditación | C11: DO-0101: Deseño, verificación, modificación e acreditación das titulacións oficiais | D11: Cubrir Meta e Resultado Indicar a % de titulacións que se imparten no centro que renovaron a súa acreditación sobre o total das titulacións que participaron na renovación da acreditación. Ter en conta únicamente as titulacións que recibiron o informe definitivo neste curso. | E11: 1 | H11: =+IF(AND(ISBLANK(F11),ISBLANK(G11)),"Introducir Meta e Resultado",IF(ISBLANK(F11),"Indicador Sen Meta",IF(ISBLANK(G11),"Introducir Resultado",IF(G11>=F11,"Meta Conseguida","Meta Non Conseguida")))) -> Introducir Meta e Resultado | L11: =+IF(AND(ISBLANK(J11),ISBLANK(K11)),"Introducir Meta e Resultado",IF(ISBLANK(J11),"Indicador Sen Meta",IF(ISBLANK(K11),"Introducir Resultado",IF(K11>=J11,"Meta Conseguida","Meta Non Conseguida")))) -> Introducir Meta e Resultado | N11: 1 | P11: =+IF(AND(ISBLANK(N11),ISBLANK(O11)),"Introducir Meta e Resultado",IF(ISBLANK(N11),"Indicador Sen Meta",IF(ISBLANK(O11),"Introducir Resultado",IF(O11>=N11,"Meta Conseguida","Meta Non Conseguida")))) -> Introducir Resultado
A12: I29-1 | B12: Nº Titulacións en proceso de verificación | C12: DO-0101: Deseño, verificación, modificación e acreditación das titulacións oficiais | D12: Só cubrir o Resultado, é un indicador informativo Indicar o Nº de titulacións que se imparten no centro que estan en proceso de verificación. | E12: 1 | F12: ---- | H12: =+IF(ISBLANK(G12),"Introducir Resultado","Resultado Introducido") -> Introducir Resultado | J12: ---- | L12: =+IF(ISBLANK(K12),"Introducir Resultado","Resultado Introducido") -> Introducir Resultado | N12: ---- | P12: =+IF(ISBLANK(O12),"Introducir Resultado","Resultado Introducido") -> Introducir Resultado
A13: I29-2 | B13: Nº Titulacións en proceso de modificación substancial | C13: DO-0101: Deseño, verificación, modificación e acreditación das titulacións oficiais | D13: Só cubrir o Resultado, é un indicador informativo Indicar o Nº de titulacións que se imparten no centro que estan en proceso de modificación substancial. | E13: 1 | F13: ---- | H13: =+IF(ISBLANK(G13),"Introducir Resultado","Resultado Introducido") -> Introducir Resultado | J13: ---- | L13: =+IF(ISBLANK(K13),"Introducir Resultado","Resultado Introducido") -> Introducir Resultado | N13: ---- | P13: =+IF(ISBLANK(O13),"Introducir Resultado","Resultado Introducido") -> Introducir Resultado
A14: I29-3 | B14: Nº Titulacións en proceso de renovación da acreditación | C14: DO-0101: Deseño, verificación, modificación e acreditación das titulacións oficiais | D14: Só cubrir o Resultado, é un indicador informativo Indicar o Nº de titulacións que se imparten no centro que estan en proceso de renovación da acreditación. | E14: 1 | F14: ---- | H14: =+IF(ISBLANK(G14),"Introducir Resultado","Resultado Introducido") -> Introducir Resultado | J14: ---- | L14: =+IF(ISBLANK(K14),"Introducir Resultado","Resultado Introducido") -> Introducir Resultado | N14: ---- | P14: =+IF(ISBLANK(O14),"Introducir Resultado","Resultado Introducido") -> Introducir Resultado
A15: I30 | B15: % Titulacións con avaliación favorable en Seguimento | C15: DO-0102: Seguimento e mellora das titulacións | D15: Cubrir Meta e Resultado Indicar a % de titulacións que se imparten no centro que obtiveron unha avaliación Favorable no Informe de definitivo do Seguimento da ACSUG sobre o total das titulacións que participaron. Incluír únicamente as titulacións que recibiron o informe final neste curso. | E15: 1 | H15: =+IF(AND(ISBLANK(F15),ISBLANK(G15)),"Introducir Meta e Resultado",IF(ISBLANK(F15),"Indicador Sen Meta",IF(ISBLANK(G15),"Introducir Resultado",IF(G15>=F15,"Meta Conseguida","Meta Non Conseguida")))) -> Introducir Meta e Resultado | L15: =+IF(AND(ISBLANK(J15),ISBLANK(K15)),"Introducir Meta e Resultado",IF(ISBLANK(J15),"Indicador Sen Meta",IF(ISBLANK(K15),"Introducir Resultado",IF(K15>=J15,"Meta Conseguida","Meta Non Conseguida")))) -> Introducir Meta e Resultado | N15: 1 | P15: =+IF(AND(ISBLANK(N15),ISBLANK(O15)),"Introducir Meta e Resultado",IF(ISBLANK(N15),"Indicador Sen Meta",IF(ISBLANK(O15),"Introducir Resultado",IF(O15>=N15,"Meta Conseguida","Meta Non Conseguida")))) -> Introducir Resultado
A16: I31 | B16: Nº Titulacións en proceso de Seguimento | C16: DO-0102: Seguimento e mellora das titulacións | D16: Só cubrir o Resultado, é un indicador informativo Indicar o Nº de titulacións que se imparten no centro que estan en proceso de seguimento da ACSUG | E16: 1 | F16: ---- | H16: =+IF(ISBLANK(G16),"Introducir Resultado","Indicador Completado") -> Introducir Resultado | J16: ---- | L16: =+IF(ISBLANK(K16),"Introducir Resultado","Indicador Completado") -> Introducir Resultado | N16: ---- | P16: =+IF(ISBLANK(O16),"Introducir Resultado","Indicador Completado") -> Introducir Resultado
A17: I32 | B17: Nº Titulacións en proceso de extinción ou suspensión | C17: DO-0103: Suspensión e extinción dunha titulación | D17: Só cubrir o Resultado, é un indicador informativo Indicar o Nº de titulacións que se impartiron no centro no curso pasado, que están nun proceso de suspensión ou extinción | E17: 1 | F17: ---- | H17: =+IF(ISBLANK(G17),"Introducir Resultado","Indicador Completado") -> Introducir Resultado | J17: ---- | L17: =+IF(ISBLANK(K17),"Introducir Resultado","Indicador Completado") -> Introducir Resultado | N17: ---- | P17: =+IF(ISBLANK(O17),"Introducir Resultado","Indicador Completado") -> Introducir Resultado
A18: I33 | B18: Nº Accións de promoción realizadas | C18: DO-0202 Promoción das titulacións | D18: Só cubrir o Resultado, é un indicador informativo Indicar o Nº de accións de promoción realizadas segundo o plan de promoción previsto polo centro e as súas titulacións. | E18: 1 | F18: ---- | H18: =+IF(ISBLANK(G18),"Introducir Resultado","Indicador Completado") -> Introducir Resultado | J18: ---- | L18: =+IF(ISBLANK(K18),"Introducir Resultado","Indicador Completado") -> Introducir Resultado | N18: ---- | P18: =+IF(ISBLANK(O18),"Introducir Resultado","Indicador Completado") -> Introducir Resultado
A19: I34 | B19: Nº Accións de mellora definidas neste curso | C19: DO-0102: Seguimento e mellora das titulacións | D19: Só cubrir o Resultado, é un indicador informativo Nº de melloras rexistradas asociadas ao centro na aplicación SGIC neste curso | E19: 3 | F19: ---- | G19: 9 | H19: =+IF(ISBLANK(G19),"Introducir Resultado","Indicador Completado") -> Indicador Completado | J19: ---- | K19: 24 | L19: =+IF(ISBLANK(K19),"Introducir Resultado","Indicador Completado") -> Indicador Completado | N19: ---- | P19: =+IF(ISBLANK(O19),"Introducir Resultado","Indicador Completado") -> Introducir Resultado
A20: I37 | B20: Grao de Satisfacción do estudantado co PAT | C20: DO-0203: Orientación do estudantado e atención ás NEAE | D20: Cubrir Meta e Resultado Indicar o Grao de satisfacción do estudantado co PAT, mediante unha enquisa vosa. No caso de utilizar a enquisa do Anexo IV-A da "Guía para a elaboración do PAT", incluiríase o valor do ítem 4 " Valore o grao de utilidade do PAT" | E20: 5 | H20: =+IF(AND(ISBLANK(F20),ISBLANK(G20)),"Introducir Meta e Resultado",IF(ISBLANK(F20),"Indicador Sen Meta",IF(ISBLANK(G20),"Introducir Resultado",IF(G20>=F20,"Meta Conseguida","Meta Non Conseguida")))) -> Introducir Meta e Resultado | L20: =+IF(AND(ISBLANK(J20),ISBLANK(K20)),"Introducir Meta e Resultado",IF(ISBLANK(J20),"Indicador Sen Meta",IF(ISBLANK(K20),"Introducir Resultado",IF(K20>=J20,"Meta Conseguida","Meta Non Conseguida")))) -> Introducir Meta e Resultado | N20: 3 | P20: =+IF(AND(ISBLANK(N20),ISBLANK(O20)),"Introducir Meta e Resultado",IF(ISBLANK(N20),"Indicador Sen Meta",IF(ISBLANK(O20),"Introducir Resultado",IF(O20>=N20,"Meta Conseguida","Meta Non Conseguida")))) -> Introducir Resultado
A21: I40 | B21: Nº de procedementos actualizados no curso académico | C21: XD-01: Control dos documentos e dos rexistros | D21: Só cubrir o Resultado, é un indicador informativo Indicar o Nº de procedementos actualizados neste curso | E21: 3 | F21: ---- | G21: 5 | H21: =+IF(ISBLANK(G21),"Introducir Resultado","Indicador Completado") -> Indicador Completado | J21: ---- | K21: 4 | L21: =+IF(ISBLANK(K21),"Introducir Resultado","Indicador Completado") -> Indicador Completado | N21: ---- | P21: =+IF(ISBLANK(O21),"Introducir Resultado","Indicador Completado") -> Introducir Resultado
A22: I41 | B22: % Rexistros en estado completado na aplicación SGIC | C22: XD-01: Control dos documentos e dos rexistros | D22: Cubrir Meta e Resultado Indicar a % de rexistros co estado "Completado" na aplicación SGIC do curso pasado | E22: 3 | F22: 1 | G22: 1 | H22: =+IF(AND(ISBLANK(F22),ISBLANK(G22)),"Introducir Meta e Resultado",IF(ISBLANK(F22),"Indicador Sen Meta",IF(ISBLANK(G22),"Introducir Resultado",IF(G22>=F22,"Meta Conseguida","Meta Non Conseguida")))) -> Meta Conseguida | J22: 1 | K22: 1 | L22: =+IF(AND(ISBLANK(J22),ISBLANK(K22)),"Introducir Meta e Resultado",IF(ISBLANK(J22),"Indicador Sen Meta",IF(ISBLANK(K22),"Introducir Resultado",IF(K22>=J22,"Meta Conseguida","Meta Non Conseguida")))) -> Meta Conseguida | N22: 1 | P22: =+IF(AND(ISBLANK(N22),ISBLANK(O22)),"Introducir Meta e Resultado",IF(ISBLANK(N22),"Indicador Sen Meta",IF(ISBLANK(O22),"Introducir Resultado",IF(O22>=N22,"Meta Conseguida","Meta Non Conseguida")))) -> Introducir Resultado
A23: I42 | B23: % Accións de Mellora finalizadas en prazo | C23: XD-01: Control dos documentos e dos rexistros | D23: Cubrir Meta e Resultado Porcentaxe das accións de mellora que está prevista a súa finalización neste curso, e efectivamente están finalizadas, sobre o total das accións de mellora que finalizaban o curso de referencia. | E23: 3 | F23: ---- | G23: ---- | H23: =+IF(AND(ISBLANK(F23),ISBLANK(G23)),"Introducir Meta e Resultado",IF(ISBLANK(F23),"Indicador Sen Meta",IF(ISBLANK(G23),"Introducir Resultado",IF(G23>=F23,"Meta Conseguida","Meta Non Conseguida")))) -> Meta Conseguida | L23: =+IF(AND(ISBLANK(J23),ISBLANK(K23)),"Introducir Meta e Resultado",IF(ISBLANK(J23),"Indicador Sen Meta",IF(ISBLANK(K23),"Introducir Resultado",IF(K23>=J23,"Meta Conseguida","Meta Non Conseguida")))) -> Introducir Meta e Resultado | N23: 0.5 | P23: =+IF(AND(ISBLANK(N23),ISBLANK(O23)),"Introducir Meta e Resultado",IF(ISBLANK(N23),"Indicador Sen Meta",IF(ISBLANK(O23),"Introducir Resultado",IF(O23>=N23,"Meta Conseguida","Meta Non Conseguida")))) -> Introducir Resultado
A25: Indicadores do programa estratéxico de centro
A27: I50 | B27: Indicadores do programa estratexico do centro | C27: DE-01: Programación e desenvolvemento estratéxico | D27: Só Cubrir a Meta entre os valores [0-10] Nº dos obxectivos I50-1 ata I50-10 que se acadan | F27: =+COUNTA(H28:H52)-COUNTIF(H28:H52,"Introducir Resultado")-COUNTIF(H28:H52,"Introducir Meta e Resultado") -> 3 | G27: =+COUNTIF(H28:H52,"Meta Conseguida") -> 2 | H27: =+IF(COUNTIF(H28:H52,"Meta Conseguida")=5,"Meta Totalmente Alcanzada",IF(COUNTIF(H28:H52,"Meta Non Conseguida")=5,"Ningunha Meta Alcanzada",IF((G27+F27)=0,"Introducir Indicadores","Meta Parcialmente Alcanzada"))) -> Meta Parcialmente Alcanzada | J27: =+COUNTA(L28:L52)-COUNTIF(L28:L52,"Introducir Resultado")-COUNTIF(L28:L52,"Introducir Meta e Resultado") -> 3 | K27: =+COUNTIF(L28:L52,"Meta Conseguida") -> 2 | L27: =+IF(COUNTIF(L28:L52,"Meta Conseguida")=5,"Meta Totalmente Alcanzada",IF(COUNTIF(L28:L52,"Meta Non Conseguida")=5,"Ningunha Meta Alcanzada",IF((K27+J27)=0,"Introducir Indicadores","Meta Parcialmente Alcanzada"))) -> Meta Parcialmente Alcanzada | N27: =+COUNTA(P28:P52)-COUNTIF(P28:P52,"Introducir Resultado")-COUNTIF(P28:P52,"Introducir Meta e Resultado") -> 0 | O27: =+COUNTIF(P28:P52,"Meta Conseguida") -> 0 | P27: =+IF(COUNTIF(P28:P52,"Meta Conseguida")=5,"Meta Totalmente Alcanzada",IF(COUNTIF(P28:P52,"Meta Non Conseguida")=5,"Ningunha Meta Alcanzada",IF((O27+N27)=0,"Introducir Indicadores","Meta Parcialmente Alcanzada"))) -> Introducir Indicadores
A28: I50-1 | B28: Obxectivo 1 (Resultadis académicos):Taxa de Rendemento Xestiónase a nivel de título (graos/mestrados) | C28: DE-01: Programación e desenvolvemento estratéxico | D28: Este indicador está establecido polo centro, e está asociado a esta titulación. Indicar o resultado e a meta asociada. | H28: =+IF(AND(ISBLANK(F28),ISBLANK(G28)),"Introducir Meta e Resultado",IF(ISBLANK(F28),"Introducir Meta",IF(ISBLANK(G28),"Introducir Resultado",IF(G28>=F28,"Meta Conseguida","Meta Non Conseguida")))) -> Introducir Meta e Resultado | L28: =+IF(AND(ISBLANK(J28),ISBLANK(K28)),"Introducir Meta e Resultado",IF(ISBLANK(J28),"Introducir Meta",IF(ISBLANK(K28),"Introducir Resultado",IF(K28>=J28,"Meta Conseguida","Meta Non Conseguida")))) -> Introducir Meta e Resultado | P28: =+IF(AND(ISBLANK(N28),ISBLANK(O28)),"Introducir Meta e Resultado",IF(ISBLANK(N28),"Introducir Meta",IF(ISBLANK(O28),"Introducir Resultado",IF(O28>=N28,"Meta Conseguida","Meta Non Conseguida")))) -> Introducir Meta e Resultado
A29: I50-2 | B29: Obxectivo 1 (Resultados académicos):Taxa de abandono . Xestiónase anivel de título (graos/mestrados) | C29: DE-01: Programación e desenvolvemento estratéxico | D29: Este indicador está establecido polo centro, e está asociado ao centro. Indicar o resultado e a meta asociada. | H29: =+IF(AND(ISBLANK(F29),ISBLANK(G29)),"Introducir Meta e Resultado",IF(ISBLANK(F29),"Introducir Meta",IF(ISBLANK(G29),"Introducir Resultado",IF(G29>=F29,"Meta Conseguida","Meta Non Conseguida")))) -> Introducir Meta e Resultado | L29: =+IF(AND(ISBLANK(J29),ISBLANK(K29)),"Introducir Meta e Resultado",IF(ISBLANK(J29),"Introducir Meta",IF(ISBLANK(K29),"Introducir Resultado",IF(K29>=J29,"Meta Conseguida","Meta Non Conseguida")))) -> Introducir Meta e Resultado | P29: =+IF(AND(ISBLANK(N29),ISBLANK(O29)),"Introducir Meta e Resultado",IF(ISBLANK(N29),"Introducir Meta",IF(ISBLANK(O29),"Introducir Resultado",IF(O29>=N29,"Meta Conseguida","Meta Non Conseguida")))) -> Introducir Meta e Resultado
A30: I50-3 | B30: Obxectivo 1 ( Resultados académicos):Taxa de eficiancia. Xestiónase anivel de título (graos/mestrados) | C30: DE-01: Programación e desenvolvemento estratéxico | D30: Este indicador está establecido polo centro, e está asociado ao centro. Indicar o resultado e a meta asociada. | H30: =+IF(AND(ISBLANK(F30),ISBLANK(G30)),"Introducir Meta e Resultado",IF(ISBLANK(F30),"Introducir Meta",IF(ISBLANK(G30),"Introducir Resultado",IF(G30>=F30,"Meta Conseguida","Meta Non Conseguida")))) -> Introducir Meta e Resultado | L30: =+IF(AND(ISBLANK(J30),ISBLANK(K30)),"Introducir Meta e Resultado",IF(ISBLANK(J30),"Introducir Meta",IF(ISBLANK(K30),"Introducir Resultado",IF(K30>=J30,"Meta Conseguida","Meta Non Conseguida")))) -> Introducir Meta e Resultado | P30: =+IF(AND(ISBLANK(N30),ISBLANK(O30)),"Introducir Meta e Resultado",IF(ISBLANK(N30),"Introducir Meta",IF(ISBLANK(O30),"Introducir Resultado",IF(O30>=N30,"Meta Conseguida","Meta Non Conseguida")))) -> Introducir Meta e Resultado
A31: I50-4 | B31: Obxectivo 1 (Resultados académicos):Taxa de graduación Xestiónasde a nivel de título (graos/mestrados) | C31: DE-01: Programación e desenvolvemento estratéxico | D31: Este indicador está establecido polo centro, e está asociado ao centro. Indicar o resultado e a meta asociada. | H31: =+IF(AND(ISBLANK(F31),ISBLANK(G31)),"Introducir Meta e Resultado",IF(ISBLANK(F31),"Introducir Meta",IF(ISBLANK(G31),"Introducir Resultado",IF(G31>=F31,"Meta Conseguida","Meta Non Conseguida")))) -> Introducir Meta e Resultado | L31: =+IF(AND(ISBLANK(J31),ISBLANK(K31)),"Introducir Meta e Resultado",IF(ISBLANK(J31),"Introducir Meta",IF(ISBLANK(K31),"Introducir Resultado",IF(K31>=J31,"Meta Conseguida","Meta Non Conseguida")))) -> Introducir Meta e Resultado | P31: =+IF(AND(ISBLANK(N31),ISBLANK(O31)),"Introducir Meta e Resultado",IF(ISBLANK(N31),"Introducir Meta",IF(ISBLANK(O31),"Introducir Resultado",IF(O31>=N31,"Meta Conseguida","Meta Non Conseguida")))) -> Introducir Meta e Resultado
A32: I50-5 | B32: Obxectivo 1 (Resultados académicos):Taxa de Éxito. Xestiónase a nivel de título (graos/mestrados) | C32: DE-01: Programación e desenvolvemento estratéxico | D32: Este indicador está establecido polo centro, e está asociado ao centro. Indicar o resultado e a meta asociada. | H32: =+IF(AND(ISBLANK(F32),ISBLANK(G32)),"Introducir Meta e Resultado",IF(ISBLANK(F32),"Introducir Meta",IF(ISBLANK(G32),"Introducir Resultado",IF(G32>=F32,"Meta Conseguida","Meta Non Conseguida")))) -> Introducir Meta e Resultado | L32: =+IF(AND(ISBLANK(J32),ISBLANK(K32)),"Introducir Meta e Resultado",IF(ISBLANK(J32),"Introducir Meta",IF(ISBLANK(K32),"Introducir Resultado",IF(K32>=J32,"Meta Conseguida","Meta Non Conseguida")))) -> Introducir Meta e Resultado | P32: =+IF(AND(ISBLANK(N32),ISBLANK(O32)),"Introducir Meta e Resultado",IF(ISBLANK(N32),"Introducir Meta",IF(ISBLANK(O32),"Introducir Resultado",IF(O32>=N32,"Meta Conseguida","Meta Non Conseguida")))) -> Introducir Meta e Resultado
A33: I50-6 | B33: Obxectivo 2 ( Atraer a novo estudantado):Taxa de ocupación. Xestiónase a nivel de título (graos/mestrados) | C33: DE-01: Programación e desenvolvemento estratéxico | D33: Este indicador está establecido polo centro, e está asociado ao centro. Indicar o resultado e a meta asociada. | H33: =+IF(AND(ISBLANK(F33),ISBLANK(G33)),"Introducir Meta e Resultado",IF(ISBLANK(F33),"Introducir Meta",IF(ISBLANK(G33),"Introducir Resultado",IF(G33>=F33,"Meta Conseguida","Meta Non Conseguida")))) -> Introducir Meta e Resultado | L33: =+IF(AND(ISBLANK(J33),ISBLANK(K33)),"Introducir Meta e Resultado",IF(ISBLANK(J33),"Introducir Meta",IF(ISBLANK(K33),"Introducir Resultado",IF(K33>=J33,"Meta Conseguida","Meta Non Conseguida")))) -> Introducir Meta e Resultado | P33: =+IF(AND(ISBLANK(N33),ISBLANK(O33)),"Introducir Meta e Resultado",IF(ISBLANK(N33),"Introducir Meta",IF(ISBLANK(O33),"Introducir Resultado",IF(O33>=N33,"Meta Conseguida","Meta Non Conseguida")))) -> Introducir Meta e Resultado
A34: I50-7 | B34: Obxectivo 2 ( Atraer a novo estudantado):Taxa de preferencia ( solo Graos) .Xestiónase a nivel de título (graos/mestrados) | C34: DE-01: Programación e desenvolvemento estratéxico | D34: Este indicador está establecido polo centro, e está asociado ao centro. Indicar o resultado e a meta asociada. | H34: =+IF(AND(ISBLANK(F34),ISBLANK(G34)),"Introducir Meta e Resultado",IF(ISBLANK(F34),"Introducir Meta",IF(ISBLANK(G34),"Introducir Resultado",IF(G34>=F34,"Meta Conseguida","Meta Non Conseguida")))) -> Introducir Meta e Resultado | L34: =+IF(AND(ISBLANK(J34),ISBLANK(K34)),"Introducir Meta e Resultado",IF(ISBLANK(J34),"Introducir Meta",IF(ISBLANK(K34),"Introducir Resultado",IF(K34>=J34,"Meta Conseguida","Meta Non Conseguida")))) -> Introducir Meta e Resultado | P34: =+IF(AND(ISBLANK(N34),ISBLANK(O34)),"Introducir Meta e Resultado",IF(ISBLANK(N34),"Introducir Meta",IF(ISBLANK(O34),"Introducir Resultado",IF(O34>=N34,"Meta Conseguida","Meta Non Conseguida")))) -> Introducir Meta e Resultado
A35: I50-8 | B35: Obxectivo 2 (Atraer a novo estudantado):Taxa de adecuación ( solo Graos). Xestiónase a nivel de título (graos/mestrados) | C35: DE-01: Programación e desenvolvemento estratéxico | D35: Este indicador está establecido polo centro, e está asociado ao centro. Indicar o resultado e a meta asociada. | H35: =+IF(AND(ISBLANK(F35),ISBLANK(G35)),"Introducir Meta e Resultado",IF(ISBLANK(F35),"Introducir Meta",IF(ISBLANK(G35),"Introducir Resultado",IF(G35>=F35,"Meta Conseguida","Meta Non Conseguida")))) -> Introducir Meta e Resultado | L35: =+IF(AND(ISBLANK(J35),ISBLANK(K35)),"Introducir Meta e Resultado",IF(ISBLANK(J35),"Introducir Meta",IF(ISBLANK(K35),"Introducir Resultado",IF(K35>=J35,"Meta Conseguida","Meta Non Conseguida")))) -> Introducir Meta e Resultado | P35: =+IF(AND(ISBLANK(N35),ISBLANK(O35)),"Introducir Meta e Resultado",IF(ISBLANK(N35),"Introducir Meta",IF(ISBLANK(O35),"Introducir Resultado",IF(O35>=N35,"Meta Conseguida","Meta Non Conseguida")))) -> Introducir Meta e Resultado
A36: I50-9 | B36: Obxectivo 3 (Formación permanante e títulos propio):Número de ofertas de formación ao estudantado e aos profesionais (nº/ano) | C36: DE-01: Programación e desenvolvemento estratéxico | D36: Este indicador está establecido polo centro, e está asociado ao centro. Indicar o resultado e a meta asociada. | H36: =+IF(AND(ISBLANK(F36),ISBLANK(G36)),"Introducir Meta e Resultado",IF(ISBLANK(F36),"Introducir Meta",IF(ISBLANK(G36),"Introducir Resultado",IF(G36>=F36,"Meta Conseguida","Meta Non Conseguida")))) -> Introducir Meta e Resultado | L36: =+IF(AND(ISBLANK(J36),ISBLANK(K36)),"Introducir Meta e Resultado",IF(ISBLANK(J36),"Introducir Meta",IF(ISBLANK(K36),"Introducir Resultado",IF(K36>=J36,"Meta Conseguida","Meta Non Conseguida")))) -> Introducir Meta e Resultado | N36: 2 | P36: =+IF(AND(ISBLANK(N36),ISBLANK(O36)),"Introducir Meta e Resultado",IF(ISBLANK(N36),"Introducir Meta",IF(ISBLANK(O36),"Introducir Resultado",IF(O36>=N36,"Meta Conseguida","Meta Non Conseguida")))) -> Introducir Resultado
A37: I50-10 | B37: Obxectivo 4 ( Internacionalización): Estudantado alleo (recibidos) que participa en programas de mobilidade | C37: DE-01: Programación e desenvolvemento estratéxico | D37: Este indicador está establecido polo centro, e está asociado ao centro. Indicar o resultado e a meta asociada. | H37: =+IF(AND(ISBLANK(F37),ISBLANK(G37)),"Introducir Meta e Resultado",IF(ISBLANK(F37),"Introducir Meta",IF(ISBLANK(G37),"Introducir Resultado",IF(G37>=F37,"Meta Conseguida","Meta Non Conseguida")))) -> Introducir Meta e Resultado | L37: =+IF(AND(ISBLANK(J37),ISBLANK(K37)),"Introducir Meta e Resultado",IF(ISBLANK(J37),"Introducir Meta",IF(ISBLANK(K37),"Introducir Resultado",IF(K37>=J37,"Meta Conseguida","Meta Non Conseguida")))) -> Introducir Meta e Resultado | N37: 90 | P37: =+IF(AND(ISBLANK(N37),ISBLANK(O37)),"Introducir Meta e Resultado",IF(ISBLANK(N37),"Introducir Meta",IF(ISBLANK(O37),"Introducir Resultado",IF(O37>=N37,"Meta Conseguida","Meta Non Conseguida")))) -> Introducir Resultado
B38: Obxectivo 4 (Internacionalización) Estudantado propio (enviados) que participa en programas de mobilidade | C38: DE-01: Programación e desenvolvemento estratéxico | N38: 30 | P38: =+IF(AND(ISBLANK(N38),ISBLANK(O38)),"Introducir Meta e Resultado",IF(ISBLANK(N38),"Introducir Meta",IF(ISBLANK(O38),"Introducir Resultado",IF(O38>=N38,"Meta Conseguida","Meta Non Conseguida")))) -> Introducir Resultado
A39: I50-11 | B39: Obxectivo4 ( Internacionalización): Profesorado que participa en programas de mobilidade | C39: DE-01: Programación e desenvolvemento estratéxico | D39: Este indicador está establecido polo centro, e está asociado ao centro. Indicar o resultado e a meta asociada. | H39: =+IF(AND(ISBLANK(F39),ISBLANK(G39)),"Introducir Meta e Resultado",IF(ISBLANK(F39),"Introducir Meta",IF(ISBLANK(G39),"Introducir Resultado",IF(G39>=F39,"Meta Conseguida","Meta Non Conseguida")))) -> Introducir Meta e Resultado | L39: =+IF(AND(ISBLANK(J39),ISBLANK(K39)),"Introducir Meta e Resultado",IF(ISBLANK(J39),"Introducir Meta",IF(ISBLANK(K39),"Introducir Resultado",IF(K39>=J39,"Meta Conseguida","Meta Non Conseguida")))) -> Introducir Meta e Resultado | N39: 10 | P39: =+IF(AND(ISBLANK(N39),ISBLANK(O39)),"Introducir Meta e Resultado",IF(ISBLANK(N39),"Introducir Meta",IF(ISBLANK(O39),"Introducir Resultado",IF(O39>=N39,"Meta Conseguida","Meta Non Conseguida")))) -> Introducir Resultado
A40: I50-12 | B40: Obxectivo 4 ( Internacionalización): Profesorado que colabora con institucións estranxeiras | C40: DE-01: Programación e desenvolvemento estratéxico | D40: Este indicador está establecido polo centro, e está asociado ao centro. Indicar o resultado e a meta asociada. | H40: =+IF(AND(ISBLANK(F40),ISBLANK(G40)),"Introducir Meta e Resultado",IF(ISBLANK(F40),"Introducir Meta",IF(ISBLANK(G40),"Introducir Resultado",IF(G40>=F40,"Meta Conseguida","Meta Non Conseguida")))) -> Introducir Meta e Resultado | L40: =+IF(AND(ISBLANK(J40),ISBLANK(K40)),"Introducir Meta e Resultado",IF(ISBLANK(J40),"Introducir Meta",IF(ISBLANK(K40),"Introducir Resultado",IF(K40>=J40,"Meta Conseguida","Meta Non Conseguida")))) -> Introducir Meta e Resultado | N40: 0.6 | P40: =+IF(AND(ISBLANK(N40),ISBLANK(O40)),"Introducir Meta e Resultado",IF(ISBLANK(N40),"Introducir Meta",IF(ISBLANK(O40),"Introducir Resultado",IF(O40>=N40,"Meta Conseguida","Meta Non Conseguida")))) -> Introducir Resultado
A41: I50-13 | B41: Obxectivo 5 ( visibilidade internacional da Investigación e transferencia ): Estudantado matriculado nos programas de doutoramento | C41: DE-01: Programación e desenvolvemento estratéxico | D41: Este indicador está establecido polo centro, e está asociado ao centro. Indicar o resultado e a meta asociada. | H41: =+IF(AND(ISBLANK(F41),ISBLANK(G41)),"Introducir Meta e Resultado",IF(ISBLANK(F41),"Introducir Meta",IF(ISBLANK(G41),"Introducir Resultado",IF(G41>=F41,"Meta Conseguida","Meta Non Conseguida")))) -> Introducir Meta e Resultado | L41: =+IF(AND(ISBLANK(J41),ISBLANK(K41)),"Introducir Meta e Resultado",IF(ISBLANK(J41),"Introducir Meta",IF(ISBLANK(K41),"Introducir Resultado",IF(K41>=J41,"Meta Conseguida","Meta Non Conseguida")))) -> Introducir Meta e Resultado | N41: 40 | P41: =+IF(AND(ISBLANK(N41),ISBLANK(O41)),"Introducir Meta e Resultado",IF(ISBLANK(N41),"Introducir Meta",IF(ISBLANK(O41),"Introducir Resultado",IF(O41>=N41,"Meta Conseguida","Meta Non Conseguida")))) -> Introducir Resultado
A42: I50-14 | B42: Obxectivo 5 ( visibilidade internacional da Investigación e transferencia ): Resultados de investigación de carácter académico (sexenios) | C42: DE-01: Programación e desenvolvemento estratéxico | D42: Este indicador está establecido polo centro, e está asociado ao centro. Indicar o resultado e a meta asociada. | F42: 0.6 | G42: 77.27 | H42: =+IF(AND(ISBLANK(F42),ISBLANK(G42)),"Introducir Meta e Resultado",IF(ISBLANK(F42),"Introducir Meta",IF(ISBLANK(G42),"Introducir Resultado",IF(G42>=F42,"Meta Conseguida","Meta Non Conseguida")))) -> Meta Conseguida | J42: 0.6 | L42: =+IF(AND(ISBLANK(J42),ISBLANK(K42)),"Introducir Meta e Resultado",IF(ISBLANK(J42),"Introducir Meta",IF(ISBLANK(K42),"Introducir Resultado",IF(K42>=J42,"Meta Conseguida","Meta Non Conseguida")))) -> Introducir Resultado | N42: 0.65 | P42: =+IF(AND(ISBLANK(N42),ISBLANK(O42)),"Introducir Meta e Resultado",IF(ISBLANK(N42),"Introducir Meta",IF(ISBLANK(O42),"Introducir Resultado",IF(O42>=N42,"Meta Conseguida","Meta Non Conseguida")))) -> Introducir Resultado
A43: I50-15 | B43: Obxectivo 5 ( visibilidade internacional da Investigación e transferencia ): Web con información dos grupos e proxectos de investigación e as actividades de | C43: DE-01: Programación e desenvolvemento estratéxico | D43: Este indicador está establecido polo centro, e está asociado ao centro. Indicar o resultado e a meta asociada. | H43: =+IF(AND(ISBLANK(F43),ISBLANK(G43)),"Introducir Meta e Resultado",IF(ISBLANK(F43),"Introducir Meta",IF(ISBLANK(G43),"Introducir Resultado",IF(G43>=F43,"Meta Conseguida","Meta Non Conseguida")))) -> Introducir Meta e Resultado | L43: =+IF(AND(ISBLANK(J43),ISBLANK(K43)),"Introducir Meta e Resultado",IF(ISBLANK(J43),"Introducir Meta",IF(ISBLANK(K43),"Introducir Resultado",IF(K43>=J43,"Meta Conseguida","Meta Non Conseguida")))) -> Introducir Meta e Resultado | N43: x | P43: =+IF(AND(ISBLANK(N43),ISBLANK(O43)),"Introducir Meta e Resultado",IF(ISBLANK(N43),"Introducir Meta",IF(ISBLANK(O43),"Introducir Resultado",IF(O43>=N43,"Meta Conseguida","Meta Non Conseguida")))) -> Introducir Resultado
A44: I50-16 | B44: Obxectivo 3 ( visibilidade internacional da Investigación e transferencia ):Número de colaboracións cos institutos de investigación | C44: DE-01: Programación e desenvolvemento estratéxico | D44: Este indicador está establecido polo centro, e está asociado ao centro. Indicar o resultado e a meta asociada. | H44: =+IF(AND(ISBLANK(F44),ISBLANK(G44)),"Introducir Meta e Resultado",IF(ISBLANK(F44),"Introducir Meta",IF(ISBLANK(G44),"Introducir Resultado",IF(G44>=F44,"Meta Conseguida","Meta Non Conseguida")))) -> Introducir Meta e Resultado | L44: =+IF(AND(ISBLANK(J44),ISBLANK(K44)),"Introducir Meta e Resultado",IF(ISBLANK(J44),"Introducir Meta",IF(ISBLANK(K44),"Introducir Resultado",IF(K44>=J44,"Meta Conseguida","Meta Non Conseguida")))) -> Introducir Meta e Resultado | N44: 5 | P44: =+IF(AND(ISBLANK(N44),ISBLANK(O44)),"Introducir Meta e Resultado",IF(ISBLANK(N44),"Introducir Meta",IF(ISBLANK(O44),"Introducir Resultado",IF(O44>=N44,"Meta Conseguida","Meta Non Conseguida")))) -> Introducir Resultado
A45: I50-17 | B45: Obxectivo 6 ( Desenvolvemento persoal e profesional ): Grao de satisfacción do profesorado. Xestiónase a nivel de título (graos/mestrados) | C45: DE-01: Programación e desenvolvemento estratéxico | D45: Este indicador está establecido polo centro, e está asociado ao centro. Indicar o resultado e a meta asociada. | F45: 3.5 | H45: =+IF(AND(ISBLANK(F45),ISBLANK(G45)),"Introducir Meta e Resultado",IF(ISBLANK(F45),"Introducir Meta",IF(ISBLANK(G45),"Introducir Resultado",IF(G45>=F45,"Meta Conseguida","Meta Non Conseguida")))) -> Introducir Resultado | J45: 3.5 | K45: 4.08 | L45: =+IF(AND(ISBLANK(J45),ISBLANK(K45)),"Introducir Meta e Resultado",IF(ISBLANK(J45),"Introducir Meta",IF(ISBLANK(K45),"Introducir Resultado",IF(K45>=J45,"Meta Conseguida","Meta Non Conseguida")))) -> Meta Conseguida | N45: 3.5 | P45: =+IF(AND(ISBLANK(N45),ISBLANK(O45)),"Introducir Meta e Resultado",IF(ISBLANK(N45),"Introducir Meta",IF(ISBLANK(O45),"Introducir Resultado",IF(O45>=N45,"Meta Conseguida","Meta Non Conseguida")))) -> Introducir Resultado
...

Sheet GLEstran
A2: Panel de indicadores- Cadro de mando do Grao en Linguas Estranxeiras
A4: Indicadores | C4: Procedimientos asociados | E4: Crit. | F4: =+Centro!F4 -> Curso 2023-2024 | J4: =+Centro!J4 -> Curso 2024-2025 | N4: =+Centro!N4 -> curso 2025-2026
A5: Cod | B5: Denominación Indicador | C5: Denominación | D5: Descripcion e Fonte de Información | E5: IRPD | F5: Meta | G5: Resultado | H5: Observacións | J5: Meta | K5: Resultado | L5: Observacións | N5: Meta | O5: Resultado | P5: Observacións
A6: Indicadores dos Programas de Calidade
A7: I1-I2 | B7: Nº Estudantes de novo ingreso (Grao e Máster) | C7: AC-01: Acceso, evolución e Expedición de Titulos Oficiais | D7: Cubrir Meta e Resultado Elixir o documento Grao ACC_1 ou Máster ACC_1, segundo o caso: https://secretaria.uvigo.gal/uv/web/transparencia/informe/show/5/51/63 | E7: 7 | F7: 50 | G7: 42 | H7: =+IF(AND(ISBLANK(F7),ISBLANK(G7)),"Introducir Meta e Resultado",IF(ISBLANK(F7),"Indicador Sen Meta",IF(ISBLANK(G7),"Introducir Resultado",IF(G7>=F7,"Meta Conseguida","Meta Non Conseguida")))) -> Meta Non Conseguida | J7: 50 | K7: 42 | L7: =+IF(AND(ISBLANK(J7),ISBLANK(K7)),"Introducir Meta e Resultado",IF(ISBLANK(J7),"Indicador Sen Meta",IF(ISBLANK(K7),"Introducir Resultado",IF(K7>=J7,"Meta Conseguida","Meta Non Conseguida")))) -> Meta Non Conseguida | N7: 50 | P7: =+IF(AND(ISBLANK(N7),ISBLANK(O7)),"Introducir Meta e Resultado",IF(ISBLANK(N7),"Indicador Sen Meta",IF(ISBLANK(O7),"Introducir Resultado",IF(O7>=N7,"Meta Conseguida","Meta Non Conseguida")))) -> Introducir Resultado
A8: I3 | B8: Indicadores de mobilidade do estudantado | C8: DO-0205: Xestión da mobilidade | D8: Nº dos obxectivos I3-1 e I3-2 que se acadan | E8: 1 | F8: =+COUNTA(F9:F10) -> 0 | G8: =+COUNTIF(H9:H10,"Meta Conseguida") -> 0 | H8: =+IF(COUNTA(F9:F10)=0,"Indicador Sen Meta",IF(G8=2,"Meta Totalmente Alcanzada",IF(G9=0,"Introducir Resultado",IF(G8=0,"Ningunha Meta Alcanzada",IF(G8>0,"Meta Parcialmente Alcanzada"))))) -> Indicador Sen Meta | J8: =+COUNTA(J9:J10) -> 0 | K8: =+COUNTIF(L9:L10,"Meta Conseguida") -> 0 | L8: =+IF(COUNTA(J9:J10)=0,"Indicador Sen Meta",IF(K8=2,"Meta Totalmente Alcanzada",IF(K9=0,"Introducir Resultado",IF(K8=0,"Ningunha Meta Alcanzada",IF(K8>0,"Meta Parcialmente Alcanzada"))))) -> Indicador Sen Meta | N8: =+COUNTA(N9:N10) -> 2 | O8: =+COUNTIF(P9:P10,"Meta Conseguida") -> 0 | P8: =+IF(COUNTA(N9:N10)=0,"Indicador Sen Meta",IF(O8=2,"Meta Totalmente Alcanzada",IF(O9=0,"Introducir Resultado",IF(O8=0,"Ningunha Meta Alcanzada",IF(O8>0,"Meta Parcialmente Alcanzada"))))) -> Introducir Resultado
A9: I3-1 | B9: Nº Estudantes propios que participan en programas de mobilidade | C9: DO-0205: Xestión da mobilidade | D9: Cubrir Meta e Resultado Selecciónar o dato da titulación da columna "Total_SAÍNTE" da Folla Mobilidade_TOTAL do documento "Mobilidade" do portal de transparencia. https://secretaria.uvigo.gal/uv/web/transparencia/informe/show/5/4/19 | E9: 1 | G9: 16 | H9: =+IF(AND(ISBLANK(F9),ISBLANK(G9)),"Introducir Meta e Resultado",IF(ISBLANK(F9),"Introducir Meta",IF(ISBLANK(G9),"Introducir Resultado",IF(G9>=F9,"Meta Conseguida","Meta Non Conseguida")))) -> Introducir Meta | K9: 11 | L9: =+IF(AND(ISBLANK(J9),ISBLANK(K9)),"Introducir Meta e Resultado",IF(ISBLANK(J9),"Introducir Meta",IF(ISBLANK(K9),"Introducir Resultado",IF(K9>=J9,"Meta Conseguida","Meta Non Conseguida")))) -> Introducir Meta | N9: 15 | P9: =+IF(AND(ISBLANK(N9),ISBLANK(O9)),"Introducir Meta e Resultado",IF(ISBLANK(N9),"Introducir Meta",IF(ISBLANK(O9),"Introducir Resultado",IF(O9>=N9,"Meta Conseguida","Meta Non Conseguida")))) -> Introducir Resultado
A10: I3-2 | B10: % Estudantes que participan en programas de mobilidade | C10: DO-0205: Xestión da mobilidade | D10: Só Cubrir a Meta. O Resultado calcúlase de xeito automático, a partir do indicador I3-1 e I45 % Estudantado que participa en programas de mobilidade con relación ao estudantado matriculado. | E10: 1 | G10: =+IFERROR(G$9/G$87,0) -> 0.07960199 | H10: =+IF(AND(ISBLANK(F10),ISBLANK(G10)),"Introducir Meta e Resultado",IF(ISBLANK(F10),"Introducir Meta",IF(ISBLANK(G10),"Introducir Resultado",IF(G10>=F10,"Meta Conseguida","Meta Non Conseguida")))) -> Introducir Meta | K10: =+IFERROR(K$9/K$87,0) -> 0.056994819 | L10: =+IF(AND(ISBLANK(J10),ISBLANK(K10)),"Introducir Meta e Resultado",IF(ISBLANK(J10),"Introducir Meta",IF(ISBLANK(K10),"Introducir Resultado",IF(K10>=J10,"Meta Conseguida","Meta Non Conseguida")))) -> Introducir Meta | N10: 0.08 | P10: =+IF(AND(ISBLANK(N10),ISBLANK(O10)),"Introducir Meta e Resultado",IF(ISBLANK(N10),"Introducir Meta",IF(ISBLANK(O10),"Introducir Resultado",IF(O10>=N10,"Meta Conseguida","Meta Non Conseguida")))) -> Introducir Resultado
A11: I4 | B11: Resultados dos indicadores do SGC | C11: DE-02 Seguimento e Medición | D11: Non Cubrir a Meta nin o Resultado. Calcúlanse de xeito automático Este indicador mostra a porcentaxe dos obxectivos que acadan as súas metas establecidas. | E11: 3 | F11: =+G11+COUNTIF(H$7:H$10,"Meta non Conseguida")+COUNTIF(H$12:H$97,"Meta non Conseguida") -> 17 | G11: =+COUNTIF(H$6:H$10,"Meta Conseguida")+COUNTIF(H$12:H$97,"Meta Conseguida") -> 8 | H11: =+IFERROR(G11/F11,"Introducir Meta") -> 0.47058824 | J11: =+K11+COUNTIF(L$7:L$10,"Meta non Conseguida")+COUNTIF(L$12:L$97,"Meta non Conseguida") -> 19 | K11: =+COUNTIF(L$6:L$10,"Meta Conseguida")+COUNTIF(L$12:L$97,"Meta Conseguida") -> 7 | L11: =+IFERROR(K11/J11,"Introducir Meta") -> 0.36842105 | N11: =+O11+COUNTIF(P$7:P$10,"Meta non Conseguida")+COUNTIF(P$12:P$97,"Meta non Conseguida") -> 3 | O11: =+COUNTIF(P$6:P$10,"Meta Conseguida")+COUNTIF(P$12:P$97,"Meta Conseguida") -> 0 | P11: =+IFERROR(O11/N11,"Introducir Meta") -> 0
A12: I5 | B12: Indicadores de formación do PDI | C12: PE-02 Xestión de PDI | D12: Nº dos obxectivos I5-1 e I5-2 que se acadan | E12: 4 | F12: =+COUNTA(F13:F14) -> 0 | G12: =+COUNTIF(H13:H14,"Meta Conseguida") -> 0 | H12: =+IF(COUNTA(F13:F14)=0,"Indicador Sen Meta",IF(G12=2,"Meta Totalmente Alcanzada",IF(G13=0,"Introducir Resultado",IF(G12=0,"Ningunha Meta Alcanzada",IF(G12>0,"Meta Parcialmente Alcanzada"))))) -> Indicador Sen Meta | J12: =+COUNTA(J13:J14) -> 0 | K12: =+COUNTIF(L13:L14,"Meta Conseguida") -> 0 | L12: =+IF(COUNTA(J13:J14)=0,"Indicador Sen Meta",IF(K12=2,"Meta Totalmente Alcanzada",IF(K13=0,"Introducir Resultado",IF(K12=0,"Ningunha Meta Alcanzada",IF(K12>0,"Meta Parcialmente Alcanzada"))))) -> Indicador Sen Meta | N12: =+COUNTA(N13:N14) -> 2 | O12: =+COUNTIF(P13:P14,"Meta Conseguida") -> 0 | P12: =+IF(COUNTA(N13:N14)=0,"Indicador Sen Meta",IF(O12=2,"Meta Totalmente Alcanzada",IF(O13=0,"Introducir Resultado",IF(O12=0,"Ningunha Meta Alcanzada",IF(O12>0,"Meta Parcialmente Alcanzada"))))) -> Introducir Resultado
A13: I5-1 | B13: Nº PDI en plans de formación do título | C13: PE-02 Xestión de PDI | D13: Cubrir Meta e Resultado Seleccionar o dato na consulta "FOR.Formación e mobilidade do PDI" do portal de transparencia https://secretaria.uvigo.gal/uv/web/transparencia/informe/show/5/34/68 | E13: 4 | G13: 10 | H13: =+IF(AND(ISBLANK(F13),ISBLANK(G13)),"Introducir Meta e Resultado",IF(ISBLANK(F13),"Introducir Meta",IF(ISBLANK(G13),"Introducir Resultado",IF(G13>=F13,"Meta Conseguida","Meta Non Conseguida")))) -> Introducir Meta | L13: =+IF(AND(ISBLANK(J13),ISBLANK(K13)),"Introducir Meta e Resultado",IF(ISBLANK(J13),"Introducir Meta",IF(ISBLANK(K13),"Introducir Resultado",IF(K13>=J13,"Meta Conseguida","Meta Non Conseguida")))) -> Introducir Meta e Resultado | N13: 10 | P13: =+IF(AND(ISBLANK(N13),ISBLANK(O13)),"Introducir Meta e Resultado",IF(ISBLANK(N13),"Introducir Meta",IF(ISBLANK(O13),"Introducir Resultado",IF(O13>=N13,"Meta Conseguida","Meta Non Conseguida")))) -> Introducir Resultado
A14: I5-2 | B14: % Participación do PDI do título en plans de formación | C14: PE-02 Xestión de PDI | D14: Cubrir a Meta. O Resultado calcúlase de xeito automático, a partir do indicador I5-1 e I46 É a porcentaxe do PDI que participa en plans de formación, que se calcula de xeito automático | E14: 4 | G14: =+IFERROR(G$13/G$88,0) -> 0.19607843 | H14: =+IF(AND(ISBLANK(F14),ISBLANK(G14)),"Introducir Meta e Resultado",IF(ISBLANK(F14),"Introducir Meta",IF(ISBLANK(G14),"Introducir Resultado",IF(G14>=F14,"Meta Conseguida","Meta Non Conseguida")))) -> Introducir Meta | K14: =+IFERROR(K$13/K$88,0) -> 0 | L14: =+IF(AND(ISBLANK(J14),ISBLANK(K14)),"Introducir Meta e Resultado",IF(ISBLANK(J14),"Introducir Meta",IF(ISBLANK(K14),"Introducir Resultado",IF(K14>=J14,"Meta Conseguida","Meta Non Conseguida")))) -> Introducir Meta | N14: 0.1 | O14: =+IFERROR(O$13/O$88,0) -> 0 | P14: =+IF(AND(ISBLANK(N14),ISBLANK(O14)),"Introducir Meta e Resultado",IF(ISBLANK(N14),"Introducir Meta",IF(ISBLANK(O14),"Introducir Resultado",IF(O14>=N14,"Meta Conseguida","Meta Non Conseguida")))) -> Meta Non Conseguida
A15: I6-AI | B15: % Participación do PDI en Grupos de Innovación Docente | C15: PE-02 Xestión de PDI | D15: Só cubrir o Resultado, é un indicador informativo E a porcentaxe do PDI que participa en Grupos de innovación docente | E15: 4 | F15: ---- | G15: 0.035087719 | H15: =+IF(ISBLANK(G15),"Introducir Resultado","Resultado Introducido") -> Resultado Introducido | J15: ---- | K15: 0.54166667 | L15: =+IF(ISBLANK(K15),"Introducir Resultado","Resultado Introducido") -> Resultado Introducido | N15: ---- | P15: =+IF(ISBLANK(O15),"Introducir Resultado","Resultado Introducido") -> Introducir Resultado
A16: I7 | B16: % PDI do título avaliado polo programa DOCENTIA e resultados obtidos | C16: PE-02 Xestión de PDI | D16: Nº dos obxectivos (I7-1 e I7-2) que se acadan | E16: 4 | F16: =+COUNTA(F17:F18) -> 0 | G16: =+COUNTIF(H17:H18,"Meta Conseguida") -> 0 | H16: =+IF(COUNTA(F17:F18)=0,"Indicador Sen Meta",IF(G16=2,"Meta Totalmente Alcanzada",IF(G17=0,"Introducir Resultado",IF(G16=0,"Ningunha Meta Alcanzada",IF(G16>0,"Meta Parcialmente Alcanzada"))))) -> Indicador Sen Meta | J16: =+COUNTA(J17:J18) -> 0 | K16: =+COUNTIF(L17:L18,"Meta Conseguida") -> 0 | L16: =+IF(COUNTA(J17:J18)=0,"Indicador Sen Meta",IF(K16=2,"Meta Totalmente Alcanzada",IF(K17=0,"Introducir Resultado",IF(K16=0,"Ningunha Meta Alcanzada",IF(K16>0,"Meta Parcialmente Alcanzada"))))) -> Indicador Sen Meta | N16: =+COUNTA(N17:N18) -> 2 | O16: =+COUNTIF(P17:P18,"Meta Conseguida") -> 0 | P16: =+IF(COUNTA(N17:N18)=0,"Indicador Sen Meta",IF(O16=2,"Meta Totalmente Alcanzada",IF(O17=0,"Introducir Resultado",IF(O16=0,"Ningunha Meta Alcanzada",IF(O16>0,"Meta Parcialmente Alcanzada"))))) -> Introducir Resultado
A17: I7-1 | B17: Nº PDI avaliado en DOCENTIA | C17: PE-02 Xestión de PDI | D17: Cubrir Meta e Resultado Nº acumulado do PDI avaliado en todas as convocatorias do Docentia. Sumar o PDI avaliado do conxunto das convocatorias de avaliación. Este indicador atópase no informe de resultados Docentia avaliación quinquenal https://www.uvigo.gal/universidade/calidade/programas-calidade/docencia/programa-docentia | E17: 4 | G17: 6 | H17: =+IF(AND(ISBLANK(F17),ISBLANK(G17)),"Introducir Meta e Resultado",IF(ISBLANK(F17),"Introducir Meta",IF(ISBLANK(G17),"Introducir Resultado",IF(G17>=F17,"Meta Conseguida","Meta Non Conseguida")))) -> Introducir Meta | K17: 5 | L17: =+IF(AND(ISBLANK(J17),ISBLANK(K17)),"Introducir Meta e Resultado",IF(ISBLANK(J17),"Introducir Meta",IF(ISBLANK(K17),"Introducir Resultado",IF(K17>=J17,"Meta Conseguida","Meta Non Conseguida")))) -> Introducir Meta | N17: 6 | P17: =+IF(AND(ISBLANK(N17),ISBLANK(O17)),"Introducir Meta e Resultado",IF(ISBLANK(N17),"Introducir Meta",IF(ISBLANK(O17),"Introducir Resultado",IF(O17>=N17,"Meta Conseguida","Meta Non Conseguida")))) -> Introducir Resultado
A18: I7-2 | B18: % PDI que participa en DOCENTIA | C18: PE-02 Xestión de PDI | D18: Só Cubrir a Meta. O Resultado calcúlase de xeito automático, a partir do indicador I7-1 e I46. % do PDI avaliado entre o Nº total de PDI que imparte docencia na titulación. | E18: 4 | G18: =+IFERROR(G$17/G$88,0) -> 0.11764706 | H18: =+IF(AND(ISBLANK(F18),ISBLANK(G18)),"Introducir Meta e Resultado",IF(ISBLANK(F18),"Introducir Meta",IF(ISBLANK(G18),"Introducir Resultado",IF(G18>=F18,"Meta Conseguida","Meta Non Conseguida")))) -> Introducir Meta | K18: =+IFERROR(K$17/K$88,0) -> 0 | L18: =+IF(AND(ISBLANK(J18),ISBLANK(K18)),"Introducir Meta e Resultado",IF(ISBLANK(J18),"Introducir Meta",IF(ISBLANK(K18),"Introducir Resultado",IF(K18>=J18,"Meta Conseguida","Meta Non Conseguida")))) -> Introducir Meta | N18: 0.1 | O18: =+IFERROR(O$17/O$88,0) -> 0 | P18: =+IF(AND(ISBLANK(N18),ISBLANK(O18)),"Introducir Meta e Resultado",IF(ISBLANK(N18),"Introducir Meta",IF(ISBLANK(O18),"Introducir Resultado",IF(O18>=N18,"Meta Conseguida","Meta Non Conseguida")))) -> Meta Non Conseguida
A19: I7-3 | B19: Resultados do PDI avaliado | C19: PE-02 Xestión de PDI | D19: Engadir a información da titulación da táboa "2.7 Resultados por centro" do informe institucional de resultados na folla de anexos https://www.uvigo.gal/universidade/calidade/programas-calidade/docencia/programa-docentia | E19: 4 | F19: ---- | G19: ---- | H19: ---- | J19: ---- | K19: ---- | L19: ---- | N19: ---- | O19: ---- | P19: ----
A20: I8 | B20: Indicadores de mobilidade do PDI | C20: PE-02 Xestión de PDI | D20: Nº dos obxectivos (I8-1 e I8-2) que se acadan | E20: 4 | F20: =+COUNTA(F21:F22) -> 0 | G20: =+COUNTIF(H21:H22,"Meta Conseguida") -> 0 | H20: =+IF(COUNTA(F21:F22)=0,"Indicador Sen Meta",IF(G20=2,"Meta Totalmente Alcanzada",IF(G21=0,"Introducir Resultado",IF(G20=0,"Ningunha Meta Alcanzada",IF(G20>0,"Meta Parcialmente Alcanzada"))))) -> Indicador Sen Meta | J20: =+COUNTA(J21:J22) -> 0 | K20: =+COUNTIF(L21:L22,"Meta Conseguida") -> 0 | L20: =+IF(COUNTA(J21:J22)=0,"Indicador Sen Meta",IF(K20=2,"Meta Totalmente Alcanzada",IF(K21=0,"Introducir Resultado",IF(K20=0,"Ningunha Meta Alcanzada",IF(K20>0,"Meta Parcialmente Alcanzada"))))) -> Indicador Sen Meta | N20: =+COUNTA(N21:N22) -> 2 | O20: =+COUNTIF(P21:P22,"Meta Conseguida") -> 0 | P20: =+IF(COUNTA(N21:N22)=0,"Indicador Sen Meta",IF(O20=2,"Meta Totalmente Alcanzada",IF(O21=0,"Introducir Resultado",IF(O20=0,"Ningunha Meta Alcanzada",IF(O20>0,"Meta Parcialmente Alcanzada"))))) -> Introducir Resultado
A21: I8-1 | B21: Nº PDI propio que participa en programas de mobilidade | C21: PE-02 Xestión de PDI | D21: Cubrir Meta e Resultado Seleccionar o dato na consulta "FOR. Formación e mobilidade do PDI" do portal de transparencia https://secretaria.uvigo.gal/uv/web/transparencia/informe/show/5/34/68 | E21: 4 | G21: 2 | H21: =+IF(AND(ISBLANK(F21),ISBLANK(G21)),"Introducir Meta e Resultado",IF(ISBLANK(F21),"Introducir Meta",IF(ISBLANK(G21),"Introducir Resultado",IF(G21>=F21,"Meta Conseguida","Meta Non Conseguida")))) -> Introducir Meta | L21: =+IF(AND(ISBLANK(J21),ISBLANK(K21)),"Introducir Meta e Resultado",IF(ISBLANK(J21),"Introducir Meta",IF(ISBLANK(K21),"Introducir Resultado",IF(K21>=J21,"Meta Conseguida","Meta Non Conseguida")))) -> Introducir Meta e Resultado | N21: 3 | P21: =+IF(AND(ISBLANK(N21),ISBLANK(O21)),"Introducir Meta e Resultado",IF(ISBLANK(N21),"Introducir Meta",IF(ISBLANK(O21),"Introducir Resultado",IF(O21>=N21,"Meta Conseguida","Meta Non Conseguida")))) -> Introducir Resultado
A22: I8-2 | B22: % de PDI que participa en programas de mobilidade | C22: PE-02 Xestión de PDI | D22: Só Cubrir a Meta. O Resultado calcúlase de xeito automático, a partir dos indicadores I8-1 e I46 % de PDI que participa en programas de mobilidade con relación ao PDI total, que se calcula | E22: 4 | G22: =+IFERROR(G$21/G$88,0) -> 0.039215686 | H22: =+IF(AND(ISBLANK(F22),ISBLANK(G22)),"Introducir Meta e Resultado",IF(ISBLANK(F22),"Introducir Meta",IF(ISBLANK(G22),"Introducir Resultado",IF(G22>=F22,"Meta Conseguida","Meta Non Conseguida")))) -> Introducir Meta | K22: =+IFERROR(K$21/K$88,0) -> 0 | L22: =+IF(AND(ISBLANK(J22),ISBLANK(K22)),"Introducir Meta e Resultado",IF(ISBLANK(J22),"Introducir Meta",IF(ISBLANK(K22),"Introducir Resultado",IF(K22>=J22,"Meta Conseguida","Meta Non Conseguida")))) -> Introducir Meta | N22: 0.04 | O22: =+IFERROR(O$21/O$88,0) -> 0 | P22: =+IF(AND(ISBLANK(N22),ISBLANK(O22)),"Introducir Meta e Resultado",IF(ISBLANK(N22),"Introducir Meta",IF(ISBLANK(O22),"Introducir Resultado",IF(O22>=N22,"Meta Conseguida","Meta Non Conseguida")))) -> Meta Non Conseguida
A23: I9 | B23: Distribución de alumnado por centros de prácticas | C23: DO-0204 Xestión de prácticas | D23: Este indicador atópase no rexistro "R1 DO-0204" na aplicación SGIC da secretaría virtual: https://secretaria.uvigo.gal/uv/web/sgic/admin/evidencias/list | E23: 5 | F23: ---- | G23: ---- | H23: ---- | J23: ---- | K23: ---- | L23: ---- | N23: ---- | O23: ---- | P23: ----
A24: I10 | B24: Indicadores de resultados | C24: DE-02 Seguimento e Medición; DE-03 Revisión do sistema pola dirección | D24: Nº dos obxectivos (I10-1 ata I10-12) que se acadan | E24: 6, 7 | F24: =+COUNTA(F25:F30)+COUNTA(F32:F33)+COUNTA(F35:F36) -> 5 | G24: =+COUNTIF(H25:H36,"Meta Conseguida") -> 3 | H24: =+IF((G24+F24)=0,"Introducir Meta e Resultado",IF(COUNTA(G25:G30)=0,"Indicador Sen Resultados",IF(G24=0,"Ningunha Meta Alcanzada",IF(G24>=F24,"Meta Totalmente Alcanzada",IF(G24>0,"Meta Parcialmente Alcanzada"))))) -> Meta Parcialmente Alcanzada | J24: =+COUNTA(J25:J30)+COUNTA(J32:J33)+COUNTA(J35:J36) -> 7 | K24: =+COUNTIF(L25:L36,"Meta Conseguida") -> 2 | L24: =+IF((K24+J24)=0,"Introducir Meta e Resultado",IF(COUNTA(K25:K30)=0,"Indicador Sen Resultados",IF(K24=0,"Ningunha Meta Alcanzada",IF(K24>=J24,"Meta Totalmente Alcanzada",IF(K24>0,"Meta Parcialmente Alcanzada"))))) -> Meta Parcialmente Alcanzada | N24: =+COUNTA(N25:N30)+COUNTA(N32:N33)+COUNTA(N35:N36) -> 6 | O24: =+COUNTIF(P25:P36,"Meta Conseguida") -> 0 | P24: =+IF((O24+N24)=0,"Introducir Meta e Resultado",IF(COUNTA(O25:O30)=0,"Indicador Sen Resultados",IF(O24=0,"Ningunha Meta Alcanzada",IF(O24>=N24,"Meta Totalmente Alcanzada",IF(O24>0,"Meta Parcialmente Alcanzada"))))) -> Indicador Sen Resultados
A25: I10-1 | B25: Taxa de graduación da titulación | C25: DE-02 Seguimento e Medición; DE-03 Revisión do sistema pola dirección | D25: Cubrir Meta e Resultado Escoller o documento excel do grao ou máster segundo o caso, do menú de GRA. Graduación https://secretaria.uvigo.gal/uv/web/transparencia/informe/show/5/51/66 | E25: 7 | F25: 0.5 | G25: 0.52173913 | H25: =+IF(AND(ISBLANK(F25),ISBLANK(G25)),"Introducir Meta e Resultado",IF(ISBLANK(F25),"Introducir Meta",IF(ISBLANK(G25),"Introducir Resultado",IF(G25>=F25,"Meta Conseguida","Meta Non Conseguida")))) -> Meta Conseguida | J25: 0.5 | K25: 0.39215686 | L25: =+IF(AND(ISBLANK(J25),ISBLANK(K25)),"Introducir Meta e Resultado",IF(ISBLANK(J25),"Introducir Meta",IF(ISBLANK(K25),"Introducir Resultado",IF(K25>=J25,"Meta Conseguida","Meta Non Conseguida")))) -> Meta Non Conseguida | N25: 0.5 | P25: =+IF(AND(ISBLANK(N25),ISBLANK(O25)),"Introducir Meta e Resultado",IF(ISBLANK(N25),"Introducir Meta",IF(ISBLANK(O25),"Introducir Resultado",IF(O25>=N25,"Meta Conseguida","Meta Non Conseguida")))) -> Introducir Resultado
A26: I10-2 | B26: Taxa de abandono da titulación (CURSA) | C26: DE-02 Seguimento e Medición; DE-03 Revisión do sistema pola dirección | D26: Cubrir Meta e Resultado. O indicador acádase se o resultado é igual ou inferior á meta Escoller o documento excel do grao ou máster segundo o caso, do menú ABA: abandono https://secretaria.uvigo.gal/uv/web/transparencia/informe/show/5/51/65 | E26: 7 | F26: 0.2 | G26: 0.16981132 | H26: =+IF(AND(ISBLANK(F26),ISBLANK(G26)),"Introducir Meta e Resultado",IF(ISBLANK(F26),"Introducir Meta",IF(ISBLANK(G26),"Introducir Resultado",IF(G26<=F26,"Meta Conseguida","Meta Non Conseguida")))) -> Meta Conseguida | J26: 0.2 | K26: 0.24489796 | L26: =+IF(AND(ISBLANK(J26),ISBLANK(K26)),"Introducir Meta e Resultado",IF(ISBLANK(J26),"Introducir Meta",IF(ISBLANK(K26),"Introducir Resultado",IF(K26<=J26,"Meta Conseguida","Meta Non Conseguida")))) -> Meta Non Conseguida | N26: 0.2 | P26: =+IF(AND(ISBLANK(N26),ISBLANK(O26)),"Introducir Meta e Resultado",IF(ISBLANK(N26),"Introducir Meta",IF(ISBLANK(O26),"Introducir Resultado",IF(O26<=N26,"Meta Conseguida","Meta Non Conseguida")))) -> Introducir Resultado
A27: I10-3 | B27: Taxa de eficiencia | C27: DE-02 Seguimento e Medición; DE-03 Revisión do sistema pola dirección | D27: Cubrir Meta e Resultado Escoller o documento excel do grao ou máster segundo o caso, do menú de GRA. Graduación https://secretaria.uvigo.gal/uv/web/transparencia/informe/show/5/51/66 | E27: 7 | F27: 0.9 | G27: 0.90328638 | H27: =+IF(AND(ISBLANK(F27),ISBLANK(G27)),"Introducir Meta e Resultado",IF(ISBLANK(F27),"Introducir Meta",IF(ISBLANK(G27),"Introducir Resultado",IF(G27>=F27,"Meta Conseguida","Meta Non Conseguida")))) -> Meta Conseguida | J27: 0.9 | K27: 0.8975751 | L27: =+IF(AND(ISBLANK(J27),ISBLANK(K27)),"Introducir Meta e Resultado",IF(ISBLANK(J27),"Introducir Meta",IF(ISBLANK(K27),"Introducir Resultado",IF(K27>=J27,"Meta Conseguida","Meta Non Conseguida")))) -> Meta Non Conseguida | N27: 0.8 | P27: =+IF(AND(ISBLANK(N27),ISBLANK(O27)),"Introducir Meta e Resultado",IF(ISBLANK(N27),"Introducir Meta",IF(ISBLANK(O27),"Introducir Resultado",IF(O27>=N27,"Meta Conseguida","Meta Non Conseguida")))) -> Introducir Resultado
A28: I10-4 | B28: Taxa de Rendemento | C28: DE-02 Seguimento e Medición; DE-03 Revisión do sistema pola dirección | D28: Cubrir Meta e Resultado Elixir o documento excel do grao ou máster segundo o caso, do menú REN Rendemento https://secretaria.uvigo.gal/uv/web/transparencia/informe/show/5/51/64 | E28: 7 | F28: 0.8 | G28: 0.65716635 | H28: =+IF(AND(ISBLANK(F28),ISBLANK(G28)),"Introducir Meta e Resultado",IF(ISBLANK(F28),"Introducir Meta",IF(ISBLANK(G28),"Introducir Resultado",IF(G28>=F28,"Meta Conseguida","Meta Non Conseguida")))) -> Meta Non Conseguida | J28: 0.8 | K28: 0.70060224 | L28: =+IF(AND(ISBLANK(J28),ISBLANK(K28)),"Introducir Meta e Resultado",IF(ISBLANK(J28),"Introducir Meta",IF(ISBLANK(K28),"Introducir Resultado",IF(K28>=J28,"Meta Conseguida","Meta Non Conseguida")))) -> Meta Non Conseguida | N28: 0.75 | P28: =+IF(AND(ISBLANK(N28),ISBLANK(O28)),"Introducir Meta e Resultado",IF(ISBLANK(N28),"Introducir Meta",IF(ISBLANK(O28),"Introducir Resultado",IF(O28>=N28,"Meta Conseguida","Meta Non Conseguida")))) -> Introducir Resultado
A29: I10-5 | B29: Taxa de éxito | C29: DE-02 Seguimento e Medición; DE-03 Revisión do sistema pola dirección | D29: Cubrir Meta e Resultado Elixir o documento excel do grao ou máster segundo o caso, do menú REN Rendemento https://secretaria.uvigo.gal/uv/web/transparencia/informe/show/5/51/64 | E29: 7 | F29: 0.8 | G29: 0.789595 | H29: =+IF(AND(ISBLANK(F29),ISBLANK(G29)),"Introducir Meta e Resultado",IF(ISBLANK(F29),"Introducir Meta",IF(ISBLANK(G29),"Introducir Resultado",IF(G29>=F29,"Meta Conseguida","Meta Non Conseguida")))) -> Meta Non Conseguida | J29: 0.8 | K29: 0.81705686 | L29: =+IF(AND(ISBLANK(J29),ISBLANK(K29)),"Introducir Meta e Resultado",IF(ISBLANK(J29),"Introducir Meta",IF(ISBLANK(K29),"Introducir Resultado",IF(K29>=J29,"Meta Conseguida","Meta Non Conseguida")))) -> Meta Conseguida | N29: 0.7 | P29: =+IF(AND(ISBLANK(N29),ISBLANK(O29)),"Introducir Meta e Resultado",IF(ISBLANK(N29),"Introducir Meta",IF(ISBLANK(O29),"Introducir Resultado",IF(O29>=N29,"Meta Conseguida","Meta Non Conseguida")))) -> Introducir Resultado
A30: I10-6 | B30: Taxa de avaliación | C30: DE-02 Seguimento e Medición; DE-03 Revisión do sistema pola dirección | D30: Cubrir Meta e Resultado Elixir o documento excel do grao ou máster segundo o caso, do menú REN Rendemento https://secretaria.uvigo.gal/uv/web/transparencia/informe/show/5/51/64 | E30: 7 | G30: 0.83228282 | H30: =+IF(AND(ISBLANK(F30),ISBLANK(G30)),"Introducir Meta e Resultado",IF(ISBLANK(F30),"Introducir Meta",IF(ISBLANK(G30),"Introducir Resultado",IF(G30>=F30,"Meta Conseguida","Meta Non Conseguida")))) -> Introducir Meta | K30: 0.85747061 | L30: =+IF(AND(ISBLANK(J30),ISBLANK(K30)),"Introducir Meta e Resultado",IF(ISBLANK(J30),"Introducir Meta",IF(ISBLANK(K30),"Introducir Resultado",IF(K30>=J30,"Meta Conseguida","Meta Non Conseguida")))) -> Introducir Meta | N30: 0.9 | P30: =+IF(AND(ISBLANK(N30),ISBLANK(O30)),"Introducir Meta e Resultado",IF(ISBLANK(N30),"Introducir Meta",IF(ISBLANK(O30),"Introducir Resultado",IF(O30>=N30,"Meta Conseguida","Meta Non Conseguida")))) -> Introducir Resultado
A31: I10-7 | B31: Taxa de Rendemento por materia | C31: DE-02 Seguimento e Medición; DE-03 Revisión do sistema pola dirección | D31: Engadir a información na Folla Anexos do Cadro de Mando, sobre as taxas de rendemento das titulación que se pode obter na consulta REN. Rendemento por materia https://secretaria.uvigo.gal/uv/web/transparencia/informe/show/5/51/64 | E31: 6 | F31: ---- | G31: ---- | H31: ---- | J31: ---- | K31: ---- | L31: ---- | N31: ---- | O31: ---- | P31: ----
A32: I10-8 | B32: Valor mínimo das taxas de Rendemento dunha materia da titulación | C32: DE-02 Seguimento e Medición; DE-03 Revisión do sistema pola dirección | D32: Só Cubrir a Meta. O Resultado calcúlase de xeito automático, a partir das taxas de rendemento das materias que se atopan na folla "Anexos" Indicar o valor mínimo das taxas de rendemento das materias da titulación, do indicador I10-7 | E32: 6 | G32: =+IFERROR(MIN('Anexos 1'!$O$6:$O$200),"----") -> 0.27272727 | H32: =+IF(AND(ISBLANK(F32),ISBLANK(G32)),"Introducir Meta e Resultado",IF(ISBLANK(F32),"Introducir Meta",IF(ISBLANK(G32),"Introducir Resultado",IF(G32>=F32,"Meta Conseguida","Meta Non Conseguida")))) -> Introducir Meta | J32: 0.27 | K32: =+IFERROR(MIN('Anexos 2'!$O$6:$O$200),"----") -> 0 | L32: =+IF(AND(ISBLANK(J32),ISBLANK(K32)),"Introducir Meta e Resultado",IF(ISBLANK(J32),"Introducir Meta",IF(ISBLANK(K32),"Introducir Resultado",IF(K32>=J32,"Meta Conseguida","Meta Non Conseguida")))) -> Meta Non Conseguida | O32: =+IFERROR(MIN('Anexos 3'!$O$6:$O$200),"----") -> 0 | P32: =+IF(AND(ISBLANK(N32),ISBLANK(O32)),"Introducir Meta e Resultado",IF(ISBLANK(N32),"Introducir Meta",IF(ISBLANK(O32),"Introducir Resultado",IF(O32>=N32,"Meta Conseguida","Meta Non Conseguida")))) -> Introducir Meta
