Workbook

Sheet Portada
G3: Área de Calidade
C5: Cadro de Mando da Facultade de Filoloxía e Tradución
C7: Indicadores do Sistema de Garantía de Calidade
E8: Curso 2024/2025
C9: Índice
D10: Datos | F10: Resultados
D11: Indicadores de Centro | F11: Resumo dos Resultados
D12: =+"Anexos do "&Centro!F4 -> Anexos do Curso 2023-2024 | F12: Resultados por procedementos
D13: =+"Anexos do "&Centro!J4 -> Anexos do Curso 2024-2025
D14: =+"Anexos do "&Centro!N4 -> Anexos do curso 2025-2026
D16: Indicadores do Grao en Linguas Estranxeiras
D17: Indicadores do Grao en Traducción e Interpretación
D18: Indicadores do Grao en Filoloxía Aplicada Galega e Española
D19: Indicadores do Máster Universitario en Traducción Multimedia
D20: Indicadores do Máster Universitario en Estudos Ingleses Avanzados e as súas Aplicacións
D21: Indicadores do Máster en Lingüística Aplicada
D22: Indicadores do Máster Universitario en Traducción para a Comunicación Internacional | G22: Maio 2026

Sheet Centro
A2: Panel de indicadores - Cadro de mando da Facultade de Filoloxía e Tradución
A4: Indicadores | C4: Procedimientos asociados | E4: Crit. | F4: Curso 2023-2024 | J4: Curso 2024-2025 | N4: curso 2025-2026
A5: Cod | B5: Denominación Indicador | C5: Denominación | D5: Descripcion e Fonte de Información | E5: IRPD | F5: Meta | G5: Resultado | H5: Observacións | J5: Meta | K5: Resultado | L5: Observacións | N5: Meta | O5: Resultado | P5: Observacións
A6: Indicadores dos Programas de Calidade | F6: =+COUNTIF(H$7:H$37,"meta Conseguida")+COUNTIF(H$7:H$37,"meta Non Conseguida") -> 2 | G6: =+COUNTIF(H$7:H$37,"meta Conseguida") -> 2 | H6: =+IFERROR(G6/F6,0) -> 1 | J6: =+COUNTIF(L$7:L$37,"meta Conseguida")+COUNTIF(L$7:L$37,"meta Non Conseguida") -> 1 | K6: =+COUNTIF(L$7:L$37,"meta Conseguida") -> 1 | L6: =+IFERROR(K6/J6,0) -> 1 | N6: =+COUNTIF(P$7:P$37,"meta Conseguida")+COUNTIF(P$7:P$37,"meta Non Conseguida") -> 0 | O6: =+COUNTIF(P$7:P$37,"meta Conseguida") -> 0 | P6: =+IFERROR(O6/N6,0) -> 0
A7: I6 | B7: % Participación do PAS do centro en plans de formación | C7: PE-01 Xestión do PAS | D7: Só cubrir o Resultado, é un indicador informativo. Indicar a % do centro da columna "% Formación Si" do documento do "PAS_Formación" do portal de transparencia: https://secretaria.uvigo.gal/uv/web/transparencia/informe/show/5/37/86 Son os resultados do curso 23-24 | E7: 4 | F7: 0.75 | G7: 0.7704918 | H7: =+IF(ISBLANK(G7),"Introducir Resultado","Resultado Introducido") -> Resultado Introducido | J7: 0.75 | K7: 0.1745 | L7: =+IF(ISBLANK(K7),"Introducir Resultado","Resultado Introducido") -> Resultado Introducido | N7: 0.75 | P7: =+IF(ISBLANK(O7),"Introducir Resultado","Resultado Introducido") -> Introducir Resultado
A9: Indicadores institucionais da Universidade de Vigo
A10: I27 | B10: Nº Queixas recibidas | C10: MC-02: Xestión das queixas, suxestións e parabéns | D10: Cubrir Meta e Resultado. O indicador acádase se o resultado é igual ou inferior á meta. Indicar o Nº de queixas recibidas no curso e que sexan competencia do centro ou das súas titulacións. https://secretaria.uvigo.gal/uv/web/qsp/ | E10: 3 | G10: 1 | H10: =+IF(AND(ISBLANK(F10),ISBLANK(G10)),"Introducir Meta e Resultado",IF(ISBLANK(F10),"Indicador Sen Meta",IF(ISBLANK(G10),"Introducir Resultado",IF(G10<=F10,"Meta Conseguida","Meta Non Conseguida")))) -> Indicador Sen Meta | K10: 1 | L10: =+IF(AND(ISBLANK(J10),ISBLANK(K10)),"Introducir Meta e Resultado",IF(ISBLANK(J10),"Indicador Sen Meta",IF(ISBLANK(K10),"Introducir Resultado",IF(K10<=J10,"Meta Conseguida","Meta Non Conseguida")))) -> Indicador Sen Meta | N10: 0 | P10: =+IF(AND(ISBLANK(N10),ISBLANK(O10)),"Introducir Meta e Resultado",IF(ISBLANK(N10),"Indicador Sen Meta",IF(ISBLANK(O10),"Introducir Resultado",IF(O10<=N10,"Meta Conseguida","Meta Non Conseguida")))) -> Introducir Resultado
A11: I28 | B11: % de Titulacións que renovaron a súa acreditación | C11: DO-0101: Deseño, verificación, modificación e acreditación das titulacións oficiais | D11: Cubrir Meta e Resultado Indicar a % de titulacións que se imparten no centro que renovaron a súa acreditación sobre o total das titulacións que participaron na renovación da acreditación. Ter en conta únicamente as titulacións que recibiron o informe definitivo neste curso. | E11: 1 | H11: =+IF(AND(ISBLANK(F11),ISBLANK(G11)),"Introducir Meta e Resultado",IF(ISBLANK(F11),"Indicador Sen Meta",IF(ISBLANK(G11),"Introducir Resultado",IF(G11>=F11,"Meta Conseguida","Meta Non Conseguida")))) -> Introducir Meta e Resultado | L11: =+IF(AND(ISBLANK(J11),ISBLANK(K11)),"Introducir Meta e Resultado",IF(ISBLANK(J11),"Indicador Sen Meta",IF(ISBLANK(K11),"Introducir Resultado",IF(K11>=J11,"Meta Conseguida","Meta Non Conseguida")))) -> Introducir Meta e Resultado | N11: 1 | P11: =+IF(AND(ISBLANK(N11),ISBLANK(O11)),"Introducir Meta e Resultado",IF(ISBLANK(N11),"Indicador Sen Meta",IF(ISBLANK(O11),"Introducir Resultado",IF(O11>=N11,"Meta Conseguida","Meta Non Conseguida")))) -> Introducir Resultado
A12: I29-1 | B12: Nº Titulacións en proceso de verificación | C12: DO-0101: Deseño, verificación, modificación e acreditación das titulacións oficiais | D12: Só cubrir o Resultado, é un indicador informativo Indicar o Nº de titulacións que se imparten no centro que estan en proceso de verificación. | E12: 1 | F12: ---- | H12: =+IF(ISBLANK(G12),"Introducir Resultado","Resultado Introducido") -> Introducir Resultado | J12: ---- | L12: =+IF(ISBLANK(K12),"Introducir Resultado","Resultado Introducido") -> Introducir Resultado | N12: ---- | P12: =+IF(ISBLANK(O12),"Introducir Resultado","Resultado Introducido") -> Introducir Resultado
A13: I29-2 | B13: Nº Titulacións en proceso de modificación substancial | C13: DO-0101: Deseño, verificación, modificación e acreditación das titulacións oficiais | D13: Só cubrir o Resultado, é un indicador informativo Indicar o Nº de titulacións que se imparten no centro que estan en proceso de modificación substancial. | E13: 1 | F13: ---- | H13: =+IF(ISBLANK(G13),"Introducir Resultado","Resultado Introducido") -> Introducir Resultado | J13: ---- | L13: =+IF(ISBLANK(K13),"Introducir Resultado","Resultado Introducido") -> Introducir Resultado | N13: ---- | P13: =+IF(ISBLANK(O13),"Introducir Resultado","Resultado Introducido") -> Introducir Resultado
A14: I29-3 | B14: Nº Titulacións en proceso de renovación da acreditación | C14: DO-0101: Deseño, verificación, modificación e acreditación das titulacións oficiais | D14: Só cubrir o Resultado, é un indicador informativo Indicar o Nº de titulacións que se imparten no centro que estan en proceso de renovación da acreditación. | E14: 1 | F14: ---- | H14: =+IF(ISBLANK(G14),"Introducir Resultado","Resultado Introducido") -> Introducir Resultado | J14: ---- | L14: =+IF(ISBLANK(K14),"Introducir Resultado","Resultado Introducido") -> Introducir Resultado | N14: ---- | P14: =+IF(ISBLANK(O14),"Introducir Resultado","Resultado Introducido") -> Introducir Resultado
A15: I30 | B15: % Titulacións con avaliación favorable en Seguimento | C15: DO-0102: Seguimento e mellora das titulacións | D15: Cubrir Meta e Resultado Indicar a % de titulacións que se imparten no centro que obtiveron unha avaliación Favorable no Informe de definitivo do Seguimento da ACSUG sobre o total das titulacións que participaron. Incluír únicamente as titulacións que recibiron o informe final neste curso. | E15: 1 | H15: =+IF(AND(ISBLANK(F15),ISBLANK(G15)),"Introducir Meta e Resultado",IF(ISBLANK(F15),"Indicador Sen Meta",IF(ISBLANK(G15),"Introducir Resultado",IF(G15>=F15,"Meta Conseguida","Meta Non Conseguida")))) -> Introducir Meta e Resultado | L15: =+IF(AND(ISBLANK(J15),ISBLANK(K15)),"Introducir Meta e Resultado",IF(ISBLANK(J15),"Indicador Sen Meta",IF(ISBLANK(K15),"Introducir Resultado",IF(K15>=J15,"Meta Conseguida","Meta Non Conseguida")))) -> Introducir Meta e Resultado | N15: 1 | P15: =+IF(AND(ISBLANK(N15),ISBLANK(O15)),"Introducir Meta e Resultado",IF(ISBLANK(N15),"Indicador Sen Meta",IF(ISBLANK(O15),"Introducir Resultado",IF(O15>=N15,"Meta Conseguida","Meta Non Conseguida")))) -> Introducir Resultado
A16: I31 | B16: Nº Titulacións en proceso de Seguimento | C16: DO-0102: Seguimento e mellora das titulacións | D16: Só cubrir o Resultado, é un indicador informativo Indicar o Nº de titulacións que se imparten no centro que estan en proceso de seguimento da ACSUG | E16: 1 | F16: ---- | H16: =+IF(ISBLANK(G16),"Introducir Resultado","Indicador Completado") -> Introducir Resultado | J16: ---- | L16: =+IF(ISBLANK(K16),"Introducir Resultado","Indicador Completado") -> Introducir Resultado | N16: ---- | P16: =+IF(ISBLANK(O16),"Introducir Resultado","Indicador Completado") -> Introducir Resultado
A17: I32 | B17: Nº Titulacións en proceso de extinción ou suspensión | C17: DO-0103: Suspensión e extinción dunha titulación | D17: Só cubrir o Resultado, é un indicador informativo Indicar o Nº de titulacións que se impartiron no centro no curso pasado, que están nun proceso de suspensión ou extinción | E17: 1 | F17: ---- | H17: =+IF(ISBLANK(G17),"Introducir Resultado","Indicador Completado") -> Introducir Resultado | J17: ---- | L17: =+IF(ISBLANK(K17),"Introducir Resultado","Indicador Completado") -> Introducir Resultado | N17: ---- | P17: =+IF(ISBLANK(O17),"Introducir Resultado","Indicador Completado") -> Introducir Resultado
A18: I33 | B18: Nº Accións de promoción realizadas | C18: DO-0202 Promoción das titulacións | D18: Só cubrir o Resultado, é un indicador informativo Indicar o Nº de accións de promoción realizadas segundo o plan de promoción previsto polo centro e as súas titulacións. | E18: 1 | F18: ---- | H18: =+IF(ISBLANK(G18),"Introducir Resultado","Indicador Completado") -> Introducir Resultado | J18: ---- | L18: =+IF(ISBLANK(K18),"Introducir Resultado","Indicador Completado") -> Introducir Resultado | N18: ---- | P18: =+IF(ISBLANK(O18),"Introducir Resultado","Indicador Completado") -> Introducir Resultado
A19: I34 | B19: Nº Accións de mellora definidas neste curso | C19: DO-0102: Seguimento e mellora das titulacións | D19: Só cubrir o Resultado, é un indicador informativo Nº de melloras rexistradas asociadas ao centro na aplicación SGIC neste curso | E19: 3 | F19: ---- | G19: 9 | H19: =+IF(ISBLANK(G19),"Introducir Resultado","Indicador Completado") -> Indicador Completado | J19: ---- | K19: 24 | L19: =+IF(ISBLANK(K19),"Introducir Resultado","Indicador Completado") -> Indicador Completado | N19: ---- | P19: =+IF(ISBLANK(O19),"Introducir Resultado","Indicador Completado") -> Introducir Resultado
A20: I37 | B20: Grao de Satisfacción do estudantado co PAT | C20: DO-0203: Orientación do estudantado e atención ás NEAE | D20: Cubrir Meta e Resultado Indicar o Grao de satisfacción do estudantado co PAT, mediante unha enquisa vosa. No caso de utilizar a enquisa do Anexo IV-A da "Guía para a elaboración do PAT", incluiríase o valor do ítem 4 " Valore o grao de utilidade do PAT" | E20: 5 | H20: =+IF(AND(ISBLANK(F20),ISBLANK(G20)),"Introducir Meta e Resultado",IF(ISBLANK(F20),"Indicador Sen Meta",IF(ISBLANK(G20),"Introducir Resultado",IF(G20>=F20,"Meta Conseguida","Meta Non Conseguida")))) -> Introducir Meta e Resultado | L20: =+IF(AND(ISBLANK(J20),ISBLANK(K20)),"Introducir Meta e Resultado",IF(ISBLANK(J20),"Indicador Sen Meta",IF(ISBLANK(K20),"Introducir Resultado",IF(K20>=J20,"Meta Conseguida","Meta Non Conseguida")))) -> Introducir Meta e Resultado | N20: 3 | P20: =+IF(AND(ISBLANK(N20),ISBLANK(O20)),"Introducir Meta e Resultado",IF(ISBLANK(N20),"Indicador Sen Meta",IF(ISBLANK(O20),"Introducir Resultado",IF(O20>=N20,"Meta Conseguida","Meta Non Conseguida")))) -> Introducir Resultado
A21: I40 | B21: Nº de procedementos actualizados no curso académico | C21: XD-01: Control dos documentos e dos rexistros | D21: Só cubrir o Resultado, é un indicador informativo Indicar o Nº de procedementos actualizados neste curso | E21: 3 | F21: ---- | G21: 5 | H21: =+IF(ISBLANK(G21),"Introducir Resultado","Indicador Completado") -> Indicador Completado | J21: ---- | K21: 4 | L21: =+IF(ISBLANK(K21),"Introducir Resultado","Indicador Completado") -> Indicador Completado | N21: ---- | P21: =+IF(ISBLANK(O21),"Introducir Resultado","Indicador Completado") -> Introducir Resultado
A22: I41 | B22: % Rexistros en estado completado na aplicación SGIC | C22: XD-01: Control dos documentos e dos rexistros | D22: Cubrir Meta e Resultado Indicar a % de rexistros co estado "Completado" na aplicación SGIC do curso pasado | E22: 3 | F22: 1 | G22: 1 | H22: =+IF(AND(ISBLANK(F22),ISBLANK(G22)),"Introducir Meta e Resultado",IF(ISBLANK(F22),"Indicador Sen Meta",IF(ISBLANK(G22),"Introducir Resultado",IF(G22>=F22,"Meta Conseguida","Meta Non Conseguida")))) -> Meta Conseguida | J22: 1 | K22: 1 | L22: =+IF(AND(ISBLANK(J22),ISBLANK(K22)),"Introducir Meta e Resultado",IF(ISBLANK(J22),"Indicador Sen Meta",IF(ISBLANK(K22),"Introducir Resultado",IF(K22>=J22,"Meta Conseguida","Meta Non Conseguida")))) -> Meta Conseguida | N22: 1 | P22: =+IF(AND(ISBLANK(N22),ISBLANK(O22)),"Introducir Meta e Resultado",IF(ISBLANK(N22),"Indicador Sen Meta",IF(ISBLANK(O22),"Introducir Resultado",IF(O22>=N22,"Meta Conseguida","Meta Non Conseguida")))) -> Introducir Resultado
A23: I42 | B23: % Accións de Mellora finalizadas en prazo | C23: XD-01: Control dos documentos e dos rexistros | D23: Cubrir Meta e Resultado Porcentaxe das accións de mellora que está prevista a súa finalización neste curso, e efectivamente están finalizadas, sobre o total das accións de mellora que finalizaban o curso de referencia. | E23: 3 | F23: ---- | G23: ---- | H23: =+IF(AND(ISBLANK(F23),ISBLANK(G23)),"Introducir Meta e Resultado",IF(ISBLANK(F23),"Indicador Sen Meta",IF(ISBLANK(G23),"Introducir Resultado",IF(G23>=F23,"Meta Conseguida","Meta Non Conseguida")))) -> Meta Conseguida | L23: =+IF(AND(ISBLANK(J23),ISBLANK(K23)),"Introducir Meta e Resultado",IF(ISBLANK(J23),"Indicador Sen Meta",IF(ISBLANK(K23),"Introducir Resultado",IF(K23>=J23,"Meta Conseguida","Meta Non Conseguida")))) -> Introducir Meta e Resultado | N23: 0.5 | P23: =+IF(AND(ISBLANK(N23),ISBLANK(O23)),"Introducir Meta e Resultado",IF(ISBLANK(N23),"Indicador Sen Meta",IF(ISBLANK(O23),"Introducir Resultado",IF(O23>=N23,"Meta Conseguida","Meta Non Conseguida")))) -> Introducir Resultado
A25: Indicadores do programa estratéxico de centro
A27: I50 | B27: Indicadores do programa estratexico do centro | C27: DE-01: Programación e desenvolvemento estratéxico | D27: Só Cubrir a Meta entre os valores [0-10] Nº dos obxectivos I50-1 ata I50-10 que se acadan | F27: =+COUNTA(H28:H52)-COUNTIF(H28:H52,"Introducir Resultado")-COUNTIF(H28:H52,"Introducir Meta e Resultado") -> 3 | G27: =+COUNTIF(H28:H52,"Meta Conseguida") -> 2 | H27: =+IF(COUNTIF(H28:H52,"Meta Conseguida")=5,"Meta Totalmente Alcanzada",IF(COUNTIF(H28:H52,"Meta Non Conseguida")=5,"Ningunha Meta Alcanzada",IF((G27+F27)=0,"Introducir Indicadores","Meta Parcialmente Alcanzada"))) -> Meta Parcialmente Alcanzada | J27: =+COUNTA(L28:L52)-COUNTIF(L28:L52,"Introducir Resultado")-COUNTIF(L28:L52,"Introducir Meta e Resultado") -> 3 | K27: =+COUNTIF(L28:L52,"Meta Conseguida") -> 2 | L27: =+IF(COUNTIF(L28:L52,"Meta Conseguida")=5,"Meta Totalmente Alcanzada",IF(COUNTIF(L28:L52,"Meta Non Conseguida")=5,"Ningunha Meta Alcanzada",IF((K27+J27)=0,"Introducir Indicadores","Meta Parcialmente Alcanzada"))) -> Meta Parcialmente Alcanzada | N27: =+COUNTA(P28:P52)-COUNTIF(P28:P52,"Introducir Resultado")-COUNTIF(P28:P52,"Introducir Meta e Resultado") -> 0 | O27: =+COUNTIF(P28:P52,"Meta Conseguida") -> 0 | P27: =+IF(COUNTIF(P28:P52,"Meta Conseguida")=5,"Meta Totalmente Alcanzada",IF(COUNTIF(P28:P52,"Meta Non Conseguida")=5,"Ningunha Meta Alcanzada",IF((O27+N27)=0,"Introducir Indicadores","Meta Parcialmente Alcanzada"))) -> Introducir Indicadores
A28: I50-1 | B28: Obxectivo 1 (Resultadis académicos):Taxa de Rendemento Xestiónase a nivel de título (graos/mestrados) | C28: DE-01: Programación e desenvolvemento estratéxico | D28: Este indicador está establecido polo centro, e está asociado a esta titulación. Indicar o resultado e a meta asociada. | H28: =+IF(AND(ISBLANK(F28),ISBLANK(G28)),"Introducir Meta e Resultado",IF(ISBLANK(F28),"Introducir Meta",IF(ISBLANK(G28),"Introducir Resultado",IF(G28>=F28,"Meta Conseguida","Meta Non Conseguida")))) -> Introducir Meta e Resultado | L28: =+IF(AND(ISBLANK(J28),ISBLANK(K28)),"Introducir Meta e Resultado",IF(ISBLANK(J28),"Introducir Meta",IF(ISBLANK(K28),"Introducir Resultado",IF(K28>=J28,"Meta Conseguida","Meta Non Conseguida")))) -> Introducir Meta e Resultado | P28: =+IF(AND(ISBLANK(N28),ISBLANK(O28)),"Introducir Meta e Resultado",IF(ISBLANK(N28),"Introducir Meta",IF(ISBLANK(O28),"Introducir Resultado",IF(O28>=N28,"Meta Conseguida","Meta Non Conseguida")))) -> Introducir Meta e Resultado
A29: I50-2 | B29: Obxectivo 1 (Resultados académicos):Taxa de abandono . Xestiónase anivel de título (graos/mestrados) | C29: DE-01: Programación e desenvolvemento estratéxico | D29: Este indicador está establecido polo centro, e está asociado ao centro. Indicar o resultado e a meta asociada. | H29: =+IF(AND(ISBLANK(F29),ISBLANK(G29)),"Introducir Meta e Resultado",IF(ISBLANK(F29),"Introducir Meta",IF(ISBLANK(G29),"Introducir Resultado",IF(G29>=F29,"Meta Conseguida","Meta Non Conseguida")))) -> Introducir Meta e Resultado | L29: =+IF(AND(ISBLANK(J29),ISBLANK(K29)),"Introducir Meta e Resultado",IF(ISBLANK(J29),"Introducir Meta",IF(ISBLANK(K29),"Introducir Resultado",IF(K29>=J29,"Meta Conseguida","Meta Non Conseguida")))) -> Introducir Meta e Resultado | P29: =+IF(AND(ISBLANK(N29),ISBLANK(O29)),"Introducir Meta e Resultado",IF(ISBLANK(N29),"Introducir Meta",IF(ISBLANK(O29),"Introducir Resultado",IF(O29>=N29,"Meta Conseguida","Meta Non Conseguida")))) -> Introducir Meta e Resultado
A30: I50-3 | B30: Obxectivo 1 ( Resultados académicos):Taxa de eficiancia. Xestiónase anivel de título (graos/mestrados) | C30: DE-01: Programación e desenvolvemento estratéxico | D30: Este indicador está establecido polo centro, e está asociado ao centro. Indicar o resultado e a meta asociada. | H30: =+IF(AND(ISBLANK(F30),ISBLANK(G30)),"Introducir Meta e Resultado",IF(ISBLANK(F30),"Introducir Meta",IF(ISBLANK(G30),"Introducir Resultado",IF(G30>=F30,"Meta Conseguida","Meta Non Conseguida")))) -> Introducir Meta e Resultado | L30: =+IF(AND(ISBLANK(J30),ISBLANK(K30)),"Introducir Meta e Resultado",IF(ISBLANK(J30),"Introducir Meta",IF(ISBLANK(K30),"Introducir Resultado",IF(K30>=J30,"Meta Conseguida","Meta Non Conseguida")))) -> Introducir Meta e Resultado | P30: =+IF(AND(ISBLANK(N30),ISBLANK(O30)),"Introducir Meta e Resultado",IF(ISBLANK(N30),"Introducir Meta",IF(ISBLANK(O30),"Introducir Resultado",IF(O30>=N30,"Meta Conseguida","Meta Non Conseguida")))) -> Introducir Meta e Resultado
A31: I50-4 | B31: Obxectivo 1 (Resultados académicos):Taxa de graduación Xestiónasde a nivel de título (graos/mestrados) | C31: DE-01: Programación e desenvolvemento estratéxico | D31: Este indicador está establecido polo centro, e está asociado ao centro. Indicar o resultado e a meta asociada. | H31: =+IF(AND(ISBLANK(F31),ISBLANK(G31)),"Introducir Meta e Resultado",IF(ISBLANK(F31),"Introducir Meta",IF(ISBLANK(G31),"Introducir Resultado",IF(G31>=F31,"Meta Conseguida","Meta Non Conseguida")))) -> Introducir Meta e Resultado | L31: =+IF(AND(ISBLANK(J31),ISBLANK(K31)),"Introducir Meta e Resultado",IF(ISBLANK(J31),"Introducir Meta",IF(ISBLANK(K31),"Introducir Resultado",IF(K31>=J31,"Meta Conseguida","Meta Non Conseguida")))) -> Introducir Meta e Resultado | P31: =+IF(AND(ISBLANK(N31),ISBLANK(O31)),"Introducir Meta e Resultado",IF(ISBLANK(N31),"Introducir Meta",IF(ISBLANK(O31),"Introducir Resultado",IF(O31>=N31,"Meta Conseguida","Meta Non Conseguida")))) -> Introducir Meta e Resultado
A32: I50-5 | B32: Obxectivo 1 (Resultados académicos):Taxa de Éxito. Xestiónase a nivel de título (graos/mestrados) | C32: DE-01: Programación e desenvolvemento estratéxico | D32: Este indicador está establecido polo centro, e está asociado ao centro. Indicar o resultado e a meta asociada. | H32: =+IF(AND(ISBLANK(F32),ISBLANK(G32)),"Introducir Meta e Resultado",IF(ISBLANK(F32),"Introducir Meta",IF(ISBLANK(G32),"Introducir Resultado",IF(G32>=F32,"Meta Conseguida","Meta Non Conseguida")))) -> Introducir Meta e Resultado | L32: =+IF(AND(ISBLANK(J32),ISBLANK(K32)),"Introducir Meta e Resultado",IF(ISBLANK(J32),"Introducir Meta",IF(ISBLANK(K32),"Introducir Resultado",IF(K32>=J32,"Meta Conseguida","Meta Non Conseguida")))) -> Introducir Meta e Resultado | P32: =+IF(AND(ISBLANK(N32),ISBLANK(O32)),"Introducir Meta e Resultado",IF(ISBLANK(N32),"Introducir Meta",IF(ISBLANK(O32),"Introducir Resultado",IF(O32>=N32,"Meta Conseguida","Meta Non Conseguida")))) -> Introducir Meta e Resultado
A33: I50-6 | B33: Obxectivo 2 ( Atraer a novo estudantado):Taxa de ocupación. Xestiónase a nivel de título (graos/mestrados) | C33: DE-01: Programación e desenvolvemento estratéxico | D33: Este indicador está establecido polo centro, e está asociado ao centro. Indicar o resultado e a meta asociada. | H33: =+IF(AND(ISBLANK(F33),ISBLANK(G33)),"Introducir Meta e Resultado",IF(ISBLANK(F33),"Introducir Meta",IF(ISBLANK(G33),"Introducir Resultado",IF(G33>=F33,"Meta Conseguida","Meta Non Conseguida")))) -> Introducir Meta e Resultado | L33: =+IF(AND(ISBLANK(J33),ISBLANK(K33)),"Introducir Meta e Resultado",IF(ISBLANK(J33),"Introducir Meta",IF(ISBLANK(K33),"Introducir Resultado",IF(K33>=J33,"Meta Conseguida","Meta Non Conseguida")))) -> Introducir Meta e Resultado | P33: =+IF(AND(ISBLANK(N33),ISBLANK(O33)),"Introducir Meta e Resultado",IF(ISBLANK(N33),"Introducir Meta",IF(ISBLANK(O33),"Introducir Resultado",IF(O33>=N33,"Meta Conseguida","Meta Non Conseguida")))) -> Introducir Meta e Resultado
A34: I50-7 | B34: Obxectivo 2 ( Atraer a novo estudantado):Taxa de preferencia ( solo Graos) .Xestiónase a nivel de título (graos/mestrados) | C34: DE-01: Programación e desenvolvemento estratéxico | D34: Este indicador está establecido polo centro, e está asociado ao centro. Indicar o resultado e a meta asociada. | H34: =+IF(AND(ISBLANK(F34),ISBLANK(G34)),"Introducir Meta e Resultado",IF(ISBLANK(F34),"Introducir Meta",IF(ISBLANK(G34),"Introducir Resultado",IF(G34>=F34,"Meta Conseguida","Meta Non Conseguida")))) -> Introducir Meta e Resultado | L34: =+IF(AND(ISBLANK(J34),ISBLANK(K34)),"Introducir Meta e Resultado",IF(ISBLANK(J34),"Introducir Meta",IF(ISBLANK(K34),"Introducir Resultado",IF(K34>=J34,"Meta Conseguida","Meta Non Conseguida")))) -> Introducir Meta e Resultado | P34: =+IF(AND(ISBLANK(N34),ISBLANK(O34)),"Introducir Meta e Resultado",IF(ISBLANK(N34),"Introducir Meta",IF(ISBLANK(O34),"Introducir Resultado",IF(O34>=N34,"Meta Conseguida","Meta Non Conseguida")))) -> Introducir Meta e Resultado
A35: I50-8 | B35: Obxectivo 2 (Atraer a novo estudantado):Taxa de adecuación ( solo Graos). Xestiónase a nivel de título (graos/mestrados) | C35: DE-01: Programación e desenvolvemento estratéxico | D35: Este indicador está establecido polo centro, e está asociado ao centro. Indicar o resultado e a meta asociada. | H35: =+IF(AND(ISBLANK(F35),ISBLANK(G35)),"Introducir Meta e Resultado",IF(ISBLANK(F35),"Introducir Meta",IF(ISBLANK(G35),"Introducir Resultado",IF(G35>=F35,"Meta Conseguida","Meta Non Conseguida")))) -> Introducir Meta e Resultado | L35: =+IF(AND(ISBLANK(J35),ISBLANK(K35)),"Introducir Meta e Resultado",IF(ISBLANK(J35),"Introducir Meta",IF(ISBLANK(K35),"Introducir Resultado",IF(K35>=J35,"Meta Conseguida","Meta Non Conseguida")))) -> Introducir Meta e Resultado | P35: =+IF(AND(ISBLANK(N35),ISBLANK(O35)),"Introducir Meta e Resultado",IF(ISBLANK(N35),"Introducir Meta",IF(ISBLANK(O35),"Introducir Resultado",IF(O35>=N35,"Meta Conseguida","Meta Non Conseguida")))) -> Introducir Meta e Resultado
A36: I50-9 | B36: Obxectivo 3 (Formación permanante e títulos propio):Número de ofertas de formación ao estudantado e aos profesionais (nº/ano) | C36: DE-01: Programación e desenvolvemento estratéxico | D36: Este indicador está establecido polo centro, e está asociado ao centro. Indicar o resultado e a meta asociada. | H36: =+IF(AND(ISBLANK(F36),ISBLANK(G36)),"Introducir Meta e Resultado",IF(ISBLANK(F36),"Introducir Meta",IF(ISBLANK(G36),"Introducir Resultado",IF(G36>=F36,"Meta Conseguida","Meta Non Conseguida")))) -> Introducir Meta e Resultado | L36: =+IF(AND(ISBLANK(J36),ISBLANK(K36)),"Introducir Meta e Resultado",IF(ISBLANK(J36),"Introducir Meta",IF(ISBLANK(K36),"Introducir Resultado",IF(K36>=J36,"Meta Conseguida","Meta Non Conseguida")))) -> Introducir Meta e Resultado | N36: 2 | P36: =+IF(AND(ISBLANK(N36),ISBLANK(O36)),"Introducir Meta e Resultado",IF(ISBLANK(N36),"Introducir Meta",IF(ISBLANK(O36),"Introducir Resultado",IF(O36>=N36,"Meta Conseguida","Meta Non Conseguida")))) -> Introducir Resultado
A37: I50-10 | B37: Obxectivo 4 ( Internacionalización): Estudantado alleo (recibidos) que participa en programas de mobilidade | C37: DE-01: Programación e desenvolvemento estratéxico | D37: Este indicador está establecido polo centro, e está asociado ao centro. Indicar o resultado e a meta asociada. | H37: =+IF(AND(ISBLANK(F37),ISBLANK(G37)),"Introducir Meta e Resultado",IF(ISBLANK(F37),"Introducir Meta",IF(ISBLANK(G37),"Introducir Resultado",IF(G37>=F37,"Meta Conseguida","Meta Non Conseguida")))) -> Introducir Meta e Resultado | L37: =+IF(AND(ISBLANK(J37),ISBLANK(K37)),"Introducir Meta e Resultado",IF(ISBLANK(J37),"Introducir Meta",IF(ISBLANK(K37),"Introducir Resultado",IF(K37>=J37,"Meta Conseguida","Meta Non Conseguida")))) -> Introducir Meta e Resultado | N37: 90 | P37: =+IF(AND(ISBLANK(N37),ISBLANK(O37)),"Introducir Meta e Resultado",IF(ISBLANK(N37),"Introducir Meta",IF(ISBLANK(O37),"Introducir Resultado",IF(O37>=N37,"Meta Conseguida","Meta Non Conseguida")))) -> Introducir Resultado
B38: Obxectivo 4 (Internacionalización) Estudantado propio (enviados) que participa en programas de mobilidade | C38: DE-01: Programación e desenvolvemento estratéxico | N38: 30 | P38: =+IF(AND(ISBLANK(N38),ISBLANK(O38)),"Introducir Meta e Resultado",IF(ISBLANK(N38),"Introducir Meta",IF(ISBLANK(O38),"Introducir Resultado",IF(O38>=N38,"Meta Conseguida","Meta Non Conseguida")))) -> Introducir Resultado
A39: I50-11 | B39: Obxectivo4 ( Internacionalización): Profesorado que participa en programas de mobilidade | C39: DE-01: Programación e desenvolvemento estratéxico | D39: Este indicador está establecido polo centro, e está asociado ao centro. Indicar o resultado e a meta asociada. | H39: =+IF(AND(ISBLANK(F39),ISBLANK(G39)),"Introducir Meta e Resultado",IF(ISBLANK(F39),"Introducir Meta",IF(ISBLANK(G39),"Introducir Resultado",IF(G39>=F39,"Meta Conseguida","Meta Non Conseguida")))) -> Introducir Meta e Resultado | L39: =+IF(AND(ISBLANK(J39),ISBLANK(K39)),"Introducir Meta e Resultado",IF(ISBLANK(J39),"Introducir Meta",IF(ISBLANK(K39),"Introducir Resultado",IF(K39>=J39,"Meta Conseguida","Meta Non Conseguida")))) -> Introducir Meta e Resultado | N39: 10 | P39: =+IF(AND(ISBLANK(N39),ISBLANK(O39)),"Introducir Meta e Resultado",IF(ISBLANK(N39),"Introducir Meta",IF(ISBLANK(O39),"Introducir Resultado",IF(O39>=N39,"Meta Conseguida","Meta Non Conseguida")))) -> Introducir Resultado
A40: I50-12 | B40: Obxectivo 4 ( Internacionalización): Profesorado que colabora con institucións estranxeiras | C40: DE-01: Programación e desenvolvemento estratéxico | D40: Este indicador está establecido polo centro, e está asociado ao centro. Indicar o resultado e a meta asociada. | H40: =+IF(AND(ISBLANK(F40),ISBLANK(G40)),"Introducir Meta e Resultado",IF(ISBLANK(F40),"Introducir Meta",IF(ISBLANK(G40),"Introducir Resultado",IF(G40>=F40,"Meta Conseguida","Meta Non Conseguida")))) -> Introducir Meta e Resultado | L40: =+IF(AND(ISBLANK(J40),ISBLANK(K40)),"Introducir Meta e Resultado",IF(ISBLANK(J40),"Introducir Meta",IF(ISBLANK(K40),"Introducir Resultado",IF(K40>=J40,"Meta Conseguida","Meta Non Conseguida")))) -> Introducir Meta e Resultado | N40: 0.6 | P40: =+IF(AND(ISBLANK(N40),ISBLANK(O40)),"Introducir Meta e Resultado",IF(ISBLANK(N40),"Introducir Meta",IF(ISBLANK(O40),"Introducir Resultado",IF(O40>=N40,"Meta Conseguida","Meta Non Conseguida")))) -> Introducir Resultado
A41: I50-13 | B41: Obxectivo 5 ( visibilidade internacional da Investigación e transferencia ): Estudantado matriculado nos programas de doutoramento | C41: DE-01: Programación e desenvolvemento estratéxico | D41: Este indicador está establecido polo centro, e está asociado ao centro. Indicar o resultado e a meta asociada. | H41: =+IF(AND(ISBLANK(F41),ISBLANK(G41)),"Introducir Meta e Resultado",IF(ISBLANK(F41),"Introducir Meta",IF(ISBLANK(G41),"Introducir Resultado",IF(G41>=F41,"Meta Conseguida","Meta Non Conseguida")))) -> Introducir Meta e Resultado | L41: =+IF(AND(ISBLANK(J41),ISBLANK(K41)),"Introducir Meta e Resultado",IF(ISBLANK(J41),"Introducir Meta",IF(ISBLANK(K41),"Introducir Resultado",IF(K41>=J41,"Meta Conseguida","Meta Non Conseguida")))) -> Introducir Meta e Resultado | N41: 40 | P41: =+IF(AND(ISBLANK(N41),ISBLANK(O41)),"Introducir Meta e Resultado",IF(ISBLANK(N41),"Introducir Meta",IF(ISBLANK(O41),"Introducir Resultado",IF(O41>=N41,"Meta Conseguida","Meta Non Conseguida")))) -> Introducir Resultado
A42: I50-14 | B42: Obxectivo 5 ( visibilidade internacional da Investigación e transferencia ): Resultados de investigación de carácter académico (sexenios) | C42: DE-01: Programación e desenvolvemento estratéxico | D42: Este indicador está establecido polo centro, e está asociado ao centro. Indicar o resultado e a meta asociada. | F42: 0.6 | G42: 77.27 | H42: =+IF(AND(ISBLANK(F42),ISBLANK(G42)),"Introducir Meta e Resultado",IF(ISBLANK(F42),"Introducir Meta",IF(ISBLANK(G42),"Introducir Resultado",IF(G42>=F42,"Meta Conseguida","Meta Non Conseguida")))) -> Meta Conseguida | J42: 0.6 | L42: =+IF(AND(ISBLANK(J42),ISBLANK(K42)),"Introducir Meta e Resultado",IF(ISBLANK(J42),"Introducir Meta",IF(ISBLANK(K42),"Introducir Resultado",IF(K42>=J42,"Meta Conseguida","Meta Non Conseguida")))) -> Introducir Resultado | N42: 0.65 | P42: =+IF(AND(ISBLANK(N42),ISBLANK(O42)),"Introducir Meta e Resultado",IF(ISBLANK(N42),"Introducir Meta",IF(ISBLANK(O42),"Introducir Resultado",IF(O42>=N42,"Meta Conseguida","Meta Non Conseguida")))) -> Introducir Resultado
A43: I50-15 | B43: Obxectivo 5 ( visibilidade internacional da Investigación e transferencia ): Web con información dos grupos e proxectos de investigación e as actividades de | C43: DE-01: Programación e desenvolvemento estratéxico | D43: Este indicador está establecido polo centro, e está asociado ao centro. Indicar o resultado e a meta asociada. | H43: =+IF(AND(ISBLANK(F43),ISBLANK(G43)),"Introducir Meta e Resultado",IF(ISBLANK(F43),"Introducir Meta",IF(ISBLANK(G43),"Introducir Resultado",IF(G43>=F43,"Meta Conseguida","Meta Non Conseguida")))) -> Introducir Meta e Resultado | L43: =+IF(AND(ISBLANK(J43),ISBLANK(K43)),"Introducir Meta e Resultado",IF(ISBLANK(J43),"Introducir Meta",IF(ISBLANK(K43),"Introducir Resultado",IF(K43>=J43,"Meta Conseguida","Meta Non Conseguida")))) -> Introducir Meta e Resultado | N43: x | P43: =+IF(AND(ISBLANK(N43),ISBLANK(O43)),"Introducir Meta e Resultado",IF(ISBLANK(N43),"Introducir Meta",IF(ISBLANK(O43),"Introducir Resultado",IF(O43>=N43,"Meta Conseguida","Meta Non Conseguida")))) -> Introducir Resultado
A44: I50-16 | B44: Obxectivo 3 ( visibilidade internacional da Investigación e transferencia ):Número de colaboracións cos institutos de investigación | C44: DE-01: Programación e desenvolvemento estratéxico | D44: Este indicador está establecido polo centro, e está asociado ao centro. Indicar o resultado e a meta asociada. | H44: =+IF(AND(ISBLANK(F44),ISBLANK(G44)),"Introducir Meta e Resultado",IF(ISBLANK(F44),"Introducir Meta",IF(ISBLANK(G44),"Introducir Resultado",IF(G44>=F44,"Meta Conseguida","Meta Non Conseguida")))) -> Introducir Meta e Resultado | L44: =+IF(AND(ISBLANK(J44),ISBLANK(K44)),"Introducir Meta e Resultado",IF(ISBLANK(J44),"Introducir Meta",IF(ISBLANK(K44),"Introducir Resultado",IF(K44>=J44,"Meta Conseguida","Meta Non Conseguida")))) -> Introducir Meta e Resultado | N44: 5 | P44: =+IF(AND(ISBLANK(N44),ISBLANK(O44)),"Introducir Meta e Resultado",IF(ISBLANK(N44),"Introducir Meta",IF(ISBLANK(O44),"Introducir Resultado",IF(O44>=N44,"Meta Conseguida","Meta Non Conseguida")))) -> Introducir Resultado
A45: I50-17 | B45: Obxectivo 6 ( Desenvolvemento persoal e profesional ): Grao de satisfacción do profesorado. Xestiónase a nivel de título (graos/mestrados) | C45: DE-01: Programación e desenvolvemento estratéxico | D45: Este indicador está establecido polo centro, e está asociado ao centro. Indicar o resultado e a meta asociada. | F45: 3.5 | H45: =+IF(AND(ISBLANK(F45),ISBLANK(G45)),"Introducir Meta e Resultado",IF(ISBLANK(F45),"Introducir Meta",IF(ISBLANK(G45),"Introducir Resultado",IF(G45>=F45,"Meta Conseguida","Meta Non Conseguida")))) -> Introducir Resultado | J45: 3.5 | K45: 4.08 | L45: =+IF(AND(ISBLANK(J45),ISBLANK(K45)),"Introducir Meta e Resultado",IF(ISBLANK(J45),"Introducir Meta",IF(ISBLANK(K45),"Introducir Resultado",IF(K45>=J45,"Meta Conseguida","Meta Non Conseguida")))) -> Meta Conseguida | N45: 3.5 | P45: =+IF(AND(ISBLANK(N45),ISBLANK(O45)),"Introducir Meta e Resultado",IF(ISBLANK(N45),"Introducir Meta",IF(ISBLANK(O45),"Introducir Resultado",IF(O45>=N45,"Meta Conseguida","Meta Non Conseguida")))) -> Introducir Resultado
A46: I50-18 | B46: Obxectivo 6 ( Desenvolvemento persoal e profesional ):Grao de satisfacción do estudantado. Xestiónase a nivel de título (graos/mestrados) | C46: DE-01: Programación e desenvolvemento estratéxico | D46: Este indicador está establecido polo centro, e está asociado ao centro. Indicar o resultado e a meta asociada. | F46: 3 | G46: 3.06 | H46: =+IF(AND(ISBLANK(F46),ISBLANK(G46)),"Introducir Meta e Resultado",IF(ISBLANK(F46),"Introducir Meta",IF(ISBLANK(G46),"Introducir Resultado",IF(G46>=F46,"Meta Conseguida","Meta Non Conseguida")))) -> Meta Conseguida | J46: 3 | K46: 3.28 | L46: =+IF(AND(ISBLANK(J46),ISBLANK(K46)),"Introducir Meta e Resultado",IF(ISBLANK(J46),"Introducir Meta",IF(ISBLANK(K46),"Introducir Resultado",IF(K46>=J46,"Meta Conseguida","Meta Non Conseguida")))) -> Meta Conseguida | N46: 3 | P46: =+IF(AND(ISBLANK(N46),ISBLANK(O46)),"Introducir Meta e Resultado",IF(ISBLANK(N46),"Introducir Meta",IF(ISBLANK(O46),"Introducir Resultado",IF(O46>=N46,"Meta Conseguida","Meta Non Conseguida")))) -> Introducir Resultado
A47: I50-19 | B47: Obxectivo 6 ( Desenvolvemento persoal e profesional ): Grao de satisfacción do PTXAS | C47: DE-01: Programación e desenvolvemento estratéxico | D47: Este indicador está establecido polo centro, e está asociado ao centro. Indicar o resultado e a meta asociada. | H47: =+IF(AND(ISBLANK(F47),ISBLANK(G47)),"Introducir Meta e Resultado",IF(ISBLANK(F47),"Introducir Meta",IF(ISBLANK(G47),"Introducir Resultado",IF(G47>=F47,"Meta Conseguida","Meta Non Conseguida")))) -> Introducir Meta e Resultado | L47: =+IF(AND(ISBLANK(J47),ISBLANK(K47)),"Introducir Meta e Resultado",IF(ISBLANK(J47),"Introducir Meta",IF(ISBLANK(K47),"Introducir Resultado",IF(K47>=J47,"Meta Conseguida","Meta Non Conseguida")))) -> Introducir Meta e Resultado | N47: 3.5 | P47: =+IF(AND(ISBLANK(N47),ISBLANK(O47)),"Introducir Meta e Resultado",IF(ISBLANK(N47),"Introducir Meta",IF(ISBLANK(O47),"Introducir Resultado",IF(O47>=N47,"Meta Conseguida","Meta Non Conseguida")))) -> Introducir Resultado
A48: I50-20 | B48: Obxectivo 6 ( Desenvolvemento persoal e profesional ): Grao de satisfacción do estudantado coa actividade docente do profesorado (EAD) | C48: DE-01: Programación e desenvolvemento estratéxico | D48: Este indicador está establecido polo centro, e está asociado ao centro. Indicar o resultado e a meta asociada. | G48: 4.19 | H48: =+IF(AND(ISBLANK(F48),ISBLANK(G48)),"Introducir Meta e Resultado",IF(ISBLANK(F48),"Introducir Meta",IF(ISBLANK(G48),"Introducir Resultado",IF(G48>=F48,"Meta Conseguida","Meta Non Conseguida")))) -> Introducir Meta | K48: 4.27 | L48: =+IF(AND(ISBLANK(J48),ISBLANK(K48)),"Introducir Meta e Resultado",IF(ISBLANK(J48),"Introducir Meta",IF(ISBLANK(K48),"Introducir Resultado",IF(K48>=J48,"Meta Conseguida","Meta Non Conseguida")))) -> Introducir Meta | N48: 3.5 | P48: =+IF(AND(ISBLANK(N48),ISBLANK(O48)),"Introducir Meta e Resultado",IF(ISBLANK(N48),"Introducir Meta",IF(ISBLANK(O48),"Introducir Resultado",IF(O48>=N48,"Meta Conseguida","Meta Non Conseguida")))) -> Introducir Resultado
A49: I50-21 | B49: Obxectivo 7 (Xestión efieciente e sostible das infraestructuras ): Negociacións realizadas polo decanato coas instancias competentes nesta materia. Nº/ano | C49: DE-01: Programación e desenvolvemento estratéxico | D49: Este indicador está establecido polo centro, e está asociado ao centro. Indicar o resultado e a meta asociada. | H49: =+IF(AND(ISBLANK(F49),ISBLANK(G49)),"Introducir Meta e Resultado",IF(ISBLANK(F49),"Introducir Meta",IF(ISBLANK(G49),"Introducir Resultado",IF(G49>=F49,"Meta Conseguida","Meta Non Conseguida")))) -> Introducir Meta e Resultado | L49: =+IF(AND(ISBLANK(J49),ISBLANK(K49)),"Introducir Meta e Resultado",IF(ISBLANK(J49),"Introducir Meta",IF(ISBLANK(K49),"Introducir Resultado",IF(K49>=J49,"Meta Conseguida","Meta Non Conseguida")))) -> Introducir Meta e Resultado | N49: 2 | P49: =+IF(AND(ISBLANK(N49),ISBLANK(O49)),"Introducir Meta e Resultado",IF(ISBLANK(N49),"Introducir Meta",IF(ISBLANK(O49),"Introducir Resultado",IF(O49>=N49,"Meta Conseguida","Meta Non Conseguida")))) -> Introducir Resultado
A50: I50-22 | B50: Obxectivo 8 (Vincualación coa contorma profesional) : Nº de convenios con empresas e institucións públicas nº/ano | C50: DE-01: Programación e desenvolvemento estratéxico | D50: Este indicador está establecido polo centro, e está asociado ao centro. Indicar o resultado e a meta asociada. | H50: =+IF(AND(ISBLANK(F50),ISBLANK(G50)),"Introducir Meta e Resultado",IF(ISBLANK(F50),"Introducir Meta",IF(ISBLANK(G50),"Introducir Resultado",IF(G50>=F50,"Meta Conseguida","Meta Non Conseguida")))) -> Introducir Meta e Resultado | L50: =+IF(AND(ISBLANK(J50),ISBLANK(K50)),"Introducir Meta e Resultado",IF(ISBLANK(J50),"Introducir Meta",IF(ISBLANK(K50),"Introducir Resultado",IF(K50>=J50,"Meta Conseguida","Meta Non Conseguida")))) -> Introducir Meta e Resultado | N50: x | P50: =+IF(AND(ISBLANK(N50),ISBLANK(O50)),"Introducir Meta e Resultado",IF(ISBLANK(N50),"Introducir Meta",IF(ISBLANK(O50),"Introducir Resultado",IF(O50>=N50,"Meta Conseguida","Meta Non Conseguida")))) -> Introducir Resultado
A51: I50-23 | B51: Obxectivo 8 (Vincualación coa contorma profesional) : Nº de cparticipacións en feiras e eventos profesionais nº/ano | C51: DE-01: Programación e desenvolvemento estratéxico | D51: Este indicador está establecido polo centro, e está asociado ao centro. Indicar o resultado e a meta asociada. | H51: =+IF(AND(ISBLANK(F51),ISBLANK(G51)),"Introducir Meta e Resultado",IF(ISBLANK(F51),"Introducir Meta",IF(ISBLANK(G51),"Introducir Resultado",IF(G51>=F51,"Meta Conseguida","Meta Non Conseguida")))) -> Introducir Meta e Resultado | L51: =+IF(AND(ISBLANK(J51),ISBLANK(K51)),"Introducir Meta e Resultado",IF(ISBLANK(J51),"Introducir Meta",IF(ISBLANK(K51),"Introducir Resultado",IF(K51>=J51,"Meta Conseguida","Meta Non Conseguida")))) -> Introducir Meta e Resultado | N51: 5 | P51: =+IF(AND(ISBLANK(N51),ISBLANK(O51)),"Introducir Meta e Resultado",IF(ISBLANK(N51),"Introducir Meta",IF(ISBLANK(O51),"Introducir Resultado",IF(O51>=N51,"Meta Conseguida","Meta Non Conseguida")))) -> Introducir Resultado
A52: I50-24 | B52: Obxectivo 8 (Vincualación coa contorma profesional) : Nº de participacións en actividades de transferencia de coñecemento con entidades pública e privadas da contorno nº/ano | C52: DE-01: Programación e desenvolvemento estratéxico | D52: Este indicador está establecido polo centro, e está asociado ao centro. Indicar o resultado e a meta asociada. | H52: =+IF(AND(ISBLANK(F52),ISBLANK(G52)),"Introducir Meta e Resultado",IF(ISBLANK(F52),"Introducir Meta",IF(ISBLANK(G52),"Introducir Resultado",IF(G52>=F52,"Meta Conseguida","Meta Non Conseguida")))) -> Introducir Meta e Resultado | L52: =+IF(AND(ISBLANK(J52),ISBLANK(K52)),"Introducir Meta e Resultado",IF(ISBLANK(J52),"Introducir Meta",IF(ISBLANK(K52),"Introducir Resultado",IF(K52>=J52,"Meta Conseguida","Meta Non Conseguida")))) -> Introducir Meta e Resultado | N52: 4 | P52: =+IF(AND(ISBLANK(N52),ISBLANK(O52)),"Introducir Meta e Resultado",IF(ISBLANK(N52),"Introducir Meta",IF(ISBLANK(O52),"Introducir Resultado",IF(O52>=N52,"Meta Conseguida","Meta Non Conseguida")))) -> Introducir Resultado

Sheet GLEstran
A2: Panel de indicadores- Cadro de mando do Grao en Linguas Estranxeiras
A4: Indicadores | C4: Procedimientos asociados | E4: Crit. | F4: =+Centro!F4 -> Curso 2023-2024 | J4: =+Centro!J4 -> Curso 2024-2025 | N4: =+Centro!N4 -> curso 2025-2026
A5: Cod | B5: Denominación Indicador | C5: Denominación | D5: Descripcion e Fonte de Información | E5: IRPD | F5: Meta | G5: Resultado | H5: Observacións | J5: Meta | K5: Resultado | L5: Observacións | N5: Meta | O5: Resultado | P5: Observacións
A6: Indicadores dos Programas de Calidade
A7: I1-I2 | B7: Nº Estudantes de novo ingreso (Grao e Máster) | C7: AC-01: Acceso, evolución e Expedición de Titulos Oficiais | D7: Cubrir Meta e Resultado Elixir o documento Grao ACC_1 ou Máster ACC_1, segundo o caso: https://secretaria.uvigo.gal/uv/web/transparencia/informe/show/5/51/63 | E7: 7 | F7: 50 | G7: 42 | H7: =+IF(AND(ISBLANK(F7),ISBLANK(G7)),"Introducir Meta e Resultado",IF(ISBLANK(F7),"Indicador Sen Meta",IF(ISBLANK(G7),"Introducir Resultado",IF(G7>=F7,"Meta Conseguida","Meta Non Conseguida")))) -> Meta Non Conseguida | J7: 50 | K7: 42 | L7: =+IF(AND(ISBLANK(J7),ISBLANK(K7)),"Introducir Meta e Resultado",IF(ISBLANK(J7),"Indicador Sen Meta",IF(ISBLANK(K7),"Introducir Resultado",IF(K7>=J7,"Meta Conseguida","Meta Non Conseguida")))) -> Meta Non Conseguida | N7: 50 | P7: =+IF(AND(ISBLANK(N7),ISBLANK(O7)),"Introducir Meta e Resultado",IF(ISBLANK(N7),"Indicador Sen Meta",IF(ISBLANK(O7),"Introducir Resultado",IF(O7>=N7,"Meta Conseguida","Meta Non Conseguida")))) -> Introducir Resultado
A8: I3 | B8: Indicadores de mobilidade do estudantado | C8: DO-0205: Xestión da mobilidade | D8: Nº dos obxectivos I3-1 e I3-2 que se acadan | E8: 1 | F8: =+COUNTA(F9:F10) -> 0 | G8: =+COUNTIF(H9:H10,"Meta Conseguida") -> 0 | H8: =+IF(COUNTA(F9:F10)=0,"Indicador Sen Meta",IF(G8=2,"Meta Totalmente Alcanzada",IF(G9=0,"Introducir Resultado",IF(G8=0,"Ningunha Meta Alcanzada",IF(G8>0,"Meta Parcialmente Alcanzada"))))) -> Indicador Sen Meta | J8: =+COUNTA(J9:J10) -> 0 | K8: =+COUNTIF(L9:L10,"Meta Conseguida") -> 0 | L8: =+IF(COUNTA(J9:J10)=0,"Indicador Sen Meta",IF(K8=2,"Meta Totalmente Alcanzada",IF(K9=0,"Introducir Resultado",IF(K8=0,"Ningunha Meta Alcanzada",IF(K8>0,"Meta Parcialmente Alcanzada"))))) -> Indicador Sen Meta | N8: =+COUNTA(N9:N10) -> 2 | O8: =+COUNTIF(P9:P10,"Meta Conseguida") -> 0 | P8: =+IF(COUNTA(N9:N10)=0,"Indicador Sen Meta",IF(O8=2,"Meta Totalmente Alcanzada",IF(O9=0,"Introducir Resultado",IF(O8=0,"Ningunha Meta Alcanzada",IF(O8>0,"Meta Parcialmente Alcanzada"))))) -> Introducir Resultado
A9: I3-1 | B9: Nº Estudantes propios que participan en programas de mobilidade | C9: DO-0205: Xestión da mobilidade | D9: Cubrir Meta e Resultado Selecciónar o dato da titulación da columna "Total_SAÍNTE" da Folla Mobilidade_TOTAL do documento "Mobilidade" do portal de transparencia. https://secretaria.uvigo.gal/uv/web/transparencia/informe/show/5/4/19 | E9: 1 | G9: 16 | H9: =+IF(AND(ISBLANK(F9),ISBLANK(G9)),"Introducir Meta e Resultado",IF(ISBLANK(F9),"Introducir Meta",IF(ISBLANK(G9),"Introducir Resultado",IF(G9>=F9,"Meta Conseguida","Meta Non Conseguida")))) -> Introducir Meta | K9: 11 | L9: =+IF(AND(ISBLANK(J9),ISBLANK(K9)),"Introducir Meta e Resultado",IF(ISBLANK(J9),"Introducir Meta",IF(ISBLANK(K9),"Introducir Resultado",IF(K9>=J9,"Meta Conseguida","Meta Non Conseguida")))) -> Introducir Meta | N9: 15 | P9: =+IF(AND(ISBLANK(N9),ISBLANK(O9)),"Introducir Meta e Resultado",IF(ISBLANK(N9),"Introducir Meta",IF(ISBLANK(O9),"Introducir Resultado",IF(O9>=N9,"Meta Conseguida","Meta Non Conseguida")))) -> Introducir Resultado
A10: I3-2 | B10: % Estudantes que participan en programas de mobilidade | C10: DO-0205: Xestión da mobilidade | D10: Só Cubrir a Meta. O Resultado calcúlase de xeito automático, a partir do indicador I3-1 e I45 % Estudantado que participa en programas de mobilidade con relación ao estudantado matriculado. | E10: 1 | G10: =+IFERROR(G$9/G$87,0) -> 0.07960199 | H10: =+IF(AND(ISBLANK(F10),ISBLANK(G10)),"Introducir Meta e Resultado",IF(ISBLANK(F10),"Introducir Meta",IF(ISBLANK(G10),"Introducir Resultado",IF(G10>=F10,"Meta Conseguida","Meta Non Conseguida")))) -> Introducir Meta | K10: =+IFERROR(K$9/K$87,0) -> 0.056994819 | L10: =+IF(AND(ISBLANK(J10),ISBLANK(K10)),"Introducir Meta e Resultado",IF(ISBLANK(J10),"Introducir Meta",IF(ISBLANK(K10),"Introducir Resultado",IF(K10>=J10,"Meta Conseguida","Meta Non Conseguida")))) -> Introducir Meta | N10: 0.08 | P10: =+IF(AND(ISBLANK(N10),ISBLANK(O10)),"Introducir Meta e Resultado",IF(ISBLANK(N10),"Introducir Meta",IF(ISBLANK(O10),"Introducir Resultado",IF(O10>=N10,"Meta Conseguida","Meta Non Conseguida")))) -> Introducir Resultado
A11: I4 | B11: Resultados dos indicadores do SGC | C11: DE-02 Seguimento e Medición | D11: Non Cubrir a Meta nin o Resultado. Calcúlanse de xeito automático Este indicador mostra a porcentaxe dos obxectivos que acadan as súas metas establecidas. | E11: 3 | F11: =+G11+COUNTIF(H$7:H$10,"Meta non Conseguida")+COUNTIF(H$12:H$97,"Meta non Conseguida") -> 17 | G11: =+COUNTIF(H$6:H$10,"Meta Conseguida")+COUNTIF(H$12:H$97,"Meta Conseguida") -> 8 | H11: =+IFERROR(G11/F11,"Introducir Meta") -> 0.47058824 | J11: =+K11+COUNTIF(L$7:L$10,"Meta non Conseguida")+COUNTIF(L$12:L$97,"Meta non Conseguida") -> 19 | K11: =+COUNTIF(L$6:L$10,"Meta Conseguida")+COUNTIF(L$12:L$97,"Meta Conseguida") -> 7 | L11: =+IFERROR(K11/J11,"Introducir Meta") -> 0.36842105 | N11: =+O11+COUNTIF(P$7:P$10,"Meta non Conseguida")+COUNTIF(P$12:P$97,"Meta non Conseguida") -> 3 | O11: =+COUNTIF(P$6:P$10,"Meta Conseguida")+COUNTIF(P$12:P$97,"Meta Conseguida") -> 0 | P11: =+IFERROR(O11/N11,"Introducir Meta") -> 0
A12: I5 | B12: Indicadores de formación do PDI | C12: PE-02 Xestión de PDI | D12: Nº dos obxectivos I5-1 e I5-2 que se acadan | E12: 4 | F12: =+COUNTA(F13:F14) -> 0 | G12: =+COUNTIF(H13:H14,"Meta Conseguida") -> 0 | H12: =+IF(COUNTA(F13:F14)=0,"Indicador Sen Meta",IF(G12=2,"Meta Totalmente Alcanzada",IF(G13=0,"Introducir Resultado",IF(G12=0,"Ningunha Meta Alcanzada",IF(G12>0,"Meta Parcialmente Alcanzada"))))) -> Indicador Sen Meta | J12: =+COUNTA(J13:J14) -> 0 | K12: =+COUNTIF(L13:L14,"Meta Conseguida") -> 0 | L12: =+IF(COUNTA(J13:J14)=0,"Indicador Sen Meta",IF(K12=2,"Meta Totalmente Alcanzada",IF(K13=0,"Introducir Resultado",IF(K12=0,"Ningunha Meta Alcanzada",IF(K12>0,"Meta Parcialmente Alcanzada"))))) -> Indicador Sen Meta | N12: =+COUNTA(N13:N14) -> 2 | O12: =+COUNTIF(P13:P14,"Meta Conseguida") -> 0 | P12: =+IF(COUNTA(N13:N14)=0,"Indicador Sen Meta",IF(O12=2,"Meta Totalmente Alcanzada",IF(O13=0,"Introducir Resultado",IF(O12=0,"Ningunha Meta Alcanzada",IF(O12>0,"Meta Parcialmente Alcanzada"))))) -> Introducir Resultado
A13: I5-1 | B13: Nº PDI en plans de formación do título | C13: PE-02 Xestión de PDI | D13: Cubrir Meta e Resultado Seleccionar o dato na consulta "FOR.Formación e mobilidade do PDI" do portal de transparencia https://secretaria.uvigo.gal/uv/web/transparencia/informe/show/5/34/68 | E13: 4 | G13: 10 | H13: =+IF(AND(ISBLANK(F13),ISBLANK(G13)),"Introducir Meta e Resultado",IF(ISBLANK(F13),"Introducir Meta",IF(ISBLANK(G13),"Introducir Resultado",IF(G13>=F13,"Meta Conseguida","Meta Non Conseguida")))) -> Introducir Meta | L13: =+IF(AND(ISBLANK(J13),ISBLANK(K13)),"Introducir Meta e Resultado",IF(ISBLANK(J13),"Introducir Meta",IF(ISBLANK(K13),"Introducir Resultado",IF(K13>=J13,"Meta Conseguida","Meta Non Conseguida")))) -> Introducir Meta e Resultado | N13: 10 | P13: =+IF(AND(ISBLANK(N13),ISBLANK(O13)),"Introducir Meta e Resultado",IF(ISBLANK(N13),"Introducir Meta",IF(ISBLANK(O13),"Introducir Resultado",IF(O13>=N13,"Meta Conseguida","Meta Non Conseguida")))) -> Introducir Resultado
A14: I5-2 | B14: % Participación do PDI do título en plans de formación | C14: PE-02 Xestión de PDI | D14: Cubrir a Meta. O Resultado calcúlase de xeito automático, a partir do indicador I5-1 e I46 É a porcentaxe do PDI que participa en plans de formación, que se calcula de xeito automático | E14: 4 | G14: =+IFERROR(G$13/G$88,0) -> 0.19607843 | H14: =+IF(AND(ISBLANK(F14),ISBLANK(G14)),"Introducir Meta e Resultado",IF(ISBLANK(F14),"Introducir Meta",IF(ISBLANK(G14),"Introducir Resultado",IF(G14>=F14,"Meta Conseguida","Meta Non Conseguida")))) -> Introducir Meta | K14: =+IFERROR(K$13/K$88,0) -> 0 | L14: =+IF(AND(ISBLANK(J14),ISBLANK(K14)),"Introducir Meta e Resultado",IF(ISBLANK(J14),"Introducir Meta",IF(ISBLANK(K14),"Introducir Resultado",IF(K14>=J14,"Meta Conseguida","Meta Non Conseguida")))) -> Introducir Meta | N14: 0.1 | O14: =+IFERROR(O$13/O$88,0) -> 0 | P14: =+IF(AND(ISBLANK(N14),ISBLANK(O14)),"Introducir Meta e Resultado",IF(ISBLANK(N14),"Introducir Meta",IF(ISBLANK(O14),"Introducir Resultado",IF(O14>=N14,"Meta Conseguida","Meta Non Conseguida")))) -> Meta Non Conseguida
A15: I6-AI | B15: % Participación do PDI en Grupos de Innovación Docente | C15: PE-02 Xestión de PDI | D15: Só cubrir o Resultado, é un indicador informativo E a porcentaxe do PDI que participa en Grupos de innovación docente | E15: 4 | F15: ---- | G15: 0.035087719 | H15: =+IF(ISBLANK(G15),"Introducir Resultado","Resultado Introducido") -> Resultado Introducido | J15: ---- | K15: 0.54166667 | L15: =+IF(ISBLANK(K15),"Introducir Resultado","Resultado Introducido") -> Resultado Introducido | N15: ---- | P15: =+IF(ISBLANK(O15),"Introducir Resultado","Resultado Introducido") -> Introducir Resultado
A16: I7 | B16: % PDI do título avaliado polo programa DOCENTIA e resultados obtidos | C16: PE-02 Xestión de PDI | D16: Nº dos obxectivos (I7-1 e I7-2) que se acadan | E16: 4 | F16: =+COUNTA(F17:F18) -> 0 | G16: =+COUNTIF(H17:H18,"Meta Conseguida") -> 0 | H16: =+IF(COUNTA(F17:F18)=0,"Indicador Sen Meta",IF(G16=2,"Meta Totalmente Alcanzada",IF(G17=0,"Introducir Resultado",IF(G16=0,"Ningunha Meta Alcanzada",IF(G16>0,"Meta Parcialmente Alcanzada"))))) -> Indicador Sen Meta | J16: =+COUNTA(J17:J18) -> 0 | K16: =+COUNTIF(L17:L18,"Meta Conseguida") -> 0 | L16: =+IF(COUNTA(J17:J18)=0,"Indicador Sen Meta",IF(K16=2,"Meta Totalmente Alcanzada",IF(K17=0,"Introducir Resultado",IF(K16=0,"Ningunha Meta Alcanzada",IF(K16>0,"Meta Parcialmente Alcanzada"))))) -> Indicador Sen Meta | N16: =+COUNTA(N17:N18) -> 2 | O16: =+COUNTIF(P17:P18,"Meta Conseguida") -> 0 | P16: =+IF(COUNTA(N17:N18)=0,"Indicador Sen Meta",IF(O16=2,"Meta Totalmente Alcanzada",IF(O17=0,"Introducir Resultado",IF(O16=0,"Ningunha Meta Alcanzada",IF(O16>0,"Meta Parcialmente Alcanzada"))))) -> Introducir Resultado
A17: I7-1 | B17: Nº PDI avaliado en DOCENTIA | C17: PE-02 Xestión de PDI | D17: Cubrir Meta e Resultado Nº acumulado do PDI avaliado en todas as convocatorias do Docentia. Sumar o PDI avaliado do conxunto das convocatorias de avaliación. Este indicador atópase no informe de resultados Docentia avaliación quinquenal https://www.uvigo.gal/universidade/calidade/programas-calidade/docencia/programa-docentia | E17: 4 | G17: 6 | H17: =+IF(AND(ISBLANK(F17),ISBLANK(G17)),"Introducir Meta e Resultado",IF(ISBLANK(F17),"Introducir Meta",IF(ISBLANK(G17),"Introducir Resultado",IF(G17>=F17,"Meta Conseguida","Meta Non Conseguida")))) -> Introducir Meta | K17: 5 | L17: =+IF(AND(ISBLANK(J17),ISBLANK(K17)),"Introducir Meta e Resultado",IF(ISBLANK(J17),"Introducir Meta",IF(ISBLANK(K17),"Introducir Resultado",IF(K17>=J17,"Meta Conseguida","Meta Non Conseguida")))) -> Introducir Meta | N17: 6 | P17: =+IF(AND(ISBLANK(N17),ISBLANK(O17)),"Introducir Meta e Resultado",IF(ISBLANK(N17),"Introducir Meta",IF(ISBLANK(O17),"Introducir Resultado",IF(O17>=N17,"Meta Conseguida","Meta Non Conseguida")))) -> Introducir Resultado
A18: I7-2 | B18: % PDI que participa en DOCENTIA | C18: PE-02 Xestión de PDI | D18: Só Cubrir a Meta. O Resultado calcúlase de xeito automático, a partir do indicador I7-1 e I46. % do PDI avaliado entre o Nº total de PDI que imparte docencia na titulación. | E18: 4 | G18: =+IFERROR(G$17/G$88,0) -> 0.11764706 | H18: =+IF(AND(ISBLANK(F18),ISBLANK(G18)),"Introducir Meta e Resultado",IF(ISBLANK(F18),"Introducir Meta",IF(ISBLANK(G18),"Introducir Resultado",IF(G18>=F18,"Meta Conseguida","Meta Non Conseguida")))) -> Introducir Meta | K18: =+IFERROR(K$17/K$88,0) -> 0 | L18: =+IF(AND(ISBLANK(J18),ISBLANK(K18)),"Introducir Meta e Resultado",IF(ISBLANK(J18),"Introducir Meta",IF(ISBLANK(K18),"Introducir Resultado",IF(K18>=J18,"Meta Conseguida","Meta Non Conseguida")))) -> Introducir Meta | N18: 0.1 | O18: =+IFERROR(O$17/O$88,0) -> 0 | P18: =+IF(AND(ISBLANK(N18),ISBLANK(O18)),"Introducir Meta e Resultado",IF(ISBLANK(N18),"Introducir Meta",IF(ISBLANK(O18),"Introducir Resultado",IF(O18>=N18,"Meta Conseguida","Meta Non Conseguida")))) -> Meta Non Conseguida
A19: I7-3 | B19: Resultados do PDI avaliado | C19: PE-02 Xestión de PDI | D19: Engadir a información da titulación da táboa "2.7 Resultados por centro" do informe institucional de resultados na folla de anexos https://www.uvigo.gal/universidade/calidade/programas-calidade/docencia/programa-docentia | E19: 4 | F19: ---- | G19: ---- | H19: ---- | J19: ---- | K19: ---- | L19: ---- | N19: ---- | O19: ---- | P19: ----
A20: I8 | B20: Indicadores de mobilidade do PDI | C20: PE-02 Xestión de PDI | D20: Nº dos obxectivos (I8-1 e I8-2) que se acadan | E20: 4 | F20: =+COUNTA(F21:F22) -> 0 | G20: =+COUNTIF(H21:H22,"Meta Conseguida") -> 0 | H20: =+IF(COUNTA(F21:F22)=0,"Indicador Sen Meta",IF(G20=2,"Meta Totalmente Alcanzada",IF(G21=0,"Introducir Resultado",IF(G20=0,"Ningunha Meta Alcanzada",IF(G20>0,"Meta Parcialmente Alcanzada"))))) -> Indicador Sen Meta | J20: =+COUNTA(J21:J22) -> 0 | K20: =+COUNTIF(L21:L22,"Meta Conseguida") -> 0 | L20: =+IF(COUNTA(J21:J22)=0,"Indicador Sen Meta",IF(K20=2,"Meta Totalmente Alcanzada",IF(K21=0,"Introducir Resultado",IF(K20=0,"Ningunha Meta Alcanzada",IF(K20>0,"Meta Parcialmente Alcanzada"))))) -> Indicador Sen Meta | N20: =+COUNTA(N21:N22) -> 2 | O20: =+COUNTIF(P21:P22,"Meta Conseguida") -> 0 | P20: =+IF(COUNTA(N21:N22)=0,"Indicador Sen Meta",IF(O20=2,"Meta Totalmente Alcanzada",IF(O21=0,"Introducir Resultado",IF(O20=0,"Ningunha Meta Alcanzada",IF(O20>0,"Meta Parcialmente Alcanzada"))))) -> Introducir Resultado
A21: I8-1 | B21: Nº PDI propio que participa en programas de mobilidade | C21: PE-02 Xestión de PDI | D21: Cubrir Meta e Resultado Seleccionar o dato na consulta "FOR. Formación e mobilidade do PDI" do portal de transparencia https://secretaria.uvigo.gal/uv/web/transparencia/informe/show/5/34/68 | E21: 4 | G21: 2 | H21: =+IF(AND(ISBLANK(F21),ISBLANK(G21)),"Introducir Meta e Resultado",IF(ISBLANK(F21),"Introducir Meta",IF(ISBLANK(G21),"Introducir Resultado",IF(G21>=F21,"Meta Conseguida","Meta Non Conseguida")))) -> Introducir Meta | L21: =+IF(AND(ISBLANK(J21),ISBLANK(K21)),"Introducir Meta e Resultado",IF(ISBLANK(J21),"Introducir Meta",IF(ISBLANK(K21),"Introducir Resultado",IF(K21>=J21,"Meta Conseguida","Meta Non Conseguida")))) -> Introducir Meta e Resultado | N21: 3 | P21: =+IF(AND(ISBLANK(N21),ISBLANK(O21)),"Introducir Meta e Resultado",IF(ISBLANK(N21),"Introducir Meta",IF(ISBLANK(O21),"Introducir Resultado",IF(O21>=N21,"Meta Conseguida","Meta Non Conseguida")))) -> Introducir Resultado
A22: I8-2 | B22: % de PDI que participa en programas de mobilidade | C22: PE-02 Xestión de PDI | D22: Só Cubrir a Meta. O Resultado calcúlase de xeito automático, a partir dos indicadores I8-1 e I46 % de PDI que participa en programas de mobilidade con relación ao PDI total, que se calcula | E22: 4 | G22: =+IFERROR(G$21/G$88,0) -> 0.039215686 | H22: =+IF(AND(ISBLANK(F22),ISBLANK(G22)),"Introducir Meta e Resultado",IF(ISBLANK(F22),"Introducir Meta",IF(ISBLANK(G22),"Introducir Resultado",IF(G22>=F22,"Meta Conseguida","Meta Non Conseguida")))) -> Introducir Meta | K22: =+IFERROR(K$21/K$88,0) -> 0 | L22: =+IF(AND(ISBLANK(J22),ISBLANK(K22)),"Introducir Meta e Resultado",IF(ISBLANK(J22),"Introducir Meta",IF(ISBLANK(K22),"Introducir Resultado",IF(K22>=J22,"Meta Conseguida","Meta Non Conseguida")))) -> Introducir Meta | N22: 0.04 | O22: =+IFERROR(O$21/O$88,0) -> 0 | P22: =+IF(AND(ISBLANK(N22),ISBLANK(O22)),"Introducir Meta e Resultado",IF(ISBLANK(N22),"Introducir Meta",IF(ISBLANK(O22),"Introducir Resultado",IF(O22>=N22,"Meta Conseguida","Meta Non Conseguida")))) -> Meta Non Conseguida
A23: I9 | B23: Distribución de alumnado por centros de prácticas | C23: DO-0204 Xestión de prácticas | D23: Este indicador atópase no rexistro "R1 DO-0204" na aplicación SGIC da secretaría virtual: https://secretaria.uvigo.gal/uv/web/sgic/admin/evidencias/list | E23: 5 | F23: ---- | G23: ---- | H23: ---- | J23: ---- | K23: ---- | L23: ---- | N23: ---- | O23: ---- | P23: ----
A24: I10 | B24: Indicadores de resultados | C24: DE-02 Seguimento e Medición; DE-03 Revisión do sistema pola dirección | D24: Nº dos obxectivos (I10-1 ata I10-12) que se acadan | E24: 6, 7 | F24: =+COUNTA(F25:F30)+COUNTA(F32:F33)+COUNTA(F35:F36) -> 5 | G24: =+COUNTIF(H25:H36,"Meta Conseguida") -> 3 | H24: =+IF((G24+F24)=0,"Introducir Meta e Resultado",IF(COUNTA(G25:G30)=0,"Indicador Sen Resultados",IF(G24=0,"Ningunha Meta Alcanzada",IF(G24>=F24,"Meta Totalmente Alcanzada",IF(G24>0,"Meta Parcialmente Alcanzada"))))) -> Meta Parcialmente Alcanzada | J24: =+COUNTA(J25:J30)+COUNTA(J32:J33)+COUNTA(J35:J36) -> 7 | K24: =+COUNTIF(L25:L36,"Meta Conseguida") -> 2 | L24: =+IF((K24+J24)=0,"Introducir Meta e Resultado",IF(COUNTA(K25:K30)=0,"Indicador Sen Resultados",IF(K24=0,"Ningunha Meta Alcanzada",IF(K24>=J24,"Meta Totalmente Alcanzada",IF(K24>0,"Meta Parcialmente Alcanzada"))))) -> Meta Parcialmente Alcanzada | N24: =+COUNTA(N25:N30)+COUNTA(N32:N33)+COUNTA(N35:N36) -> 6 | O24: =+COUNTIF(P25:P36,"Meta Conseguida") -> 0 | P24: =+IF((O24+N24)=0,"Introducir Meta e Resultado",IF(COUNTA(O25:O30)=0,"Indicador Sen Resultados",IF(O24=0,"Ningunha Meta Alcanzada",IF(O24>=N24,"Meta Totalmente Alcanzada",IF(O24>0,"Meta Parcialmente Alcanzada"))))) -> Indicador Sen Resultados
A25: I10-1 | B25: Taxa de graduación da titulación | C25: DE-02 Seguimento e Medición; DE-03 Revisión do sistema pola dirección | D25: Cubrir Meta e Resultado Escoller o documento excel do grao ou máster segundo o caso, do menú de GRA. Graduación https://secretaria.uvigo.gal/uv/web/transparencia/informe/show/5/51/66 | E25: 7 | F25: 0.5 | G25: 0.52173913 | H25: =+IF(AND(ISBLANK(F25),ISBLANK(G25)),"Introducir Meta e Resultado",IF(ISBLANK(F25),"Introducir Meta",IF(ISBLANK(G25),"Introducir Resultado",IF(G25>=F25,"Meta Conseguida","Meta Non Conseguida")))) -> Meta Conseguida | J25: 0.5 | K25: 0.39215686 | L25: =+IF(AND(ISBLANK(J25),ISBLANK(K25)),"Introducir Meta e Resultado",IF(ISBLANK(J25),"Introducir Meta",IF(ISBLANK(K25),"Introducir Resultado",IF(K25>=J25,"Meta Conseguida","Meta Non Conseguida")))) -> Meta Non Conseguida | N25: 0.5 | P25: =+IF(AND(ISBLANK(N25),ISBLANK(O25)),"Introducir Meta e Resultado",IF(ISBLANK(N25),"Introducir Meta",IF(ISBLANK(O25),"Introducir Resultado",IF(O25>=N25,"Meta Conseguida","Meta Non Conseguida")))) -> Introducir Resultado
A26: I10-2 | B26: Taxa de abandono da titulación (CURSA) | C26: DE-02 Seguimento e Medición; DE-03 Revisión do sistema pola dirección | D26: Cubrir Meta e Resultado. O indicador acádase se o resultado é igual ou inferior á meta Escoller o documento excel do grao ou máster segundo o caso, do menú ABA: abandono https://secretaria.uvigo.gal/uv/web/transparencia/informe/show/5/51/65 | E26: 7 | F26: 0.2 | G26: 0.16981132 | H26: =+IF(AND(ISBLANK(F26),ISBLANK(G26)),"Introducir Meta e Resultado",IF(ISBLANK(F26),"Introducir Meta",IF(ISBLANK(G26),"Introducir Resultado",IF(G26<=F26,"Meta Conseguida","Meta Non Conseguida")))) -> Meta Conseguida | J26: 0.2 | K26: 0.24489796 | L26: =+IF(AND(ISBLANK(J26),ISBLANK(K26)),"Introducir Meta e Resultado",IF(ISBLANK(J26),"Introducir Meta",IF(ISBLANK(K26),"Introducir Resultado",IF(K26<=J26,"Meta Conseguida","Meta Non Conseguida")))) -> Meta Non Conseguida | N26: 0.2 | P26: =+IF(AND(ISBLANK(N26),ISBLANK(O26)),"Introducir Meta e Resultado",IF(ISBLANK(N26),"Introducir Meta",IF(ISBLANK(O26),"Introducir Resultado",IF(O26<=N26,"Meta Conseguida","Meta Non Conseguida")))) -> Introducir Resultado
A27: I10-3 | B27: Taxa de eficiencia | C27: DE-02 Seguimento e Medición; DE-03 Revisión do sistema pola dirección | D27: Cubrir Meta e Resultado Escoller o documento excel do grao ou máster segundo o caso, do menú de GRA. Graduación https://secretaria.uvigo.gal/uv/web/transparencia/informe/show/5/51/66 | E27: 7 | F27: 0.9 | G27: 0.90328638 | H27: =+IF(AND(ISBLANK(F27),ISBLANK(G27)),"Introducir Meta e Resultado",IF(ISBLANK(F27),"Introducir Meta",IF(ISBLANK(G27),"Introducir Resultado",IF(G27>=F27,"Meta Conseguida","Meta Non Conseguida")))) -> Meta Conseguida | J27: 0.9 | K27: 0.8975751 | L27: =+IF(AND(ISBLANK(J27),ISBLANK(K27)),"Introducir Meta e Resultado",IF(ISBLANK(J27),"Introducir Meta",IF(ISBLANK(K27),"Introducir Resultado",IF(K27>=J27,"Meta Conseguida","Meta Non Conseguida")))) -> Meta Non Conseguida | N27: 0.8 | P27: =+IF(AND(ISBLANK(N27),ISBLANK(O27)),"Introducir Meta e Resultado",IF(ISBLANK(N27),"Introducir Meta",IF(ISBLANK(O27),"Introducir Resultado",IF(O27>=N27,"Meta Conseguida","Meta Non Conseguida")))) -> Introducir Resultado
A28: I10-4 | B28: Taxa de Rendemento | C28: DE-02 Seguimento e Medición; DE-03 Revisión do sistema pola dirección | D28: Cubrir Meta e Resultado Elixir o documento excel do grao ou máster segundo o caso, do menú REN Rendemento https://secretaria.uvigo.gal/uv/web/transparencia/informe/show/5/51/64 | E28: 7 | F28: 0.8 | G28: 0.65716635 | H28: =+IF(AND(ISBLANK(F28),ISBLANK(G28)),"Introducir Meta e Resultado",IF(ISBLANK(F28),"Introducir Meta",IF(ISBLANK(G28),"Introducir Resultado",IF(G28>=F28,"Meta Conseguida","Meta Non Conseguida")))) -> Meta Non Conseguida | J28: 0.8 | K28: 0.70060224 | L28: =+IF(AND(ISBLANK(J28),ISBLANK(K28)),"Introducir Meta e Resultado",IF(ISBLANK(J28),"Introducir Meta",IF(ISBLANK(K28),"Introducir Resultado",IF(K28>=J28,"Meta Conseguida","Meta Non Conseguida")))) -> Meta Non Conseguida | N28: 0.75 | P28: =+IF(AND(ISBLANK(N28),ISBLANK(O28)),"Introducir Meta e Resultado",IF(ISBLANK(N28),"Introducir Meta",IF(ISBLANK(O28),"Introducir Resultado",IF(O28>=N28,"Meta Conseguida","Meta Non Conseguida")))) -> Introducir Resultado
A29: I10-5 | B29: Taxa de éxito | C29: DE-02 Seguimento e Medición; DE-03 Revisión do sistema pola dirección | D29: Cubrir Meta e Resultado Elixir o documento excel do grao ou máster segundo o caso, do menú REN Rendemento https://secretaria.uvigo.gal/uv/web/transparencia/informe/show/5/51/64 | E29: 7 | F29: 0.8 | G29: 0.789595 | H29: =+IF(AND(ISBLANK(F29),ISBLANK(G29)),"Introducir Meta e Resultado",IF(ISBLANK(F29),"Introducir Meta",IF(ISBLANK(G29),"Introducir Resultado",IF(G29>=F29,"Meta Conseguida","Meta Non Conseguida")))) -> Meta Non Conseguida | J29: 0.8 | K29: 0.81705686 | L29: =+IF(AND(ISBLANK(J29),ISBLANK(K29)),"Introducir Meta e Resultado",IF(ISBLANK(J29),"Introducir Meta",IF(ISBLANK(K29),"Introducir Resultado",IF(K29>=J29,"Meta Conseguida","Meta Non Conseguida")))) -> Meta Conseguida | N29: 0.7 | P29: =+IF(AND(ISBLANK(N29),ISBLANK(O29)),"Introducir Meta e Resultado",IF(ISBLANK(N29),"Introducir Meta",IF(ISBLANK(O29),"Introducir Resultado",IF(O29>=N29,"Meta Conseguida","Meta Non Conseguida")))) -> Introducir Resultado
A30: I10-6 | B30: Taxa de avaliación | C30: DE-02 Seguimento e Medición; DE-03 Revisión do sistema pola dirección | D30: Cubrir Meta e Resultado Elixir o documento excel do grao ou máster segundo o caso, do menú REN Rendemento https://secretaria.uvigo.gal/uv/web/transparencia/informe/show/5/51/64 | E30: 7 | G30: 0.83228282 | H30: =+IF(AND(ISBLANK(F30),ISBLANK(G30)),"Introducir Meta e Resultado",IF(ISBLANK(F30),"Introducir Meta",IF(ISBLANK(G30),"Introducir Resultado",IF(G30>=F30,"Meta Conseguida","Meta Non Conseguida")))) -> Introducir Meta | K30: 0.85747061 | L30: =+IF(AND(ISBLANK(J30),ISBLANK(K30)),"Introducir Meta e Resultado",IF(ISBLANK(J30),"Introducir Meta",IF(ISBLANK(K30),"Introducir Resultado",IF(K30>=J30,"Meta Conseguida","Meta Non Conseguida")))) -> Introducir Meta | N30: 0.9 | P30: =+IF(AND(ISBLANK(N30),ISBLANK(O30)),"Introducir Meta e Resultado",IF(ISBLANK(N30),"Introducir Meta",IF(ISBLANK(O30),"Introducir Resultado",IF(O30>=N30,"Meta Conseguida","Meta Non Conseguida")))) -> Introducir Resultado
A31: I10-7 | B31: Taxa de Rendemento por materia | C31: DE-02 Seguimento e Medición; DE-03 Revisión do sistema pola dirección | D31: Engadir a información na Folla Anexos do Cadro de Mando, sobre as taxas de rendemento das titulación que se pode obter na consulta REN. Rendemento por materia https://secretaria.uvigo.gal/uv/web/transparencia/informe/show/5/51/64 | E31: 6 | F31: ---- | G31: ---- | H31: ---- | J31: ---- | K31: ---- | L31: ---- | N31: ---- | O31: ---- | P31: ----
A32: I10-8 | B32: Valor mínimo das taxas de Rendemento dunha materia da titulación | C32: DE-02 Seguimento e Medición; DE-03 Revisión do sistema pola dirección | D32: Só Cubrir a Meta. O Resultado calcúlase de xeito automático, a partir das taxas de rendemento das materias que se atopan na folla "Anexos" Indicar o valor mínimo das taxas de rendemento das materias da titulación, do indicador I10-7 | E32: 6 | G32: =+IFERROR(MIN('Anexos 1'!$O$6:$O$200),"----") -> 0.27272727 | H32: =+IF(AND(ISBLANK(F32),ISBLANK(G32)),"Introducir Meta e Resultado",IF(ISBLANK(F32),"Introducir Meta",IF(ISBLANK(G32),"Introducir Resultado",IF(G32>=F32,"Meta Conseguida","Meta Non Conseguida")))) -> Introducir Meta | J32: 0.27 | K32: =+IFERROR(MIN('Anexos 2'!$O$6:$O$200),"----") -> 0 | L32: =+IF(AND(ISBLANK(J32),ISBLANK(K32)),"Introducir Meta e Resultado",IF(ISBLANK(J32),"Introducir Meta",IF(ISBLANK(K32),"Introducir Resultado",IF(K32>=J32,"Meta Conseguida","Meta Non Conseguida")))) -> Meta Non Conseguida | O32: =+IFERROR(MIN('Anexos 3'!$O$6:$O$200),"----") -> 0 | P32: =+IF(AND(ISBLANK(N32),ISBLANK(O32)),"Introducir Meta e Resultado",IF(ISBLANK(N32),"Introducir Meta",IF(ISBLANK(O32),"Introducir Resultado",IF(O32>=N32,"Meta Conseguida","Meta Non Conseguida")))) -> Introducir Meta
A33: I10-9 | B33: % de materias que acadan unha Taxa de Rendemento de XX% | C33: DE-02 Seguimento e Medición; DE-03 Revisión do sistema pola dirección | D33: Só Cubrir a Meta. O Resultado calcúlase de xeito automático indicando na columna T da folla "Anexos" o valor establecido da taxa de cada materia. Indicar a % de materias cunha taxa de rendemento igual ou superior a un valor establecido (Por exemplo o 50%). | E33: 6 | G33: =+'Anexos 1'!$S$3 -> 0 | H33: =+IF(AND(ISBLANK(F33),ISBLANK(G33)),"Introducir Meta e Resultado",IF(ISBLANK(F33),"Introducir Meta",IF(ISBLANK(G33),"Introducir Resultado",IF(G33>=F33,"Meta Conseguida","Meta Non Conseguida")))) -> Introducir Meta | K33: =+'Anexos 2'!$S$3 -> 0 | L33: =+IF(AND(ISBLANK(J33),ISBLANK(K33)),"Introducir Meta e Resultado",IF(ISBLANK(J33),"Introducir Meta",IF(ISBLANK(K33),"Introducir Resultado",IF(K33>=J33,"Meta Conseguida","Meta Non Conseguida")))) -> Introducir Meta | O33: =+'Anexos 3'!$S$3 -> 0 | P33: =+IF(AND(ISBLANK(N33),ISBLANK(O33)),"Introducir Meta e Resultado",IF(ISBLANK(N33),"Introducir Meta",IF(ISBLANK(O33),"Introducir Resultado",IF(O33>=N33,"Meta Conseguida","Meta Non Conseguida")))) -> Introducir Meta
A34: I10-10 | B34: Taxa de éxito por materia | C34: DE-02 Seguimento e Medición; DE-03 Revisión do sistema pola dirección | D34: Engadir a información na Folla Anexos do Cadro de Mando, sobre as taxas de Éxito das titulación que se pode obter na consulta REN. Rendemento por materia https://secretaria.uvigo.gal/uv/web/transparencia/informe/show/5/51/64 | E34: 6 | F34: ---- | G34: ---- | H34: ---- | J34: ---- | K34: ---- | L34: ---- | N34: ---- | O34: ---- | P34: ----
A35: I10-11 | B35: Valor mínimo das taxas de Éxito dunha materia da titulación | C35: DE-02 Seguimento e Medición; DE-03 Revisión do sistema pola dirección | D35: Só Cubrir a Meta. O Resultado calcúlase de xeito automático, a partir das taxas de éxito das materias que se atopan na folla "Anexos" Indica o valor mínimo das taxas de Éxito das materias da titulación, do indicador I10-10 | E35: 6 | G35: =+IFERROR(MIN('Anexos 1'!$N$6:$N$200),"----") -> 0.375 | H35: =+IF(AND(ISBLANK(F35),ISBLANK(G35)),"Introducir Meta e Resultado",IF(ISBLANK(F35),"Introducir Meta",IF(ISBLANK(G35),"Introducir Resultado",IF(G35>=F35,"Meta Conseguida","Meta Non Conseguida")))) -> Introducir Meta | J35: 0.33 | K35: =+IFERROR(MIN('Anexos 2'!$N$6:$N$200),"----") -> 0.33333333 | L35: =+IF(AND(ISBLANK(J35),ISBLANK(K35)),"Introducir Meta e Resultado",IF(ISBLANK(J35),"Introducir Meta",IF(ISBLANK(K35),"Introducir Resultado",IF(K35>=J35,"Meta Conseguida","Meta Non Conseguida")))) -> Meta Conseguida | O35: =+IFERROR(MIN('Anexos 3'!$N$6:$N$200),"----") -> 0 | P35: =+IF(AND(ISBLANK(N35),ISBLANK(O35)),"Introducir Meta e Resultado",IF(ISBLANK(N35),"Introducir Meta",IF(ISBLANK(O35),"Introducir Resultado",IF(O35>=N35,"Meta Conseguida","Meta Non Conseguida")))) -> Introducir Meta
A36: I10-12 | B36: % de materias que acadan unha Taxa de Éxito de XX% | C36: DE-02 Seguimento e Medición; DE-03 Revisión do sistema pola dirección | D36: Só Cubrir a Meta. O Resultado calcúlase de xeito automático indicando na columna S da folla "Anexos" o valor establecido da taxa de cada materia. Indicar a % de materias cunha taxa de Éxito igual ou superior a un valor establecido (Por exemplo o 50%). | E36: 6 | G36: =+'Anexos 1'!$R$3 -> 0 | H36: =+IF(AND(ISBLANK(F36),ISBLANK(G36)),"Introducir Meta e Resultado",IF(ISBLANK(F36),"Introducir Meta",IF(ISBLANK(G36),"Introducir Resultado",IF(G36>=F36,"Meta Conseguida","Meta Non Conseguida")))) -> Introducir Meta | K36: =+'Anexos 2'!$R$3 -> 0 | L36: =+IF(AND(ISBLANK(J36),ISBLANK(K36)),"Introducir Meta e Resultado",IF(ISBLANK(J36),"Introducir Meta",IF(ISBLANK(K36),"Introducir Resultado",IF(K36>=J36,"Meta Conseguida","Meta Non Conseguida")))) -> Introducir Meta | O36: =+'Anexos 3'!$R$3 -> 0 | P36: =+IF(AND(ISBLANK(N36),ISBLANK(O36)),"Introducir Meta e Resultado",IF(ISBLANK(N36),"Introducir Meta",IF(ISBLANK(O36),"Introducir Resultado",IF(O36>=N36,"Meta Conseguida","Meta Non Conseguida")))) -> Introducir Meta
A37: I11 | B37: Relación de Oferta / Demanda de prazas | C37: AC-01: Acceso, evolución e Expedición de Titulos Oficiais | D37: Nº dos obxectivos (I11-1, I11-2 e I11-3) que se acadan | E37: 7 | F37: =+COUNTA(F38:F40) -> 3 | G37: =+COUNTIF(H38:H40,"Meta Conseguida") -> 1 | H37: =+IF(COUNTA(F38:F40)=0,"Indicador Sen Meta",IF(COUNTA(G38:G40)=0,"Indicador Sen Resultados",IF(G37=0,"Ningunha Meta Alcanzada",IF(G37>=F37,"Meta Totalmente Alcanzada",IF(G37>0,"Meta Parcialmente Alcanzada"))))) -> Meta Parcialmente Alcanzada | J37: =+COUNTA(J38:J40) -> 3 | K37: =+COUNTIF(L38:L40,"Meta Conseguida") -> 1 | L37: =+IF(COUNTA(J38:J40)=0,"Indicador Sen Meta",IF(COUNTA(K38:K40)=0,"Indicador Sen Resultados",IF(K37=0,"Ningunha Meta Alcanzada",IF(K37>=J37,"Meta Totalmente Alcanzada",IF(K37>0,"Meta Parcialmente Alcanzada"))))) -> Meta Parcialmente Alcanzada | N37: =+COUNTA(N38:N40) -> 3 | O37: =+COUNTIF(P38:P40,"Meta Conseguida") -> 0 | P37: =+IF(COUNTA(N38:N40)=0,"Indicador Sen Meta",IF(COUNTA(O38:O40)=0,"Indicador Sen Resultados",IF(O37=0,"Ningunha Meta Alcanzada",IF(O37>=N37,"Meta Totalmente Alcanzada",IF(O37>0,"Meta Parcialmente Alcanzada"))))) -> Indicador Sen Resultados
A38: I11-1 | B38: Taxa de Ocupación | C38: AC-01: Acceso, evolución e Expedición de Titulos Oficiais | D38: Cubrir Meta e Resultado Escoller PRE.GRA Admisión de Grao ou PRE.MÁS. Admisión de máster segundo o caso https://secretaria.uvigo.gal/uv/web/transparencia/grupo/show/5/51 o documento excel correspondente e posteriormente elixir a columna de Taxas de ocupación | E38: 7 | F38: 1 | G38: 0.78 | H38: =+IF(AND(ISBLANK(F38),ISBLANK(G38)),"Introducir Meta e Resultado",IF(ISBLANK(F38),"Introducir Meta",IF(ISBLANK(G38),"Introducir Resultado",IF(G38>=F38,"Meta Conseguida","Meta Non Conseguida")))) -> Meta Non Conseguida | J38: 1 | K38: 0.76 | L38: =+IF(AND(ISBLANK(J38),ISBLANK(K38)),"Introducir Meta e Resultado",IF(ISBLANK(J38),"Introducir Meta",IF(ISBLANK(K38),"Introducir Resultado",IF(K38>=J38,"Meta Conseguida","Meta Non Conseguida")))) -> Meta Non Conseguida | N38: 0.8 | P38: =+IF(AND(ISBLANK(N38),ISBLANK(O38)),"Introducir Meta e Resultado",IF(ISBLANK(N38),"Introducir Meta",IF(ISBLANK(O38),"Introducir Resultado",IF(O38>=N38,"Meta Conseguida","Meta Non Conseguida")))) -> Introducir Resultado
A39: I11-2 | B39: Taxa de Preferencia (só Graos) | C39: AC-01: Acceso, evolución e Expedición de Titulos Oficiais | D39: Cubrir Meta e Resultado (Só Graos) Seleccionar a columna Taxa de Preferencia no documento excel PRE.GRA Admisión de Grao, que se atopa en https://secretaria.uvigo.gal/uv/web/transparencia/informe/show/5/51/3 | E39: 7 | F39: 0.9 | G39: 0.76 | H39: =+IF(AND(ISBLANK(F39),ISBLANK(G39)),"Introducir Meta e Resultado",IF(ISBLANK(F39),"Introducir Meta",IF(ISBLANK(G39),"Introducir Resultado",IF(G39>=F39,"Meta Conseguida","Meta Non Conseguida")))) -> Meta Non Conseguida | J39: 0.9 | K39: 0.8 | L39: =+IF(AND(ISBLANK(J39),ISBLANK(K39)),"Introducir Meta e Resultado",IF(ISBLANK(J39),"Introducir Meta",IF(ISBLANK(K39),"Introducir Resultado",IF(K39>=J39,"Meta Conseguida","Meta Non Conseguida")))) -> Meta Non Conseguida | N39: 0.9 | P39: =+IF(AND(ISBLANK(N39),ISBLANK(O39)),"Introducir Meta e Resultado",IF(ISBLANK(N39),"Introducir Meta",IF(ISBLANK(O39),"Introducir Resultado",IF(O39>=N39,"Meta Conseguida","Meta Non Conseguida")))) -> Introducir Resultado
A40: I11-3 | B40: Taxa de Adecuación (só Graos) | C40: AC-01: Acceso, evolución e Expedición de Titulos Oficiais | D40: Cubrir Meta e Resultado (Só Graos) Seleccionar a columna Taxa de Adecuación no documento excel PRE.GRA Admisión de Grao, que se atopa en https://secretaria.uvigo.gal/uv/web/transparencia/informe/show/5/51/3 | E40: 7 | F40: 0.7 | G40: 0.84615385 | H40: =+IF(AND(ISBLANK(F40),ISBLANK(G40)),"Introducir Meta e Resultado",IF(ISBLANK(F40),"Introducir Meta",IF(ISBLANK(G40),"Introducir Resultado",IF(G40>=F40,"Meta Conseguida","Meta Non Conseguida")))) -> Meta Conseguida | J40: 0.7 | K40: 0.8158 | L40: =+IF(AND(ISBLANK(J40),ISBLANK(K40)),"Introducir Meta e Resultado",IF(ISBLANK(J40),"Introducir Meta",IF(ISBLANK(K40),"Introducir Resultado",IF(K40>=J40,"Meta Conseguida","Meta Non Conseguida")))) -> Meta Conseguida | N40: 0.7 | P40: =+IF(AND(ISBLANK(N40),ISBLANK(O40)),"Introducir Meta e Resultado",IF(ISBLANK(N40),"Introducir Meta",IF(ISBLANK(O40),"Introducir Resultado",IF(O40>=N40,"Meta Conseguida","Meta Non Conseguida")))) -> Introducir Resultado
A41: I12 | B41: Resultados de inserción laboral | C41: DE-02 Seguimento e Medición; DE-03 Revisión do sistema pola dirección | D41: Este indicador atópase na seguinte ligazón: https://secretaria.uvigo.gal/uv/web/transparencia/grupo/show/5/69 | E41: 7 | F41: ---- | G41: ---- | H41: ---- | J41: ---- | K41: ---- | L41: ---- | N41: ---- | O41: ---- | P41: ----
A42: I13 | B42: Media alumnos por grupo de docencia ou PDA | C42: DO-0201 Planificación e desenvolvemento da ensinanza | D42: Este indicador atópase no rexistro "R1 DO-0201 PDA" na aplicación SGIC da secretaría virtual: https://secretaria.uvigo.gal/uv/web/sgic/admin/evidencias/list | E42: 1 | F42: ---- | G42: ---- | H42: ---- | J42: ---- | K42: ---- | L42: ---- | N42: ---- | O42: ---- | P42: ----
A44: Indicadores institucionais da Universidade de Vigo
A46: I20 | B46: Índice das enquisas de satisfacción coas titulacións | C46: MC-05 Medición satisfacción | D46: Nº dos obxectivos (I20-1, I20-2, I20-3 e I20-4) que se acadan | E46: 7 | F46: =+COUNTA(F47:F51) -> 3 | G46: =+COUNTIF(H47:H51,"Meta Conseguida") -> 1 | H46: =+IF((G46+F46)=0,"Introducir Meta e Resultado",IF(COUNTA(G47:G51)=0,"Indicador Sen Resultados",IF(G46=0,"Ningunha Meta Alcanzada",IF(G46>=F46,"Meta Totalmente Alcanzada",IF(G46>0,"Meta Parcialmente Alcanzada"))))) -> Meta Parcialmente Alcanzada | J46: =+COUNTA(J47:J51) -> 3 | K46: =+COUNTIF(L47:L51,"Meta Conseguida") -> 2 | L46: =+IF((K46+J46)=0,"Introducir Meta e Resultado",IF(COUNTA(K47:K51)=0,"Indicador Sen Resultados",IF(K46=0,"Ningunha Meta Alcanzada",IF(K46>=J46,"Meta Totalmente Alcanzada",IF(K46>0,"Meta Parcialmente Alcanzada"))))) -> Meta Parcialmente Alcanzada | N46: =+COUNTA(N47:N51) -> 5 | O46: =+COUNTIF(P47:P51,"Meta Conseguida") -> 0 | P46: =+IF((O46+N46)=0,"Introducir Meta e Resultado",IF(COUNTA(O47:O51)=0,"Indicador Sen Resultados",IF(O46=0,"Ningunha Meta Alcanzada",IF(O46>=N46,"Meta Totalmente Alcanzada",IF(O46>0,"Meta Parcialmente Alcanzada"))))) -> Indicador Sen Resultados
A47: I20-1 | B47: Índice de satisfacción do Estudantado coas titulacións | C47: MC-05 Medición satisfacción | D47: Cubrir Meta e Resultado. A meta poderá estar entre os valores [1-5] Introducir o Grao de satisfacción do estudantado coa titulación, que se atopa na folla "Titulación", na columna "Resultado" na fila de "ValoraciónTotal" da titulación do informe do portal de transparencia. https://secretaria.uvigo.gal/uv/web/transparencia/grupo/show/5/28 | E47: 7 | F47: 3 | G47: 2.1634615 | H47: =+IF(AND(ISBLANK(F47),ISBLANK(G47)),"Introducir Meta e Resultado",IF(ISBLANK(F47),"Introducir Meta",IF(ISBLANK(G47),"Introducir Resultado",IF(G47>=F47,"Meta Conseguida","Meta Non Conseguida")))) -> Meta Non Conseguida | J47: 3 | K47: 3.0869565 | L47: =+IF(AND(ISBLANK(J47),ISBLANK(K47)),"Introducir Meta e Resultado",IF(ISBLANK(J47),"Introducir Meta",IF(ISBLANK(K47),"Introducir Resultado",IF(K47>=J47,"Meta Conseguida","Meta Non Conseguida")))) -> Meta Conseguida | N47: 3 | P47: =+IF(AND(ISBLANK(N47),ISBLANK(O47)),"Introducir Meta e Resultado",IF(ISBLANK(N47),"Introducir Meta",IF(ISBLANK(O47),"Introducir Resultado",IF(O47>=N47,"Meta Conseguida","Meta Non Conseguida")))) -> Introducir Resultado
A48: I20-2 | B48: Índice de satisfacción do Profesorado coas titulacións | C48: MC-05 Medición satisfacción | D48: Cubrir Meta e Resultado. A meta poderá estar entre os valores [1-5] Introducir o Grao de satisfacción do PDI coa titulación, que se atopa na folla "Titulación", na columna "Resultado" na fila de "Valoración Total" da titulación do informe do portal de transparencia. https://secretaria.uvigo.gal/uv/web/transparencia/grupo/show/5/28 No caso que no curso de referencia non houbera resultados, seleccionar o índice do curso pasado | E48: 7 | F48: 3.5 | G48: 3.77 | H48: =+IF(AND(ISBLANK(F48),ISBLANK(G48)),"Introducir Meta e Resultado",IF(ISBLANK(F48),"Introducir Meta",IF(ISBLANK(G48),"Introducir Resultado",IF(G48>=F48,"Meta Conseguida","Meta Non Conseguida")))) -> Meta Conseguida | J48: 3.5 | K48: 3.5797665 | L48: =+IF(AND(ISBLANK(J48),ISBLANK(K48)),"Introducir Meta e Resultado",IF(ISBLANK(J48),"Introducir Meta",IF(ISBLANK(K48),"Introducir Resultado",IF(K48>=J48,"Meta Conseguida","Meta Non Conseguida")))) -> Meta Conseguida | N48: 3.5 | P48: =+IF(AND(ISBLANK(N48),ISBLANK(O48)),"Introducir Meta e Resultado",IF(ISBLANK(N48),"Introducir Meta",IF(ISBLANK(O48),"Introducir Resultado",IF(O48>=N48,"Meta Conseguida","Meta Non Conseguida")))) -> Introducir Resultado
A49: I20-3 | B49: Índice de satisfacción das Persoas tituladas coas titulacións | C49: MC-05 Medición satisfacción | D49: Cubrir Meta e Resultado. A meta poderá estar entre os valores [1-5] Introducir o Grao de satisfacción das Persoas Tituladas coa titulación, que se atopa na folla "Titulación", na columna "Resultado" na fila de "Valoración Total" da titulación do informe do portal de transparencia. https://secretaria.uvigo.gal/uv/web/transparencia/grupo/show/5/28 | E49: 7 | F49: 3.5 | G49: 3.1884058 | H49: =+IF(AND(ISBLANK(F49),ISBLANK(G49)),"Introducir Meta e Resultado",IF(ISBLANK(F49),"Introducir Meta",IF(ISBLANK(G49),"Introducir Resultado",IF(G49>=F49,"Meta Conseguida","Meta Non Conseguida")))) -> Meta Non Conseguida | J49: 3.5 | K49: 2.980198 | L49: =+IF(AND(ISBLANK(J49),ISBLANK(K49)),"Introducir Meta e Resultado",IF(ISBLANK(J49),"Introducir Meta",IF(ISBLANK(K49),"Introducir Resultado",IF(K49>=J49,"Meta Conseguida","Meta Non Conseguida")))) -> Meta Non Conseguida | N49: 3.5 | P49: =+IF(AND(ISBLANK(N49),ISBLANK(O49)),"Introducir Meta e Resultado",IF(ISBLANK(N49),"Introducir Meta",IF(ISBLANK(O49),"Introducir Resultado",IF(O49>=N49,"Meta Conseguida","Meta Non Conseguida")))) -> Introducir Resultado
A50: I20-4 | B50: Índice de satisfacción do PTXAS coas titulacións | C50: MC-05 Medición satisfacción | D50: Cubrir Meta e Resultado. A meta poderá estar entre os valores [1-5] Introducir o Grao de satisfacción do PTXAS coa titulación, que se atopa na folla "Titulación", na columna "Resultado" na fila de "Valoración Total" da titulación do informe do portal de transparencia. https://secretaria.uvigo.gal/uv/web/transparencia/grupo/show/5/28 No caso que no curso de referencia non houbera resultados, seleccionar o índice do curso pasado | E50: 7 | G50: 3.0465116 | H50: =+IF(AND(ISBLANK(F50),ISBLANK(G50)),"Introducir Meta e Resultado",IF(ISBLANK(F50),"Introducir Meta",IF(ISBLANK(G50),"Introducir Resultado",IF(G50>=F50,"Meta Conseguida","Meta Non Conseguida")))) -> Introducir Meta | K50: 4.6666667 | L50: =+IF(AND(ISBLANK(J50),ISBLANK(K50)),"Introducir Meta e Resultado",IF(ISBLANK(J50),"Introducir Meta",IF(ISBLANK(K50),"Introducir Resultado",IF(K50>=J50,"Meta Conseguida","Meta Non Conseguida")))) -> Introducir Meta | N50: 3.5 | P50: =+IF(AND(ISBLANK(N50),ISBLANK(O50)),"Introducir Meta e Resultado",IF(ISBLANK(N50),"Introducir Meta",IF(ISBLANK(O50),"Introducir Resultado",IF(O50>=N50,"Meta Conseguida","Meta Non Conseguida")))) -> Introducir Resultado
A51: I20-5 | B51: Índice de satisfacción de entidades empregadoras coas titulacións | C51: MC-05 Medición satisfacción | D51: Cubrir Meta e Resultado. A meta poderá estar entre os valores [1-5] Introducir o Grao de satisfacción das entidades empregadoras coa titulación, que se atopa na folla "Titulación", na columna "Resultado" do informe achegado pola Área de Calidade. No caso que no curso de referencia non houbera resultados, seleccionar o índice do curso pasado | E51: 7 | G51: ---- | H51: =+IF(AND(ISBLANK(F51),ISBLANK(G51)),"Introducir Meta e Resultado",IF(ISBLANK(F51),"Introducir Meta",IF(ISBLANK(G51),"Introducir Resultado",IF(G51>=F51,"Meta Conseguida","Meta Non Conseguida")))) -> Introducir Meta | K51: ---- | L51: =+IF(AND(ISBLANK(J51),ISBLANK(K51)),"Introducir Meta e Resultado",IF(ISBLANK(J51),"Introducir Meta",IF(ISBLANK(K51),"Introducir Resultado",IF(K51>=J51,"Meta Conseguida","Meta Non Conseguida")))) -> Introducir Meta | N51: 3.5 | P51: =+IF(AND(ISBLANK(N51),ISBLANK(O51)),"Introducir Meta e Resultado",IF(ISBLANK(N51),"Introducir Meta",IF(ISBLANK(O51),"Introducir Resultado",IF(O51>=N51,"Meta Conseguida","Meta Non Conseguida")))) -> Introducir Resultado
A52: I21 | B52: Taxa de abandono (Egreso) | C52: DE-02 Seguimento e Medición; DE-03 Revisión do sistema pola dirección | D52: Cubrir Meta e Resultado. O indicador acádase se o resultado é igual ou inferior á meta Elixir o documento excel do grao ou máster segundo o caso, do menú ABA. abandono https://secretaria.uvigo.gal/uv/web/transparencia/informe/show/5/51/65 | E52: 7 | F52: 0.2 | G52: 0.1698 | H52: =+IF(AND(ISBLANK(F52),ISBLANK(G52)),"Introducir Meta e Resultado",IF(ISBLANK(F52),"Introducir Meta",IF(ISBLANK(G52),"Introducir Resultado",IF(G52<=F52,"Meta Conseguida","Meta Non Conseguida")))) -> Meta Conseguida | J52: 0.2 | K52: 0.2449 | L52: =+IF(AND(ISBLANK(J52),ISBLANK(K52)),"Introducir Meta e Resultado",IF(ISBLANK(J52),"Introducir Meta",IF(ISBLANK(K52),"Introducir Resultado",IF(K52<=J52,"Meta Conseguida","Meta Non Conseguida")))) -> Meta Non Conseguida | N52: 0.2 | P52: =+IF(AND(ISBLANK(N52),ISBLANK(O52)),"Introducir Meta e Resultado",IF(ISBLANK(N52),"Introducir Meta",IF(ISBLANK(O52),"Introducir Resultado",IF(O52<=N52,"Meta Conseguida","Meta Non Conseguida")))) -> Introducir Resultado
A53: I22 | B53: Taxa de cambio de estudo | C53: DE-02 Seguimento e Medición; DE-03 Revisión do sistema pola dirección | D53: Cubrir Meta e Resultado. O indicador acádase se o resultado é igual ou inferior á meta Elixir o documento excel do grao ou máster segundo o caso, do menú ABA. abandono https://secretaria.uvigo.gal/uv/web/transparencia/informe/show/5/51/65 | E53: 7 | G53: 0 | H53: =+IF(AND(ISBLANK(F53),ISBLANK(G53)),"Introducir Meta e Resultado",IF(ISBLANK(F53),"Introducir Meta",IF(ISBLANK(G53),"Introducir Resultado",IF(G53<=F53,"Meta Conseguida","Meta Non Conseguida")))) -> Introducir Meta | K53: 0.0204 | L53: =+IF(AND(ISBLANK(J53),ISBLANK(K53)),"Introducir Meta e Resultado",IF(ISBLANK(J53),"Introducir Meta",IF(ISBLANK(K53),"Introducir Resultado",IF(K53<=J53,"Meta Conseguida","Meta Non Conseguida")))) -> Introducir Meta | N53: 0.02 | P53: =+IF(AND(ISBLANK(N53),ISBLANK(O53)),"Introducir Meta e Resultado",IF(ISBLANK(N53),"Introducir Meta",IF(ISBLANK(O53),"Introducir Resultado",IF(O53<=N53,"Meta Conseguida","Meta Non Conseguida")))) -> Introducir Resultado
A54: I23 | B54: Índice de satisfacción cos recursos materiais e servizos | C54: IA-01: Xestión dos recursos materiais e dos servizos | D54: Nº dos obxectivos (I23-1, I23-2, I23-3 e I23-4) que se acadan | E54: 5 | F54: =+COUNTA(F55:F58) -> 0 | G54: =+COUNTIF(H55:H58,"Meta Conseguida") -> 0 | H54: =+IF((G54+F54)=0,"Introducir Meta e Resultado",IF(COUNTA(G55:G58)=0,"Indicador Sen Resultados",IF(G54=0,"Ningunha Meta Alcanzada",IF(G54>=F54,"Meta Totalmente Alcanzada",IF(G54>0,"Meta Parcialmente Alcanzada"))))) -> Introducir Meta e Resultado | J54: =+COUNTA(J55:J58) -> 0 | K54: =+COUNTIF(L55:L58,"Meta Conseguida") -> 0 | L54: =+IF((K54+J54)=0,"Introducir Meta e Resultado",IF(COUNTA(K55:K58)=0,"Indicador Sen Resultados",IF(K54=0,"Ningunha Meta Alcanzada",IF(K54>=J54,"Meta Totalmente Alcanzada",IF(K54>0,"Meta Parcialmente Alcanzada"))))) -> Introducir Meta e Resultado | N54: =+COUNTA(N55:N58) -> 4 | O54: =+COUNTIF(P55:P58,"Meta Conseguida") -> 0 | P54: =+IF((O54+N54)=0,"Introducir Meta e Resultado",IF(COUNTA(O55:O58)=0,"Indicador Sen Resultados",IF(O54=0,"Ningunha Meta Alcanzada",IF(O54>=N54,"Meta Totalmente Alcanzada",IF(O54>0,"Meta Parcialmente Alcanzada"))))) -> Indicador Sen Resultados
A55: I23-1 | B55: Satisfacción do Estudantado cos recursos materiais e servizos | C55: IA-01: Xestión dos recursos materiais e dos servizos | D55: Cubrir Meta e Resultado. A meta poderá estar entre os valores [1-5] Introducir o valor que se atopa na folla de "Bloque", na columna "Resultado" na fila "Valoración Total" do "Bloque 5 Recursos materiais e servizos" da titulación do informe de "Enquisas de Satisfacción de estudantado" do portal de transparencia. https://secretaria.uvigo.gal/uv/web/transparencia/grupo/show/5/28 | E55: 5 | G55: 2.3636364 | H55: =+IF(AND(ISBLANK(F55),ISBLANK(G55)),"Introducir Meta e Resultado",IF(ISBLANK(F55),"Introducir Meta",IF(ISBLANK(G55),"Introducir Resultado",IF(G55>=F55,"Meta Conseguida","Meta Non Conseguida")))) -> Introducir Meta | K55: 2.6428571 | L55: =+IF(AND(ISBLANK(J55),ISBLANK(K55)),"Introducir Meta e Resultado",IF(ISBLANK(J55),"Introducir Meta",IF(ISBLANK(K55),"Introducir Resultado",IF(K55>=J55,"Meta Conseguida","Meta Non Conseguida")))) -> Introducir Meta | N55: 3 | P55: =+IF(AND(ISBLANK(N55),ISBLANK(O55)),"Introducir Meta e Resultado",IF(ISBLANK(N55),"Introducir Meta",IF(ISBLANK(O55),"Introducir Resultado",IF(O55>=N55,"Meta Conseguida","Meta Non Conseguida")))) -> Introducir Resultado
A56: I23-2 | B56: Satisfacción do Profesorado cos recursos materiais e servizos | C56: IA-01: Xestión dos recursos materiais e dos servizos | D56: Cubrir Meta e Resultado. A meta poderá estar entre os valores [1-5] Introducir o valor que se atopa na folla de "Bloque", na columna "Resultado" na fila "Valoración Total" do "Bloque 5 Recursos materiais e servizos" da titulación do informe de "Enquisas de Satisfacción do Profesorado" do portal de transparencia. https://secretaria.uvigo.gal/uv/web/transparencia/grupo/show/5/28 No caso que no curso de referencia non houbera resultados, seleccionar o índice do curso pasado | E56: 5 | G56: 4.01 | H56: =+IF(AND(ISBLANK(F56),ISBLANK(G56)),"Introducir Meta e Resultado",IF(ISBLANK(F56),"Introducir Meta",IF(ISBLANK(G56),"Introducir Resultado",IF(G56>=F56,"Meta Conseguida","Meta Non Conseguida")))) -> Introducir Meta | K56: 4.0181818 | L56: =+IF(AND(ISBLANK(J56),ISBLANK(K56)),"Introducir Meta e Resultado",IF(ISBLANK(J56),"Introducir Meta",IF(ISBLANK(K56),"Introducir Resultado",IF(K56>=J56,"Meta Conseguida","Meta Non Conseguida")))) -> Introducir Meta | N56: 4 | P56: =+IF(AND(ISBLANK(N56),ISBLANK(O56)),"Introducir Meta e Resultado",IF(ISBLANK(N56),"Introducir Meta",IF(ISBLANK(O56),"Introducir Resultado",IF(O56>=N56,"Meta Conseguida","Meta Non Conseguida")))) -> Introducir Resultado
A57: I23-3 | B57: Satisfacción das Persoas tituladas cos recursos materiais e servizos | C57: IA-01: Xestión dos recursos materiais e dos servizos | D57: Cubrir Meta e Resultado. A meta poderá estar entre os valores [1-5] Introducir o valor que se atopa na folla de "Bloque", na columna "Resultado" na fila "Valoración Total" do "Bloque 5 Recursos materiais e servizos" da titulación do informe de "Enquisas de Satisfacción dos/das egresados/as " do portal de transparencia. https://secretaria.uvigo.gal/uv/web/transparencia/grupo/show/5/28 | E57: 5 | G57: 3.4166667 | H57: =+IF(AND(ISBLANK(F57),ISBLANK(G57)),"Introducir Meta e Resultado",IF(ISBLANK(F57),"Introducir Meta",IF(ISBLANK(G57),"Introducir Resultado",IF(G57>=F57,"Meta Conseguida","Meta Non Conseguida")))) -> Introducir Meta | K57: 3 | L57: =+IF(AND(ISBLANK(J57),ISBLANK(K57)),"Introducir Meta e Resultado",IF(ISBLANK(J57),"Introducir Meta",IF(ISBLANK(K57),"Introducir Resultado",IF(K57>=J57,"Meta Conseguida","Meta Non Conseguida")))) -> Introducir Meta | N57: 3 | P57: =+IF(AND(ISBLANK(N57),ISBLANK(O57)),"Introducir Meta e Resultado",IF(ISBLANK(N57),"Introducir Meta",IF(ISBLANK(O57),"Introducir Resultado",IF(O57>=N57,"Meta Conseguida","Meta Non Conseguida")))) -> Introducir Resultado
A58: I23-4 | B58: Satisfacción do PTXAS cos recursos materiais e servizos | C58: IA-01: Xestión dos recursos materiais e dos servizos | D58: Cubrir Meta e Resultado. A meta poderá estar entre os valores [1-5] Introducir o valor que se atopa na folla de "Bloque", na columna "Resultado" na fila "Valoración Total" do "Bloque 4 Recursos materiais e servizos" da titulación do informe de "Enquisas de Satisfacción do PTXAS" do portal de transparencia. https://secretaria.uvigo.gal/uv/web/transparencia/grupo/show/5/28 No caso que no curso de referencia non houbera resultados, seleccionar o índice do curso pasado | E58: 5 | G58: 3.1666667 | H58: =+IF(AND(ISBLANK(F58),ISBLANK(G58)),"Introducir Meta e Resultado",IF(ISBLANK(F58),"Introducir Meta",IF(ISBLANK(G58),"Introducir Resultado",IF(G58>=F58,"Meta Conseguida","Meta Non Conseguida")))) -> Introducir Meta | K58: 5 | L58: =+IF(AND(ISBLANK(J58),ISBLANK(K58)),"Introducir Meta e Resultado",IF(ISBLANK(J58),"Introducir Meta",IF(ISBLANK(K58),"Introducir Resultado",IF(K58>=J58,"Meta Conseguida","Meta Non Conseguida")))) -> Introducir Meta | N58: 3.5 | P58: =+IF(AND(ISBLANK(N58),ISBLANK(O58)),"Introducir Meta e Resultado",IF(ISBLANK(N58),"Introducir Meta",IF(ISBLANK(O58),"Introducir Resultado",IF(O58>=N58,"Meta Conseguida","Meta Non Conseguida")))) -> Introducir Resultado
A59: I24 | B59: Índice de satisfacción coa orientación recibida no centro | C59: DO-0203: Orientación do estudantado e atención ás NEAE | D59: Nº dos obxectivos (I24-1, I24-2, I24-3 e I24-4) que se acadan | E59: 5 | F59: =+COUNTA(F60:F63) -> 0 | G59: =+COUNTIF(H60:H63,"Meta Conseguida") -> 0 | H59: =+IF((G59+F59)=0,"Introducir Meta e Resultado",IF(COUNTA(G60:G63)=0,"Indicador Sen Resultados",IF(G59=0,"Ningunha Meta Alcanzada",IF(G59>=F59,"Meta Totalmente Alcanzada",IF(G59>0,"Meta Parcialmente Alcanzada"))))) -> Introducir Meta e Resultado | J59: =+COUNTA(J60:J63) -> 0 | K59: =+COUNTIF(L60:L63,"Meta Conseguida") -> 0 | L59: =+IF((K59+J59)=0,"Introducir Meta e Resultado",IF(COUNTA(K60:K63)=0,"Indicador Sen Resultados",IF(K59=0,"Ningunha Meta Alcanzada",IF(K59>=J59,"Meta Totalmente Alcanzada",IF(K59>0,"Meta Parcialmente Alcanzada"))))) -> Introducir Meta e Resultado | N59: =+COUNTA(N60:N63) -> 4 | O59: =+COUNTIF(P60:P63,"Meta Conseguida") -> 0 | P59: =+IF((O59+N59)=0,"Introducir Meta e Resultado",IF(COUNTA(O60:O63)=0,"Indicador Sen Resultados",IF(O59=0,"Ningunha Meta Alcanzada",IF(O59>=N59,"Meta Totalmente Alcanzada",IF(O59>0,"Meta Parcialmente Alcanzada"))))) -> Indicador Sen Resultados
A60: I24-1 | B60: Satisfacción do Estudantado coa orientación recibida no centro | C60: DO-0203: Orientación do estudantado e atención ás NEAE | D60: Cubrir Meta e Resultado. A meta poderá estar entre os valores [1-5] Introducir o Valor que se atopa na folla "Preguntas", na columna "Resultado" na fila "Valoración Total" da pregunta Nº 6 "Orientación académica recibida no PAT"do informe "Enquisas de Satisfacción de estudantado", do portal de transparencia. https://secretaria.uvigo.gal/uv/web/transparencia/grupo/show/5/28 | E60: 5 | G60: 1.1666667 | H60: =+IF(AND(ISBLANK(F60),ISBLANK(G60)),"Introducir Meta e Resultado",IF(ISBLANK(F60),"Introducir Meta",IF(ISBLANK(G60),"Introducir Resultado",IF(G60>=F60,"Meta Conseguida","Meta Non Conseguida")))) -> Introducir Meta | K60: 2.75 | L60: =+IF(AND(ISBLANK(J60),ISBLANK(K60)),"Introducir Meta e Resultado",IF(ISBLANK(J60),"Introducir Meta",IF(ISBLANK(K60),"Introducir Resultado",IF(K60>=J60,"Meta Conseguida","Meta Non Conseguida")))) -> Introducir Meta | N60: 3 | P60: =+IF(AND(ISBLANK(N60),ISBLANK(O60)),"Introducir Meta e Resultado",IF(ISBLANK(N60),"Introducir Meta",IF(ISBLANK(O60),"Introducir Resultado",IF(O60>=N60,"Meta Conseguida","Meta Non Conseguida")))) -> Introducir Resultado
A61: I24-2 | B61: Satisfacción do Profesorado coa orientación académica recibida no centro | C61: DO-0203: Orientación do estudantado e atención ás NEAE | D61: Cubrir Meta e Resultado. A meta poderá estar entre os valores [1-5] Introducir o Valor que se atopa na folla "Preguntas", na columna "Resultado" na fila "Valoración Total" da pregunta Nº 6 "Orientación académica programada no PAT"do informe "Enquisas de Satisfacción de profesorado do portal de transparencia. https://secretaria.uvigo.gal/uv/web/transparencia/grupo/show/5/28 | E61: 5 | H61: =+IF(AND(ISBLANK(F61),ISBLANK(G61)),"Introducir Meta e Resultado",IF(ISBLANK(F61),"Introducir Meta",IF(ISBLANK(G61),"Introducir Resultado",IF(G61>=F61,"Meta Conseguida","Meta Non Conseguida")))) -> Introducir Meta e Resultado | K61: 3 | L61: =+IF(AND(ISBLANK(J61),ISBLANK(K61)),"Introducir Meta e Resultado",IF(ISBLANK(J61),"Introducir Meta",IF(ISBLANK(K61),"Introducir Resultado",IF(K61>=J61,"Meta Conseguida","Meta Non Conseguida")))) -> Introducir Meta | N61: 4 | P61: =+IF(AND(ISBLANK(N61),ISBLANK(O61)),"Introducir Meta e Resultado",IF(ISBLANK(N61),"Introducir Meta",IF(ISBLANK(O61),"Introducir Resultado",IF(O61>=N61,"Meta Conseguida","Meta Non Conseguida")))) -> Introducir Resultado
A62: I24-3 | B62: Satisfacción das Persoas tituladas coa orientación académica recibida no centro | C62: DO-0203: Orientación do estudantado e atención ás NEAE | D62: Cubrir Meta e Resultado. A meta poderá estar entre os valores [1-5] Introducir o valor que se atopa na folla "Preguntas", na columna "Resultado" nas filas "Valoración Total da pregunta Nº4 "Orientación académica recibida" do informe "Enquisas de Satisfacción dos/das egresados/as", do portal de transparencia. https://secretaria.uvigo.gal/uv/web/transparencia/grupo/show/5/28 | E62: 5 | G62: 2.25 | H62: =+IF(AND(ISBLANK(F62),ISBLANK(G62)),"Introducir Meta e Resultado",IF(ISBLANK(F62),"Introducir Meta",IF(ISBLANK(G62),"Introducir Resultado",IF(G62>=F62,"Meta Conseguida","Meta Non Conseguida")))) -> Introducir Meta | K62: 2.8333333 | L62: =+IF(AND(ISBLANK(J62),ISBLANK(K62)),"Introducir Meta e Resultado",IF(ISBLANK(J62),"Introducir Meta",IF(ISBLANK(K62),"Introducir Resultado",IF(K62>=J62,"Meta Conseguida","Meta Non Conseguida")))) -> Introducir Meta | N62: 3 | P62: =+IF(AND(ISBLANK(N62),ISBLANK(O62)),"Introducir Meta e Resultado",IF(ISBLANK(N62),"Introducir Meta",IF(ISBLANK(O62),"Introducir Resultado",IF(O62>=N62,"Meta Conseguida","Meta Non Conseguida")))) -> Introducir Resultado
A63: I24-4 | B63: Satisfacción das Persoas tituladas coa orientación profesional e laboral recibida no centro | C63: DO-0203: Orientación do estudantado e atención ás NEAE | D63: Cubrir Meta e Resultado Introducir o valor que se atopa na folla "Preguntas", na columna "Resultado" nas filas "Valoración Total da pregunta Nº5 "Orientación profesional e laboral recibida", do informe "Enquisas de Satisfacción dos/das egresados/as", do portal de transparencia" https://secretaria.uvigo.gal/uv/web/transparencia/grupo/show/5/28 | E63: 5 | G63: 1.625 | H63: =+IF(AND(ISBLANK(F63),ISBLANK(G63)),"Introducir Meta e Resultado",IF(ISBLANK(F63),"Introducir Meta",IF(ISBLANK(G63),"Introducir Resultado",IF(G63>=F63,"Meta Conseguida","Meta Non Conseguida")))) -> Introducir Meta | K63: 4 | L63: =+IF(AND(ISBLANK(J63),ISBLANK(K63)),"Introducir Meta e Resultado",IF(ISBLANK(J63),"Introducir Meta",IF(ISBLANK(K63),"Introducir Resultado",IF(K63>=J63,"Meta Conseguida","Meta Non Conseguida")))) -> Introducir Meta | N63: 3 | P63: =+IF(AND(ISBLANK(N63),ISBLANK(O63)),"Introducir Meta e Resultado",IF(ISBLANK(N63),"Introducir Meta",IF(ISBLANK(O63),"Introducir Resultado",IF(O63>=N63,"Meta Conseguida","Meta Non Conseguida")))) -> Introducir Resultado
A64: I25 | B64: % Alumnado en prácticas académicas | C64: DO-0204: Xestión das prácticas académicas | D64: Cubrir Meta e Resultado Esta porcentaxe é o estudantado que realiza prácticas sobre o total do estudantado que está matriculado na titulación, non sobre o estudantado que pode realizar prácticas. Elixir "% estudantes en prácticas sobre matrícula" da titulación, na folla "total_Centro_titulación" do documento "prácticas" https://secretaria.uvigo.gal/uv/web/transparencia/informe/show/5/5/9 | E64: 5 | G64: 0 | H64: =+IF(AND(ISBLANK(F64),ISBLANK(G64)),"Introducir Meta e Resultado",IF(ISBLANK(F64),"Introducir Meta",IF(ISBLANK(G64),"Introducir Resultado",IF(G64>=F64,"Meta Conseguida","Meta Non Conseguida")))) -> Introducir Meta | K64: 0.0051813472 | L64: =+IF(AND(ISBLANK(J64),ISBLANK(K64)),"Introducir Meta e Resultado",IF(ISBLANK(J64),"Introducir Meta",IF(ISBLANK(K64),"Introducir Resultado",IF(K64>=J64,"Meta Conseguida","Meta Non Conseguida")))) -> Introducir Meta | P64: =+IF(AND(ISBLANK(N64),ISBLANK(O64)),"Introducir Meta e Resultado",IF(ISBLANK(N64),"Introducir Meta",IF(ISBLANK(O64),"Introducir Resultado",IF(O64>=N64,"Meta Conseguida","Meta Non Conseguida")))) -> Introducir Meta e Resultado
A65: I26 | B65: Índice de satisfacción coa promoción da titulación e a información pública na web | C65: DO-0301 Información Pública | D65: Nº dos obxectivos (I26-1, I26-2, I26-3 e I26-4) que se acadan | E65: 2 | F65: =+COUNTA(F66:F69) -> 0 | G65: =+COUNTIF(H66:H69,"Meta Conseguida") -> 0 | H65: =+IF((G65+F65)=0,"Introducir Meta e Resultado",IF(COUNTA(G66:G69)=0,"Indicador Sen Resultados",IF(G65=0,"Ningunha Meta Alcanzada",IF(G65>=F65,"Meta Totalmente Alcanzada",IF(G65>0,"Meta Parcialmente Alcanzada"))))) -> Introducir Meta e Resultado | J65: =+COUNTA(J66:J69) -> 0 | K65: =+COUNTIF(L66:L69,"Meta Conseguida") -> 0 | L65: =+IF((K65+J65)=0,"Introducir Meta e Resultado",IF(COUNTA(K66:K69)=0,"Indicador Sen Resultados",IF(K65=0,"Ningunha Meta Alcanzada",IF(K65>=J65,"Meta Totalmente Alcanzada",IF(K65>0,"Meta Parcialmente Alcanzada"))))) -> Introducir Meta e Resultado | N65: =+COUNTA(N66:N69) -> 4 | O65: =+COUNTIF(P66:P69,"Meta Conseguida") -> 0 | P65: =+IF((O65+N65)=0,"Introducir Meta e Resultado",IF(COUNTA(O66:O69)=0,"Indicador Sen Resultados",IF(O65=0,"Ningunha Meta Alcanzada",IF(O65>=N65,"Meta Totalmente Alcanzada",IF(O65>0,"Meta Parcialmente Alcanzada"))))) -> Indicador Sen Resultados
A66: I26-1 | B66: Satisfacción do Estudantado coa promoción da titulación e a información pública na web | C66: DO-0301 Información Pública | D66: Cubrir Meta e Resultado. A meta poderá estar entre os valores [1-5] Indicar o Valor que se atopa na folla de "Bloque", na columna "Resultado" na fila "Valoración Total" do "Bloque 2 Información e Transparencia" da titulación correspondente do informe de "Enquisas de Satisfacción de estudantado" do portal de transparencia. https://secretaria.uvigo.gal/uv/web/transparencia/grupo/show/5/28 | E66: 2 | G66: 2.1111111 | H66: =+IF(AND(ISBLANK(F66),ISBLANK(G66)),"Introducir Meta e Resultado",IF(ISBLANK(F66),"Introducir Meta",IF(ISBLANK(G66),"Introducir Resultado",IF(G66>=F66,"Meta Conseguida","Meta Non Conseguida")))) -> Introducir Meta | K66: 3.0833333 | L66: =+IF(AND(ISBLANK(J66),ISBLANK(K66)),"Introducir Meta e Resultado",IF(ISBLANK(J66),"Introducir Meta",IF(ISBLANK(K66),"Introducir Resultado",IF(K66>=J66,"Meta Conseguida","Meta Non Conseguida")))) -> Introducir Meta | N66: 3 | P66: =+IF(AND(ISBLANK(N66),ISBLANK(O66)),"Introducir Meta e Resultado",IF(ISBLANK(N66),"Introducir Meta",IF(ISBLANK(O66),"Introducir Resultado",IF(O66>=N66,"Meta Conseguida","Meta Non Conseguida")))) -> Introducir Resultado
A67: I26-2 | B67: Satisfacción do Profesorado coa promoción da titulación e a información pública na web | C67: DO-0301 Información Pública | D67: Cubrir Meta e Resultado. A meta poderá estar entre os valores [1-5] Indicar o Valor que se atopa na folla de "Bloque", na columna "Resultado" na fila "Valoración Total" do "Bloque 2 Información e Transparencia" da titulación correspondente do informe de "Enquisas de Satisfacción do Profesorado" do portal de transparencia. https://secretaria.uvigo.gal/uv/web/transparencia/grupo/show/5/28 No caso que no curso de referencia non houbera resultados, seleccionar o índice do curso pasado | E67: 2 | G67: 3.84 | H67: =+IF(AND(ISBLANK(F67),ISBLANK(G67)),"Introducir Meta e Resultado",IF(ISBLANK(F67),"Introducir Meta",IF(ISBLANK(G67),"Introducir Resultado",IF(G67>=F67,"Meta Conseguida","Meta Non Conseguida")))) -> Introducir Meta | K67: 3.6785714 | L67: =+IF(AND(ISBLANK(J67),ISBLANK(K67)),"Introducir Meta e Resultado",IF(ISBLANK(J67),"Introducir Meta",IF(ISBLANK(K67),"Introducir Resultado",IF(K67>=J67,"Meta Conseguida","Meta Non Conseguida")))) -> Introducir Meta | N67: 3.5 | P67: =+IF(AND(ISBLANK(N67),ISBLANK(O67)),"Introducir Meta e Resultado",IF(ISBLANK(N67),"Introducir Meta",IF(ISBLANK(O67),"Introducir Resultado",IF(O67>=N67,"Meta Conseguida","Meta Non Conseguida")))) -> Introducir Resultado
A68: I26-3 | B68: Satisfacción das Persoas tituladas coa promoción da titulación e a información pública na web | C68: DO-0301 Información Pública | D68: Cubrir Meta e Resultado. A meta poderá estar entre os valores [1-5] Indicar o Valor que se atopa na folla de "Bloque", na columna "Resultado" na fila "Valoración Total" do "Bloque 2 Información e Transparencia" da titulación correspondente do informe de "Enquisas de Satisfacción dos/das egresados/as " do portal de transparencia. https://secretaria.uvigo.gal/uv/web/transparencia/grupo/show/5/28 | E68: 2 | G68: 3.625 | H68: =+IF(AND(ISBLANK(F68),ISBLANK(G68)),"Introducir Meta e Resultado",IF(ISBLANK(F68),"Introducir Meta",IF(ISBLANK(G68),"Introducir Resultado",IF(G68>=F68,"Meta Conseguida","Meta Non Conseguida")))) -> Introducir Meta | K68: 3.1666667 | L68: =+IF(AND(ISBLANK(J68),ISBLANK(K68)),"Introducir Meta e Resultado",IF(ISBLANK(J68),"Introducir Meta",IF(ISBLANK(K68),"Introducir Resultado",IF(K68>=J68,"Meta Conseguida","Meta Non Conseguida")))) -> Introducir Meta | N68: 3.5 | P68: =+IF(AND(ISBLANK(N68),ISBLANK(O68)),"Introducir Meta e Resultado",IF(ISBLANK(N68),"Introducir Meta",IF(ISBLANK(O68),"Introducir Resultado",IF(O68>=N68,"Meta Conseguida","Meta Non Conseguida")))) -> Introducir Resultado
A69: I26-4 | B69: Satisfacción do PTXAS coa promoción da titulación e a información pública na web | C69: DO-0301 Información Pública | D69: Cubrir Meta e Resultado. A meta poderá estar entre os valores [1-5] Indicar o Valor que se atopa na folla de "Bloque", na columna "Resultado" na fila "Valoración Total" do "Bloque 1 Información Xeral" da titulación do informe de "Enquisas de Satisfacción do PAS" do portal de transparencia. https://secretaria.uvigo.gal/uv/web/transparencia/grupo/show/5/28 No caso que no curso de referencia non houbera resultados, seleccionar o índice do curso pasado | E69: 2 | G69: 3 | H69: =+IF(AND(ISBLANK(F69),ISBLANK(G69)),"Introducir Meta e Resultado",IF(ISBLANK(F69),"Introducir Meta",IF(ISBLANK(G69),"Introducir Resultado",IF(G69>=F69,"Meta Conseguida","Meta Non Conseguida")))) -> Introducir Meta | K69: 4.6666667 | L69: =+IF(AND(ISBLANK(J69),ISBLANK(K69)),"Introducir Meta e Resultado",IF(ISBLANK(J69),"Introducir Meta",IF(ISBLANK(K69),"Introducir Resultado",IF(K69>=J69,"Meta Conseguida","Meta Non Conseguida")))) -> Introducir Meta | N69: 3.5 | P69: =+IF(AND(ISBLANK(N69),ISBLANK(O69)),"Introducir Meta e Resultado",IF(ISBLANK(N69),"Introducir Meta",IF(ISBLANK(O69),"Introducir Resultado",IF(O69>=N69,"Meta Conseguida","Meta Non Conseguida")))) -> Introducir Resultado
A70: I34 | B70: Nº Accións de mellora definidas neste curso | C70: DO-0102: Seguimento e mellora das titulacións | D70: Só cubrir o Resultado, é un indicador informativo Nº de melloras rexistradas asociadas á titulación na aplicación SGIC neste curso | E70: 3 | F70: ---- | G70: 3 | H70: =+IF(ISBLANK(G70),"Introducir Resultado","Indicador Completado") -> Indicador Completado | J70: ---- | L70: =+IF(ISBLANK(K70),"Introducir Resultado","Indicador Completado") -> Introducir Resultado | N70: ---- | P70: =+IF(ISBLANK(O70),"Introducir Resultado","Indicador Completado") -> Introducir Resultado
A71: I35 | B71: Nota media do acceso | C71: DO-0202 Promoción das titulacións | D71: Cubrir Meta e Resultado Escoller o documento de Nota Media dos graos ou másters segundo o caso: https://secretaria.uvigo.gal/uv/web/transparencia/informe/show/5/51/63 Posteriormente elixir a columna "Nota media de acceso" da fila "Título de Bacharelato do Sistema Educativo Español" da titulación. | E71: 7 | F71: 7 | G71: 8.4912777 | H71: =+IF(AND(ISBLANK(F71),ISBLANK(G71)),"Introducir Meta e Resultado",IF(ISBLANK(F71),"Introducir Meta",IF(ISBLANK(G71),"Introducir Resultado",IF(G71>=F71,"Meta Conseguida","Meta Non Conseguida")))) -> Meta Conseguida | J71: 7 | K71: 8.13 | L71: =+IF(AND(ISBLANK(J71),ISBLANK(K71)),"Introducir Meta e Resultado",IF(ISBLANK(J71),"Introducir Meta",IF(ISBLANK(K71),"Introducir Resultado",IF(K71>=J71,"Meta Conseguida","Meta Non Conseguida")))) -> Meta Conseguida | N71: 8 | P71: =+IF(AND(ISBLANK(N71),ISBLANK(O71)),"Introducir Meta e Resultado",IF(ISBLANK(N71),"Introducir Meta",IF(ISBLANK(O71),"Introducir Resultado",IF(O71>=N71,"Meta Conseguida","Meta Non Conseguida")))) -> Introducir Resultado
A72: I36 | B72: Nº Estudantado titorizado | C72: DO-0203: Orientación do estudantado e atención ás NEAE | D72: Só cubrir o Resultado, é un indicador informativo Nº de estudantado incluído no PAT | E72: 5 | F72: ---- | H72: =+IF(ISBLANK(G72),"Introducir Resultado","Indicador Completado") -> Introducir Resultado | J72: ---- | L72: =+IF(ISBLANK(K72),"Introducir Resultado","Indicador Completado") -> Introducir Resultado | N72: ---- | P72: =+IF(ISBLANK(O72),"Introducir Resultado","Indicador Completado") -> Introducir Resultado
A73: I37 | B73: Grao de Satisfacción do estudantado co PAT | C73: DO-0203: Orientación do estudantado e atención ás NEAE | D73: Cubrir Meta e Resultado. Introducir o Grao de satisfacción do estudantado co PAT, mediante unha enquisa de realización propia. No caso de utilizar a enquisa do Anexo IV-A da "Guía para a elaboración do PAT", incluiríase o valor do ítem 4 " Valore o grao de utilidade do PAT" | E73: 5 | H73: =+IF(AND(ISBLANK(F73),ISBLANK(G73)),"Introducir Meta e Resultado",IF(ISBLANK(F73),"Introducir Meta",IF(ISBLANK(G73),"Introducir Resultado",IF(G73>=F73,"Meta Conseguida","Meta Non Conseguida")))) -> Introducir Meta e Resultado | L73: =+IF(AND(ISBLANK(J73),ISBLANK(K73)),"Introducir Meta e Resultado",IF(ISBLANK(J73),"Introducir Meta",IF(ISBLANK(K73),"Introducir Resultado",IF(K73>=J73,"Meta Conseguida","Meta Non Conseguida")))) -> Introducir Meta e Resultado | N73: 3 | P73: =+IF(AND(ISBLANK(N73),ISBLANK(O73)),"Introducir Meta e Resultado",IF(ISBLANK(N73),"Introducir Meta",IF(ISBLANK(O73),"Introducir Resultado",IF(O73>=N73,"Meta Conseguida","Meta Non Conseguida")))) -> Introducir Resultado
A74: I38 | B74: Grao de satisfacción das Persoas Tituladas coas Prácticas | C74: DO-0204: Xestión das prácticas académicas | D74: Cubrir Meta e Resultado. A meta poderá estar entre os valores [1-5] Indicar o Valor que se atopa na Folla de "Bloque", na columna "Resultado" na fila "Valoración Total" do "Bloque 7 Prácticas Externas" da titulación correspondente do informe de "Enquisas de satisfacción de egresados/as" do portal de transparencia https://secretaria.uvigo.gal/uv/web/transparencia/grupo/show/5/28 | E74: 5 | G74: 4 | H74: =+IF(AND(ISBLANK(F74),ISBLANK(G74)),"Introducir Meta e Resultado",IF(ISBLANK(F74),"Introducir Meta",IF(ISBLANK(G74),"Introducir Resultado",IF(G74>=F74,"Meta Conseguida","Meta Non Conseguida")))) -> Introducir Meta | K74: ---- | L74: =+IF(AND(ISBLANK(J74),ISBLANK(K74)),"Introducir Meta e Resultado",IF(ISBLANK(J74),"Introducir Meta",IF(ISBLANK(K74),"Introducir Resultado",IF(K74>=J74,"Meta Conseguida","Meta Non Conseguida")))) -> Introducir Meta | N74: 3.5 | P74: =+IF(AND(ISBLANK(N74),ISBLANK(O74)),"Introducir Meta e Resultado",IF(ISBLANK(N74),"Introducir Meta",IF(ISBLANK(O74),"Introducir Resultado",IF(O74>=N74,"Meta Conseguida","Meta Non Conseguida")))) -> Introducir Resultado
A75: I39 | B75: Grao de satisfacción cos RRHH | C75: PE-01 Xestión do PAS | D75: Nº dos obxectivos (I39-1, I39-2, I39-3 e I39-4) que se acadan | E75: 4 | F75: =+COUNTA(F76:F79) -> 0 | G75: =+COUNTIF(H76:H79,"Meta Conseguida") -> 0 | H75: =+IF((G75+F75)=0,"Introducir Meta e Resultado",IF(COUNTA(G76:G79)=0,"Indicador Sen Resultados",IF(G75=0,"Ningunha Meta Alcanzada",IF(G75>=F75,"Meta Totalmente Alcanzada",IF(G75>0,"Meta Parcialmente Alcanzada"))))) -> Introducir Meta e Resultado | J75: =+COUNTA(J76:J79) -> 0 | K75: =+COUNTIF(L76:L79,"Meta Conseguida") -> 0 | L75: =+IF((K75+J75)=0,"Introducir Meta e Resultado",IF(COUNTA(K76:K79)=0,"Indicador Sen Resultados",IF(K75=0,"Ningunha Meta Alcanzada",IF(K75>=J75,"Meta Totalmente Alcanzada",IF(K75>0,"Meta Parcialmente Alcanzada"))))) -> Introducir Meta e Resultado | N75: =+COUNTA(N76:N79) -> 4 | O75: =+COUNTIF(P76:P79,"Meta Conseguida") -> 0 | P75: =+IF((O75+N75)=0,"Introducir Meta e Resultado",IF(COUNTA(O76:O79)=0,"Indicador Sen Resultados",IF(O75=0,"Ningunha Meta Alcanzada",IF(O75>=N75,"Meta Totalmente Alcanzada",IF(O75>0,"Meta Parcialmente Alcanzada"))))) -> Indicador Sen Resultados
A76: I39-1 | B76: Satisfacción do Estudantado cos RRHH da titulación | C76: PE-01 Xestión do PAS | D76: Cubrir Meta e Resultado. A meta poderá estar entre os valores [1-5] Introducir o Valor que se atopa na folla de "Bloque", na columna "Resultado" na fila "Valoración Total" do "Bloque 4 Recursos Humanos" da titulación de "Enquisas de Satisfacción de estudantado" do portal de transparencia. https://secretaria.uvigo.gal/uv/web/transparencia/grupo/show/5/28 | E76: 4 | G76: 2.1666667 | H76: =+IF(AND(ISBLANK(F76),ISBLANK(G76)),"Introducir Meta e Resultado",IF(ISBLANK(F76),"Introducir Meta",IF(ISBLANK(G76),"Introducir Resultado",IF(G76>=F76,"Meta Conseguida","Meta Non Conseguida")))) -> Introducir Meta | K76: 3 | L76: =+IF(AND(ISBLANK(J76),ISBLANK(K76)),"Introducir Meta e Resultado",IF(ISBLANK(J76),"Introducir Meta",IF(ISBLANK(K76),"Introducir Resultado",IF(K76>=J76,"Meta Conseguida","Meta Non Conseguida")))) -> Introducir Meta | N76: 3 | P76: =+IF(AND(ISBLANK(N76),ISBLANK(O76)),"Introducir Meta e Resultado",IF(ISBLANK(N76),"Introducir Meta",IF(ISBLANK(O76),"Introducir Resultado",IF(O76>=N76,"Meta Conseguida","Meta Non Conseguida")))) -> Introducir Resultado
A77: I39-2 | B77: Satisfacción do Profesorado cos RRHH da titulación | C77: PE-01 Xestión do PAS | D77: Cubrir Meta e Resultado. A meta poderá estar entre os valores [1-5] Introducir o valor que se atopa na folla de "Bloque", na columna "Resultado" na fila "Valoración Total" do "Bloque 4 Recursos Humanos" da titulación de "Enquisas de Satisfacción do Profesorado" do portal de transparencia. https://secretaria.uvigo.gal/uv/web/transparencia/grupo/show/5/28 | E77: 4 | G77: 3.95 | H77: =+IF(AND(ISBLANK(F77),ISBLANK(G77)),"Introducir Meta e Resultado",IF(ISBLANK(F77),"Introducir Meta",IF(ISBLANK(G77),"Introducir Resultado",IF(G77>=F77,"Meta Conseguida","Meta Non Conseguida")))) -> Introducir Meta | K77: 3.5 | L77: =+IF(AND(ISBLANK(J77),ISBLANK(K77)),"Introducir Meta e Resultado",IF(ISBLANK(J77),"Introducir Meta",IF(ISBLANK(K77),"Introducir Resultado",IF(K77>=J77,"Meta Conseguida","Meta Non Conseguida")))) -> Introducir Meta | N77: 4 | P77: =+IF(AND(ISBLANK(N77),ISBLANK(O77)),"Introducir Meta e Resultado",IF(ISBLANK(N77),"Introducir Meta",IF(ISBLANK(O77),"Introducir Resultado",IF(O77>=N77,"Meta Conseguida","Meta Non Conseguida")))) -> Introducir Resultado
A78: I39-3 | B78: Satisfacción das Persoas tituladas cos RRHH da titulación | C78: PE-01 Xestión do PAS | D78: Cubrir Meta e Resultado. A meta poderá estar entre os valores [1-5] Introducir o valor que se atopa na folla de "Bloque", na columna "Resultado" na fila "Valoración Total" do "Bloque 4 Recursos Humanos" da titulación de "Enquisas de Satisfacción dos/das egresados/as " do portal de transparencia. https://secretaria.uvigo.gal/uv/web/transparencia/grupo/show/5/28 | E78: 4 | G78: 3.4 | H78: =+IF(AND(ISBLANK(F78),ISBLANK(G78)),"Introducir Meta e Resultado",IF(ISBLANK(F78),"Introducir Meta",IF(ISBLANK(G78),"Introducir Resultado",IF(G78>=F78,"Meta Conseguida","Meta Non Conseguida")))) -> Introducir Meta | K78: 3.75 | L78: =+IF(AND(ISBLANK(J78),ISBLANK(K78)),"Introducir Meta e Resultado",IF(ISBLANK(J78),"Introducir Meta",IF(ISBLANK(K78),"Introducir Resultado",IF(K78>=J78,"Meta Conseguida","Meta Non Conseguida")))) -> Introducir Meta | N78: 3.5 | P78: =+IF(AND(ISBLANK(N78),ISBLANK(O78)),"Introducir Meta e Resultado",IF(ISBLANK(N78),"Introducir Meta",IF(ISBLANK(O78),"Introducir Resultado",IF(O78>=N78,"Meta Conseguida","Meta Non Conseguida")))) -> Introducir Resultado
A79: I39-4 | B79: Satisfacción do PTXAS cos RRHH da titulación | C79: PE-01 Xestión do PAS | D79: Cubrir Meta e Resultado. A meta poderá estar entre os valores [1-5] Introducir o valor que se atopa na folla de "Bloque", na columna "Resultado" na fila "Valoración Total" do "Bloque 3 Recursos Humanos " da titulación de "Enquisas de Satisfacción do PTXAS" do portal de transparencia. https://secretaria.uvigo.gal/uv/web/transparencia/grupo/show/5/28 | E79: 4 | G79: 3 | H79: =+IF(AND(ISBLANK(F79),ISBLANK(G79)),"Introducir Meta e Resultado",IF(ISBLANK(F79),"Introducir Meta",IF(ISBLANK(G79),"Introducir Resultado",IF(G79>=F79,"Meta Conseguida","Meta Non Conseguida")))) -> Introducir Meta | K79: 4.5 | L79: =+IF(AND(ISBLANK(J79),ISBLANK(K79)),"Introducir Meta e Resultado",IF(ISBLANK(J79),"Introducir Meta",IF(ISBLANK(K79),"Introducir Resultado",IF(K79>=J79,"Meta Conseguida","Meta Non Conseguida")))) -> Introducir Meta | N79: 3.5 | P79: =+IF(AND(ISBLANK(N79),ISBLANK(O79)),"Introducir Meta e Resultado",IF(ISBLANK(N79),"Introducir Meta",IF(ISBLANK(O79),"Introducir Resultado",IF(O79>=N79,"Meta Conseguida","Meta Non Conseguida")))) -> Introducir Resultado
A80: I42 | B80: % Accións de Mellora finalizadas en prazo | C80: XD-01: Control dos documentos e dos rexistros | D80: Cubrir Meta e Resultado Porcentaxe das accións de mellora que está prevista a súa finalización neste curso, e efectivamente están finalizadas, sobre o total das accións de mellora que finalizaban o curso de referencia. | E80: 3 | H80: =+IF(AND(ISBLANK(F80),ISBLANK(G80)),"Introducir Meta e Resultado",IF(ISBLANK(F80),"Introducir Meta",IF(ISBLANK(G80),"Introducir Resultado",IF(G80>=F80,"Meta Conseguida","Meta Non Conseguida")))) -> Introducir Meta e Resultado | L80: =+IF(AND(ISBLANK(J80),ISBLANK(K80)),"Introducir Meta e Resultado",IF(ISBLANK(J80),"Introducir Meta",IF(ISBLANK(K80),"Introducir Resultado",IF(K80>=J80,"Meta Conseguida","Meta Non Conseguida")))) -> Introducir Meta e Resultado | P80: =+IF(AND(ISBLANK(N80),ISBLANK(O80)),"Introducir Meta e Resultado",IF(ISBLANK(N80),"Introducir Meta",IF(ISBLANK(O80),"Introducir Resultado",IF(O80>=N80,"Meta Conseguida","Meta Non Conseguida")))) -> Introducir Meta e Resultado
A81: I43 | B81: Resultados EAD | C81: PE-02 Xestión de PDI | D81: Cubrir Meta e Resultado. A meta poderá estar entre os valores [1-5] Indicar o valor que se atopa na columna "Global" e na filla "GLOBAL", do informe de avaliación docente por titulación que se atopa na secretaría virtual. https://secretaria.uvigo.gal/uvigo.sv/index.php?modulo=informes&accion=InformeEadTitulacion | E81: 4 | G81: 4.39 | H81: =+IF(AND(ISBLANK(F81),ISBLANK(G81)),"Introducir Meta e Resultado",IF(ISBLANK(F81),"Introducir Meta",IF(ISBLANK(G81),"Introducir Resultado",IF(G81>=F81,"Meta Conseguida","Meta Non Conseguida")))) -> Introducir Meta | K81: 4.32 | L81: =+IF(AND(ISBLANK(J81),ISBLANK(K81)),"Introducir Meta e Resultado",IF(ISBLANK(J81),"Introducir Meta",IF(ISBLANK(K81),"Introducir Resultado",IF(K81>=J81,"Meta Conseguida","Meta Non Conseguida")))) -> Introducir Meta | N81: 4 | P81: =+IF(AND(ISBLANK(N81),ISBLANK(O81)),"Introducir Meta e Resultado",IF(ISBLANK(N81),"Introducir Meta",IF(ISBLANK(O81),"Introducir Resultado",IF(O81>=N81,"Meta Conseguida","Meta Non Conseguida")))) -> Introducir Resultado
A82: I44 | B82: Índice de satisfacción coa organización e o desenvolvemento | C82: DO-0201 Planificación e desenvolvemento da ensinanza | D82: Nº dos obxectivos (I44-1, I44-2, I44-3 e I44-4) que se acadan | E82: 1 | F82: =+COUNTA(F83:F86) -> 3 | G82: =+COUNTIF(H83:H86,"Meta Conseguida") -> 1 | H82: =+IF((G82+F82)=0,"Introducir Meta e Resultado",IF(COUNTA(G83:G86)=0,"Indicador Sen Resultados",IF(G82=0,"Ningunha Meta Alcanzada",IF(G82>=F82,"Meta Totalmente Alcanzada",IF(G82>0,"Meta Parcialmente Alcanzada"))))) -> Meta Parcialmente Alcanzada | J82: =+COUNTA(J83:J86) -> 3 | K82: =+COUNTIF(L83:L86,"Meta Conseguida") -> 1 | L82: =+IF((K82+J82)=0,"Introducir Meta e Resultado",IF(COUNTA(K83:K86)=0,"Indicador Sen Resultados",IF(K82=0,"Ningunha Meta Alcanzada",IF(K82>=J82,"Meta Totalmente Alcanzada",IF(K82>0,"Meta Parcialmente Alcanzada"))))) -> Meta Parcialmente Alcanzada | N82: =+COUNTA(N83:N86) -> 4 | O82: =+COUNTIF(P83:P86,"Meta Conseguida") -> 0 | P82: =+IF((O82+N82)=0,"Introducir Meta e Resultado",IF(COUNTA(O83:O86)=0,"Indicador Sen Resultados",IF(O82=0,"Ningunha Meta Alcanzada",IF(O82>=N82,"Meta Totalmente Alcanzada",IF(O82>0,"Meta Parcialmente Alcanzada"))))) -> Indicador Sen Resultados
A83: I44-1 | B83: Satisfacción do Estudantado coa organización e o desenvolvemento | C83: DO-0201 Planificación e desenvolvemento da ensinanza | D83: Cubrir Meta e Resultado. A meta poderá estar entre os valores [1-5] Introducir o Valor que se atopa na folla de "Bloque", na columna "Resultado" na fila "Valoración Total" do "Bloque 1 Organización e Desenvolvemento" da titulación do informe de "Enquisas de Satisfacción de estudantado" do portal de transparencia. https://secretaria.uvigo.gal/uv/web/transparencia/grupo/show/5/28 | E83: 1 | F83: 3 | G83: 2.4117647 | H83: =+IF(AND(ISBLANK(F83),ISBLANK(G83)),"Introducir Meta e Resultado",IF(ISBLANK(F83),"Introducir Meta",IF(ISBLANK(G83),"Introducir Resultado",IF(G83>=F83,"Meta Conseguida","Meta Non Conseguida")))) -> Meta Non Conseguida | J83: 3 | K83: 3.3913043 | L83: =+IF(AND(ISBLANK(J83),ISBLANK(K83)),"Introducir Meta e Resultado",IF(ISBLANK(J83),"Introducir Meta",IF(ISBLANK(K83),"Introducir Resultado",IF(K83>=J83,"Meta Conseguida","Meta Non Conseguida")))) -> Meta Conseguida | N83: 3 | P83: =+IF(AND(ISBLANK(N83),ISBLANK(O83)),"Introducir Meta e Resultado",IF(ISBLANK(N83),"Introducir Meta",IF(ISBLANK(O83),"Introducir Resultado",IF(O83>=N83,"Meta Conseguida","Meta Non Conseguida")))) -> Introducir Resultado
A84: I44-2 | B84: Satisfacción do Profesorado coa organización e o desenvolvemento | C84: DO-0201 Planificación e desenvolvemento da ensinanza | D84: Cubrir Meta e Resultado. A meta poderá estar entre os valores [1-5] Introducir o Valor que se atopa na folla de "Bloque", na columna "Resultado" na fila "Valoración Total" do "Bloque 1 Organización e Desenvolvemento" da titulación do informe de "Enquisas de Satisfacción do Profesorado" do portal de transparencia. https://secretaria.uvigo.gal/uv/web/transparencia/grupo/show/5/28 | E84: 1 | F84: 3.5 | G84: 3.63 | H84: =+IF(AND(ISBLANK(F84),ISBLANK(G84)),"Introducir Meta e Resultado",IF(ISBLANK(F84),"Introducir Meta",IF(ISBLANK(G84),"Introducir Resultado",IF(G84>=F84,"Meta Conseguida","Meta Non Conseguida")))) -> Meta Conseguida | J84: 3.5 | K84: 3.3733333 | L84: =+IF(AND(ISBLANK(J84),ISBLANK(K84)),"Introducir Meta e Resultado",IF(ISBLANK(J84),"Introducir Meta",IF(ISBLANK(K84),"Introducir Resultado",IF(K84>=J84,"Meta Conseguida","Meta Non Conseguida")))) -> Meta Non Conseguida | N84: 3.5 | P84: =+IF(AND(ISBLANK(N84),ISBLANK(O84)),"Introducir Meta e Resultado",IF(ISBLANK(N84),"Introducir Meta",IF(ISBLANK(O84),"Introducir Resultado",IF(O84>=N84,"Meta Conseguida","Meta Non Conseguida")))) -> Introducir Resultado
A85: I44-3 | B85: Satisfacción das Persoas tituladas coa organización e o desenvolvemento | C85: DO-0201 Planificación e desenvolvemento da ensinanza | D85: Cubrir Meta e Resultado. A meta poderá estar entre os valores [1-5] Introducir o Valor que se atopa na folla de "Bloque", na columna "Resultado" na fila "Valoración Total" do "Bloque 1 Organización e Desenvolvemento" da titulación corresponden do informe de "Enquisas de Satisfacción dos/das egresados/as " do portal de transparencia. https://secretaria.uvigo.gal/uv/web/transparencia/grupo/show/5/28 | E85: 1 | F85: 3.5 | G85: 2.9583333 | H85: =+IF(AND(ISBLANK(F85),ISBLANK(G85)),"Introducir Meta e Resultado",IF(ISBLANK(F85),"Introducir Meta",IF(ISBLANK(G85),"Introducir Resultado",IF(G85>=F85,"Meta Conseguida","Meta Non Conseguida")))) -> Meta Non Conseguida | J85: 3.5 | K85: 2.6857143 | L85: =+IF(AND(ISBLANK(J85),ISBLANK(K85)),"Introducir Meta e Resultado",IF(ISBLANK(J85),"Introducir Meta",IF(ISBLANK(K85),"Introducir Resultado",IF(K85>=J85,"Meta Conseguida","Meta Non Conseguida")))) -> Meta Non Conseguida | N85: 3.5 | P85: =+IF(AND(ISBLANK(N85),ISBLANK(O85)),"Introducir Meta e Resultado",IF(ISBLANK(N85),"Introducir Meta",IF(ISBLANK(O85),"Introducir Resultado",IF(O85>=N85,"Meta Conseguida","Meta Non Conseguida")))) -> Introducir Resultado
A86: I44-3 | B86: Satisfacción do PTXAS coa organización e o desenvolvemento | C86: DO-0201 Planificación e desenvolvemento da ensinanza | D86: Cubrir Meta e Resultado. A meta poderá estar entre os valores [1-5] Introducir o Valor que se atopa na folla de "Preguntas", na columna "Resultado" na fila "Valoración Total" da "Pregunta 15 a xestión das titulacións" da titulación correspondente do informe de "Enquisas de Satisfacción do PTXAS" do portal de transparencia. https://secretaria.uvigo.gal/uv/web/transparencia/grupo/show/5/28 | E86: 1 | G86: 2.5 | H86: =+IF(AND(ISBLANK(F86),ISBLANK(G86)),"Introducir Meta e Resultado",IF(ISBLANK(F86),"Introducir Meta",IF(ISBLANK(G86),"Introducir Resultado",IF(G86>=F86,"Meta Conseguida","Meta Non Conseguida")))) -> Introducir Meta | K86: 4 | L86: =+IF(AND(ISBLANK(J86),ISBLANK(K86)),"Introducir Meta e Resultado",IF(ISBLANK(J86),"Introducir Meta",IF(ISBLANK(K86),"Introducir Resultado",IF(K86>=J86,"Meta Conseguida","Meta Non Conseguida")))) -> Introducir Meta | N86: 3.5 | P86: =+IF(AND(ISBLANK(N86),ISBLANK(O86)),"Introducir Meta e Resultado",IF(ISBLANK(N86),"Introducir Meta",IF(ISBLANK(O86),"Introducir Resultado",IF(O86>=N86,"Meta Conseguida","Meta Non Conseguida")))) -> Introducir Resultado
A87: I45 | B87: Nº Estudantado matriculado | C87: AC-01: Acceso, evolución e Expedición de Titulos Oficiais | D87: Só Cubrir o Resultado. Este indicador utilizase para calcular outros indicadores Elixir o documento estudantes matriculados de Grao ou Máster segundo sea o caso. https://secretaria.uvigo.gal/uv/web/transparencia/informe/show/5/51/61 Indicar o Nº total de Estudantes matriculados da titulación e neste curso | E87: ---- | F87: ---- | G87: 201 | H87: =+IF(ISBLANK(G87),"Introducir Resultado","Indicador Completado") -> Indicador Completado | J87: ---- | K87: 193 | L87: =+IF(ISBLANK(K87),"Introducir Resultado","Indicador Completado") -> Indicador Completado | N87: ---- | P87: =+IF(ISBLANK(O87),"Introducir Resultado","Indicador Completado") -> Introducir Resultado
A88: I46 | B88: Nº PDI que imparte docencia en titulación | C88: PE-02 Xestión de PDI | D88: Só Cubrir o Resultado. Este indicador utilizase para calcular outros indicadores Acceder á consulta DOC. Profesorado con Docencia, do portal de transparencia. https://secretaria.uvigo.gal/uv/web/transparencia/informe/show/5/34/25 E seleccionar o profesorado con caracter permanente: Catedráticos/as, Profesorado Titular, Profesorado Contratado Doutor e Profesorado Permanente Laboral | E88: ---- | F88: ---- | G88: 51 | H88: =+IF(ISBLANK(G88),"Introducir Resultado","Indicador Completado") -> Indicador Completado | J88: ---- | L88: =+IF(ISBLANK(K88),"Introducir Resultado","Indicador Completado") -> Introducir Resultado | N88: ---- | P88: =+IF(ISBLANK(O88),"Introducir Resultado","Indicador Completado") -> Introducir Resultado
A90: Indicadores do programa estratéxico de centro
A92: I50 | B92: Indicadores do programa estratexico do centro asociado á Titulación | C92: DE-01: Programación e desenvolvemento estratéxico | D92: Nº dos obxectivos I50-11 ata I50-20 que se acadan | F92: =+COUNTA(H93:H97)-COUNTIF(H93:H97,"Introducir Resultado")-COUNTIF(H93:H97,"Introducir Meta e Resultado") -> 0 | G92: =+COUNTIF(H93:H97,"Meta Conseguida") -> 0 | H92: =+IF(COUNTIF(H93:H97,"Meta Conseguida")=5,"Meta Totalmente Alcanzada",IF(COUNTIF(H93:H97,"Meta Non Conseguida")=5,"Ningunha Meta Alcanzada",IF((G92+F92)=0,"Introducir Indicadores","Meta Parcialmente Alcanzada"))) -> Introducir Indicadores | J92: =+COUNTA(L93:L97)-COUNTIF(L93:L97,"Introducir Resultado")-COUNTIF(L93:L97,"Introducir Meta e Resultado") -> 0 | K92: =+COUNTIF(L93:L97,"Meta Conseguida") -> 0 | L92: =+IF(COUNTIF(L93:L97,"Meta Conseguida")=5,"Meta Totalmente Alcanzada",IF(COUNTIF(L93:L97,"Meta Non Conseguida")=5,"Ningunha Meta Alcanzada",IF((K92+J92)=0,"Introducir Indicadores","Meta Parcialmente Alcanzada"))) -> Introducir Indicadores | N92: =+COUNTA(P93:P97)-COUNTIF(P93:P97,"Introducir Resultado")-COUNTIF(P93:P97,"Introducir Meta e Resultado") -> 0 | O92: =+COUNTIF(P93:P97,"Meta Conseguida") -> 0 | P92: =+IF(COUNTIF(P93:P97,"Meta Conseguida")=5,"Meta Totalmente Alcanzada",IF(COUNTIF(P93:P97,"Meta Non Conseguida")=5,"Ningunha Meta Alcanzada",IF((O92+N92)=0,"Introducir Indicadores","Meta Parcialmente Alcanzada"))) -> Introducir Indicadores
A93: I50-1 | B93: Obxectivo 1 (Resultadis académicos):Taxa de Rendemento Xestiónase anivel de título | C93: DE-01: Programación e desenvolvemento estratéxico | F93: 0.8 | H93: =+IF(AND(ISBLANK(F93),ISBLANK(G93)),"Introducir Meta e Resultado",IF(ISBLANK(F93),"Introducir Meta",IF(ISBLANK(G93),"Introducir Resultado",IF(G93>=F93,"Meta Conseguida","Meta Non Conseguida")))) -> Introducir Resultado | J93: 0.8 | L93: =+IF(AND(ISBLANK(J93),ISBLANK(K93)),"Introducir Meta e Resultado",IF(ISBLANK(J93),"Introducir Meta",IF(ISBLANK(K93),"Introducir Resultado",IF(K93>=J93,"Meta Conseguida","Meta Non Conseguida")))) -> Introducir Resultado | N93: 0.8 | P93: =+IF(AND(ISBLANK(N93),ISBLANK(O93)),"Introducir Meta e Resultado",IF(ISBLANK(N93),"Introducir Meta",IF(ISBLANK(O93),"Introducir Resultado",IF(O93>=N93,"Meta Conseguida","Meta Non Conseguida")))) -> Introducir Resultado
A94: I50-2 | B94: Obxectivo 1 (Resultados académicos):Taxa de abandono . Xestiónase anivel de título | C94: DE-01: Programación e desenvolvemento estratéxico | F94: 0.2 | H94: =+IF(AND(ISBLANK(F94),ISBLANK(G94)),"Introducir Meta e Resultado",IF(ISBLANK(F94),"Introducir Meta",IF(ISBLANK(G94),"Introducir Resultado",IF(G94>=F94,"Meta Conseguida","Meta Non Conseguida")))) -> Introducir Resultado | J94: 0.2 | L94: =+IF(AND(ISBLANK(J94),ISBLANK(K94)),"Introducir Meta e Resultado",IF(ISBLANK(J94),"Introducir Meta",IF(ISBLANK(K94),"Introducir Resultado",IF(K94>=J94,"Meta Conseguida","Meta Non Conseguida")))) -> Introducir Resultado | N94: 0.2 | P94: =+IF(AND(ISBLANK(N94),ISBLANK(O94)),"Introducir Meta e Resultado",IF(ISBLANK(N94),"Introducir Meta",IF(ISBLANK(O94),"Introducir Resultado",IF(O94>=N94,"Meta Conseguida","Meta Non Conseguida")))) -> Introducir Resultado
A95: I50-4 | B95: Obxectivo 1 (Resultados académicos):Taxa de graduación Xestiónasde a nivel de título | C95: DE-01: Programación e desenvolvemento estratéxico | F95: 0.5 | H95: =+IF(AND(ISBLANK(F95),ISBLANK(G95)),"Introducir Meta e Resultado",IF(ISBLANK(F95),"Introducir Meta",IF(ISBLANK(G95),"Introducir Resultado",IF(G95>=F95,"Meta Conseguida","Meta Non Conseguida")))) -> Introducir Resultado | J95: 0.5 | L95: =+IF(AND(ISBLANK(J95),ISBLANK(K95)),"Introducir Meta e Resultado",IF(ISBLANK(J95),"Introducir Meta",IF(ISBLANK(K95),"Introducir Resultado",IF(K95>=J95,"Meta Conseguida","Meta Non Conseguida")))) -> Introducir Resultado | N95: 0.5 | P95: =+IF(AND(ISBLANK(N95),ISBLANK(O95)),"Introducir Meta e Resultado",IF(ISBLANK(N95),"Introducir Meta",IF(ISBLANK(O95),"Introducir Resultado",IF(O95>=N95,"Meta Conseguida","Meta Non Conseguida")))) -> Introducir Resultado
A96: I50-5 | B96: Obxectivo 1 (Resultados académicos):Taxa de Éxito. Xestiónase a nivel de título | C96: DE-01: Programación e desenvolvemento estratéxico | F96: 0.8 | H96: =+IF(AND(ISBLANK(F96),ISBLANK(G96)),"Introducir Meta e Resultado",IF(ISBLANK(F96),"Introducir Meta",IF(ISBLANK(G96),"Introducir Resultado",IF(G96>=F96,"Meta Conseguida","Meta Non Conseguida")))) -> Introducir Resultado | J96: 0.8 | L96: =+IF(AND(ISBLANK(J96),ISBLANK(K96)),"Introducir Meta e Resultado",IF(ISBLANK(J96),"Introducir Meta",IF(ISBLANK(K96),"Introducir Resultado",IF(K96>=J96,"Meta Conseguida","Meta Non Conseguida")))) -> Introducir Resultado | N96: 0.7 | P96: =+IF(AND(ISBLANK(N96),ISBLANK(O96)),"Introducir Meta e Resultado",IF(ISBLANK(N96),"Introducir Meta",IF(ISBLANK(O96),"Introducir Resultado",IF(O96>=N96,"Meta Conseguida","Meta Non Conseguida")))) -> Introducir Resultado
A97: I50-6 | B97: Obxectivo 2 ( Atraer a novo estudantado):Taxa de ocupación. Xestiónase a nivel de título. | C97: DE-01: Programación e desenvolvemento estratéxico | F97: 1 | H97: =+IF(AND(ISBLANK(F97),ISBLANK(G97)),"Introducir Meta e Resultado",IF(ISBLANK(F97),"Introducir Meta",IF(ISBLANK(G97),"Introducir Resultado",IF(G97>=F97,"Meta Conseguida","Meta Non Conseguida")))) -> Introducir Resultado | J97: 1 | L97: =+IF(AND(ISBLANK(J97),ISBLANK(K97)),"Introducir Meta e Resultado",IF(ISBLANK(J97),"Introducir Meta",IF(ISBLANK(K97),"Introducir Resultado",IF(K97>=J97,"Meta Conseguida","Meta Non Conseguida")))) -> Introducir Resultado | N97: 0.8 | P97: =+IF(AND(ISBLANK(N97),ISBLANK(O97)),"Introducir Meta e Resultado",IF(ISBLANK(N97),"Introducir Meta",IF(ISBLANK(O97),"Introducir Resultado",IF(O97>=N97,"Meta Conseguida","Meta Non Conseguida")))) -> Introducir Resultado

Sheet GTraduc
A2: Panel de indicadores- Cadro de mando do Grao en Traducción e Interpretación
A4: Indicadores | C4: Procedimientos asociados | E4: Crit. | F4: =+Centro!F4 -> Curso 2023-2024 | J4: =+Centro!J4 -> Curso 2024-2025 | N4: =+Centro!N4 -> curso 2025-2026
A5: Cod | B5: Denominación Indicador | C5: Denominación | D5: Descripcion e Fonte de Información | E5: IRPD | F5: Meta | G5: Resultado | H5: Observacións | J5: Meta | K5: Resultado | L5: Observacións | N5: Meta | O5: Resultado | P5: Observacións
A6: Indicadores dos Programas de Calidade
A7: I1-I2 | B7: Nº Estudantes de novo ingreso (Grao e Máster) | C7: AC-01: Acceso, evolución e Expedición de Titulos Oficiais | D7: Cubrir Meta e Resultado Elixir o documento Grao ACC_1 ou Máster ACC_1, segundo o caso: https://secretaria.uvigo.gal/uv/web/transparencia/informe/show/5/51/63 | E7: 7 | F7: 120 | G7: 99 | H7: =+IF(AND(ISBLANK(F7),ISBLANK(G7)),"Introducir Meta e Resultado",IF(ISBLANK(F7),"Indicador Sen Meta",IF(ISBLANK(G7),"Introducir Resultado",IF(G7>=F7,"Meta Conseguida","Meta Non Conseguida")))) -> Meta Non Conseguida | J7: 120 | K7: 111 | L7: =+IF(AND(ISBLANK(J7),ISBLANK(K7)),"Introducir Meta e Resultado",IF(ISBLANK(J7),"Indicador Sen Meta",IF(ISBLANK(K7),"Introducir Resultado",IF(K7>=J7,"Meta Conseguida","Meta Non Conseguida")))) -> Meta Non Conseguida | P7: =+IF(AND(ISBLANK(N7),ISBLANK(O7)),"Introducir Meta e Resultado",IF(ISBLANK(N7),"Indicador Sen Meta",IF(ISBLANK(O7),"Introducir Resultado",IF(O7>=N7,"Meta Conseguida","Meta Non Conseguida")))) -> Introducir Meta e Resultado
A8: I3 | B8: Indicadores de mobilidade do estudantado | C8: DO-0205: Xestión da mobilidade | D8: Nº dos obxectivos I3-1 e I3-2 que se acadan | E8: 1 | F8: =+COUNTA(F9:F10) -> 0 | G8: =+COUNTIF(H9:H10,"Meta Conseguida") -> 0 | H8: =+IF(COUNTA(F9:F10)=0,"Indicador Sen Meta",IF(G8=2,"Meta Totalmente Alcanzada",IF(G9=0,"Introducir Resultado",IF(G8=0,"Ningunha Meta Alcanzada",IF(G8>0,"Meta Parcialmente Alcanzada"))))) -> Indicador Sen Meta | J8: =+COUNTA(J9:J10) -> 0 | K8: =+COUNTIF(L9:L10,"Meta Conseguida") -> 0 | L8: =+IF(COUNTA(J9:J10)=0,"Indicador Sen Meta",IF(K8=2,"Meta Totalmente Alcanzada",IF(K9=0,"Introducir Resultado",IF(K8=0,"Ningunha Meta Alcanzada",IF(K8>0,"Meta Parcialmente Alcanzada"))))) -> Indicador Sen Meta | N8: =+COUNTA(N9:N10) -> 2 | O8: =+COUNTIF(P9:P10,"Meta Conseguida") -> 0 | P8: =+IF(COUNTA(N9:N10)=0,"Indicador Sen Meta",IF(O8=2,"Meta Totalmente Alcanzada",IF(O9=0,"Introducir Resultado",IF(O8=0,"Ningunha Meta Alcanzada",IF(O8>0,"Meta Parcialmente Alcanzada"))))) -> Introducir Resultado
A9: I3-1 | B9: Nº Estudantes propios que participan en programas de mobilidade | C9: DO-0205: Xestión da mobilidade | D9: Cubrir Meta e Resultado Selecciónar o dato da titulación da columna "Total_SAÍNTE" da Folla Mobilidade_TOTAL do documento "Mobilidade" do portal de transparencia. https://secretaria.uvigo.gal/uv/web/transparencia/informe/show/5/4/19 | E9: 1 | G9: 31 | H9: =+IF(AND(ISBLANK(F9),ISBLANK(G9)),"Introducir Meta e Resultado",IF(ISBLANK(F9),"Introducir Meta",IF(ISBLANK(G9),"Introducir Resultado",IF(G9>=F9,"Meta Conseguida","Meta Non Conseguida")))) -> Introducir Meta | K9: 25 | L9: =+IF(AND(ISBLANK(J9),ISBLANK(K9)),"Introducir Meta e Resultado",IF(ISBLANK(J9),"Introducir Meta",IF(ISBLANK(K9),"Introducir Resultado",IF(K9>=J9,"Meta Conseguida","Meta Non Conseguida")))) -> Introducir Meta | N9: 30 | P9: =+IF(AND(ISBLANK(N9),ISBLANK(O9)),"Introducir Meta e Resultado",IF(ISBLANK(N9),"Introducir Meta",IF(ISBLANK(O9),"Introducir Resultado",IF(O9>=N9,"Meta Conseguida","Meta Non Conseguida")))) -> Introducir Resultado
A10: I3-2 | B10: % Estudantes que participan en programas de mobilidade | C10: DO-0205: Xestión da mobilidade | D10: Só Cubrir a Meta. O Resultado calcúlase de xeito automático, a partir do indicador I3-1 e I45 % Estudantado que participa en programas de mobilidade con relación ao estudantado matriculado. | E10: 1 | G10: =+IFERROR(G$9/G$87,0) -> 0.074340528 | H10: =+IF(AND(ISBLANK(F10),ISBLANK(G10)),"Introducir Meta e Resultado",IF(ISBLANK(F10),"Introducir Meta",IF(ISBLANK(G10),"Introducir Resultado",IF(G10>=F10,"Meta Conseguida","Meta Non Conseguida")))) -> Introducir Meta | K10: =+IFERROR(K$9/K$87,0) -> 0.062972292 | L10: =+IF(AND(ISBLANK(J10),ISBLANK(K10)),"Introducir Meta e Resultado",IF(ISBLANK(J10),"Introducir Meta",IF(ISBLANK(K10),"Introducir Resultado",IF(K10>=J10,"Meta Conseguida","Meta Non Conseguida")))) -> Introducir Meta | N10: 0.08 | P10: =+IF(AND(ISBLANK(N10),ISBLANK(O10)),"Introducir Meta e Resultado",IF(ISBLANK(N10),"Introducir Meta",IF(ISBLANK(O10),"Introducir Resultado",IF(O10>=N10,"Meta Conseguida","Meta Non Conseguida")))) -> Introducir Resultado
A11: I4 | B11: Resultados dos indicadores do SGC | C11: DE-02 Seguimento e Medición | D11: Non Cubrir a Meta nin o Resultado. Calcúlanse de xeito automático Este indicador mostra a porcentaxe dos obxectivos que acadan as súas metas establecidas. | E11: 3 | F11: =+G11+COUNTIF(H$7:H$10,"Meta non Conseguida")+COUNTIF(H$12:H$95,"Meta non Conseguida") -> 17 | G11: =+COUNTIF(H$6:H$10,"Meta Conseguida")+COUNTIF(H$12:H$95,"Meta Conseguida") -> 11 | H11: =+IFERROR(G11/F11,"Introducir Meta") -> 0.64705882 | J11: =+K11+COUNTIF(L$7:L$10,"Meta non Conseguida")+COUNTIF(L$12:L$95,"Meta non Conseguida") -> 17 | K11: =+COUNTIF(L$6:L$10,"Meta Conseguida")+COUNTIF(L$12:L$95,"Meta Conseguida") -> 10 | L11: =+IF(AND(ISBLANK(J11),ISBLANK(K11)),"Introducir Meta e Resultado",IF(ISBLANK(J11),"Introducir Meta",IF(ISBLANK(K11),"Introducir Resultado",IF(K11>=J11,"Meta Conseguida","Meta Non Conseguida")))) -> Meta Non Conseguida | N11: =+O11+COUNTIF(P$7:P$10,"Meta non Conseguida")+COUNTIF(P$12:P$95,"Meta non Conseguida") -> 2 | O11: =+COUNTIF(P$6:P$10,"Meta Conseguida")+COUNTIF(P$12:P$95,"Meta Conseguida") -> 0 | P11: =+IFERROR(O11/N11,"Introducir Meta") -> 0
A12: I5 | B12: Indicadores de formación do PDI | C12: PE-02 Xestión de PDI | D12: Nº dos obxectivos I5-1 e I5-2 que se acadan | E12: 4 | F12: =+COUNTA(F13:F14) -> 0 | G12: =+COUNTIF(H13:H14,"Meta Conseguida") -> 0 | H12: =+IF(COUNTA(F13:F14)=0,"Indicador Sen Meta",IF(G12=2,"Meta Totalmente Alcanzada",IF(G13=0,"Introducir Resultado",IF(G12=0,"Ningunha Meta Alcanzada",IF(G12>0,"Meta Parcialmente Alcanzada"))))) -> Indicador Sen Meta | J12: =+COUNTA(J13:J14) -> 0 | K12: =+COUNTIF(L13:L14,"Meta Conseguida") -> 0 | L12: =+IF(COUNTA(J13:J14)=0,"Indicador Sen Meta",IF(K12=2,"Meta Totalmente Alcanzada",IF(K13=0,"Introducir Resultado",IF(K12=0,"Ningunha Meta Alcanzada",IF(K12>0,"Meta Parcialmente Alcanzada"))))) -> Indicador Sen Meta | N12: =+COUNTA(N13:N14) -> 2 | O12: =+COUNTIF(P13:P14,"Meta Conseguida") -> 0 | P12: =+IF(COUNTA(N13:N14)=0,"Indicador Sen Meta",IF(O12=2,"Meta Totalmente Alcanzada",IF(O13=0,"Introducir Resultado",IF(O12=0,"Ningunha Meta Alcanzada",IF(O12>0,"Meta Parcialmente Alcanzada"))))) -> Introducir Resultado
A13: I5-1 | B13: Nº PDI en plans de formación do título | C13: PE-02 Xestión de PDI | D13: Cubrir Meta e Resultado Seleccionar o dato na consulta "FOR.Formación e mobilidade do PDI" do portal de transparencia https://secretaria.uvigo.gal/uv/web/transparencia/informe/show/5/34/68 | E13: 4 | G13: 21 | H13: =+IF(AND(ISBLANK(F13),ISBLANK(G13)),"Introducir Meta e Resultado",IF(ISBLANK(F13),"Introducir Meta",IF(ISBLANK(G13),"Introducir Resultado",IF(G13>=F13,"Meta Conseguida","Meta Non Conseguida")))) -> Introducir Meta | L13: =+IF(AND(ISBLANK(J13),ISBLANK(K13)),"Introducir Meta e Resultado",IF(ISBLANK(J13),"Introducir Meta",IF(ISBLANK(K13),"Introducir Resultado",IF(K13>=J13,"Meta Conseguida","Meta Non Conseguida")))) -> Introducir Meta e Resultado | N13: 15 | P13: =+IF(AND(ISBLANK(N13),ISBLANK(O13)),"Introducir Meta e Resultado",IF(ISBLANK(N13),"Introducir Meta",IF(ISBLANK(O13),"Introducir Resultado",IF(O13>=N13,"Meta Conseguida","Meta Non Conseguida")))) -> Introducir Resultado
A14: I5-2 | B14: % Participación do PDI do título en plans de formación | C14: PE-02 Xestión de PDI | D14: Cubrir a Meta. O Resultado calcúlase de xeito automático, a partir do indicador I5-1 e I46 É a porcentaxe do PDI que participa en plans de formación, que se calcula de xeito automático | E14: 4 | G14: =+IFERROR(G$13/G$88,0) -> 0.28767123 | H14: =+IF(AND(ISBLANK(F14),ISBLANK(G14)),"Introducir Meta e Resultado",IF(ISBLANK(F14),"Introducir Meta",IF(ISBLANK(G14),"Introducir Resultado",IF(G14>=F14,"Meta Conseguida","Meta Non Conseguida")))) -> Introducir Meta | K14: =+IFERROR(K$13/K$88,0) -> 0 | L14: =+IF(AND(ISBLANK(J14),ISBLANK(K14)),"Introducir Meta e Resultado",IF(ISBLANK(J14),"Introducir Meta",IF(ISBLANK(K14),"Introducir Resultado",IF(K14>=J14,"Meta Conseguida","Meta Non Conseguida")))) -> Introducir Meta | N14: 0.2 | P14: =+IF(AND(ISBLANK(N14),ISBLANK(O14)),"Introducir Meta e Resultado",IF(ISBLANK(N14),"Introducir Meta",IF(ISBLANK(O14),"Introducir Resultado",IF(O14>=N14,"Meta Conseguida","Meta Non Conseguida")))) -> Introducir Resultado
A15: I6-AI | B15: % Participación do PDI en Grupos de Innovación Docente | C15: PE-02 Xestión de PDI | D15: Só cubrir o Resultado, é un indicador informativo E a porcentaxe do PDI que participa en Grupos de innovación docente | E15: 4 | F15: ---- | G15: 0.0625 | H15: =+IF(ISBLANK(G15),"Introducir Resultado","Resultado Introducido") -> Resultado Introducido | J15: ---- | K15: 0.47169811 | L15: =+IF(ISBLANK(K15),"Introducir Resultado","Resultado Introducido") -> Resultado Introducido | N15: ---- | P15: =+IF(ISBLANK(O15),"Introducir Resultado","Resultado Introducido") -> Introducir Resultado
A16: I7 | B16: % PDI do título avaliado polo programa DOCENTIA e resultados obtidos | C16: PE-02 Xestión de PDI | D16: Nº dos obxectivos (I7-1 e I7-2) que se acadan | E16: 4 | F16: =+COUNTA(F17:F18) -> 0 | G16: =+COUNTIF(H17:H18,"Meta Conseguida") -> 0 | H16: =+IF(COUNTA(F17:F18)=0,"Indicador Sen Meta",IF(G16=2,"Meta Totalmente Alcanzada",IF(G17=0,"Introducir Resultado",IF(G16=0,"Ningunha Meta Alcanzada",IF(G16>0,"Meta Parcialmente Alcanzada"))))) -> Indicador Sen Meta | J16: =+COUNTA(J17:J18) -> 0 | K16: =+COUNTIF(L17:L18,"Meta Conseguida") -> 0 | L16: =+IF(COUNTA(J17:J18)=0,"Indicador Sen Meta",IF(K16=2,"Meta Totalmente Alcanzada",IF(K17=0,"Introducir Resultado",IF(K16=0,"Ningunha Meta Alcanzada",IF(K16>0,"Meta Parcialmente Alcanzada"))))) -> Indicador Sen Meta | N16: =+COUNTA(N17:N18) -> 2 | O16: =+COUNTIF(P17:P18,"Meta Conseguida") -> 0 | P16: =+IF(COUNTA(N17:N18)=0,"Indicador Sen Meta",IF(O16=2,"Meta Totalmente Alcanzada",IF(O17=0,"Introducir Resultado",IF(O16=0,"Ningunha Meta Alcanzada",IF(O16>0,"Meta Parcialmente Alcanzada"))))) -> Introducir Resultado
A17: I7-1 | B17: Nº PDI avaliado en DOCENTIA | C17: PE-02 Xestión de PDI | D17: Cubrir Meta e Resultado Nº acumulado do PDI avaliado en todas as convocatorias do Docentia. Sumar o PDI avaliado do conxunto das convocatorias de avaliación. Este indicador atópase no informe de resultados Docentia avaliación quinquenal https://www.uvigo.gal/universidade/calidade/programas-calidade/docencia/programa-docentia | E17: 4 | G17: 10 | H17: =+IF(AND(ISBLANK(F17),ISBLANK(G17)),"Introducir Meta e Resultado",IF(ISBLANK(F17),"Introducir Meta",IF(ISBLANK(G17),"Introducir Resultado",IF(G17>=F17,"Meta Conseguida","Meta Non Conseguida")))) -> Introducir Meta | K17: 12 | L17: =+IF(AND(ISBLANK(J17),ISBLANK(K17)),"Introducir Meta e Resultado",IF(ISBLANK(J17),"Introducir Meta",IF(ISBLANK(K17),"Introducir Resultado",IF(K17>=J17,"Meta Conseguida","Meta Non Conseguida")))) -> Introducir Meta | N17: 8 | P17: =+IF(AND(ISBLANK(N17),ISBLANK(O17)),"Introducir Meta e Resultado",IF(ISBLANK(N17),"Introducir Meta",IF(ISBLANK(O17),"Introducir Resultado",IF(O17>=N17,"Meta Conseguida","Meta Non Conseguida")))) -> Introducir Resultado
A18: I7-2 | B18: % PDI que participa en DOCENTIA | C18: PE-02 Xestión de PDI | D18: Só Cubrir a Meta. O Resultado calcúlase de xeito automático, a partir do indicador I7-1 e I46. % do PDI avaliado entre o Nº total de PDI que imparte docencia na titulación. | E18: 4 | G18: =+IFERROR(G$17/G$88,0) -> 0.1369863 | H18: =+IF(AND(ISBLANK(F18),ISBLANK(G18)),"Introducir Meta e Resultado",IF(ISBLANK(F18),"Introducir Meta",IF(ISBLANK(G18),"Introducir Resultado",IF(G18>=F18,"Meta Conseguida","Meta Non Conseguida")))) -> Introducir Meta | K18: =+IFERROR(K$17/K$88,0) -> 0 | L18: =+IF(AND(ISBLANK(J18),ISBLANK(K18)),"Introducir Meta e Resultado",IF(ISBLANK(J18),"Introducir Meta",IF(ISBLANK(K18),"Introducir Resultado",IF(K18>=J18,"Meta Conseguida","Meta Non Conseguida")))) -> Introducir Meta | N18: 0.08 | O18: =+IFERROR(O$17/O$88,0) -> 0 | P18: =+IF(AND(ISBLANK(N18),ISBLANK(O18)),"Introducir Meta e Resultado",IF(ISBLANK(N18),"Introducir Meta",IF(ISBLANK(O18),"Introducir Resultado",IF(O18>=N18,"Meta Conseguida","Meta Non Conseguida")))) -> Meta Non Conseguida
A19: I7-3 | B19: Resultados do PDI avaliado | C19: PE-02 Xestión de PDI | D19: Engadir a información da titulación da táboa "2.7 Resultados por centro" do informe institucional de resultados na folla de anexos https://www.uvigo.gal/universidade/calidade/programas-calidade/docencia/programa-docentia | E19: 4 | F19: ---- | G19: ---- | H19: ---- | J19: ---- | K19: ---- | L19: ---- | N19: ---- | O19: ---- | P19: ----
A20: I8 | B20: Indicadores de mobilidade do PDI | C20: PE-02 Xestión de PDI | D20: Nº dos obxectivos (I8-1 e I8-2) que se acadan | E20: 4 | F20: =+COUNTA(F21:F22) -> 0 | G20: =+COUNTIF(H21:H22,"Meta Conseguida") -> 0 | H20: =+IF(COUNTA(F21:F22)=0,"Indicador Sen Meta",IF(G20=2,"Meta Totalmente Alcanzada",IF(G21=0,"Introducir Resultado",IF(G20=0,"Ningunha Meta Alcanzada",IF(G20>0,"Meta Parcialmente Alcanzada"))))) -> Indicador Sen Meta | J20: =+COUNTA(J21:J22) -> 0 | K20: =+COUNTIF(L21:L22,"Meta Conseguida") -> 0 | L20: =+IF(COUNTA(J21:J22)=0,"Indicador Sen Meta",IF(K20=2,"Meta Totalmente Alcanzada",IF(K21=0,"Introducir Resultado",IF(K20=0,"Ningunha Meta Alcanzada",IF(K20>0,"Meta Parcialmente Alcanzada"))))) -> Indicador Sen Meta | N20: =+COUNTA(N21:N22) -> 2 | O20: =+COUNTIF(P21:P22,"Meta Conseguida") -> 0 | P20: =+IF(COUNTA(N21:N22)=0,"Indicador Sen Meta",IF(O20=2,"Meta Totalmente Alcanzada",IF(O21=0,"Introducir Resultado",IF(O20=0,"Ningunha Meta Alcanzada",IF(O20>0,"Meta Parcialmente Alcanzada"))))) -> Introducir Resultado
A21: I8-1 | B21: Nº PDI propio que participa en programas de mobilidade | C21: PE-02 Xestión de PDI | D21: Cubrir Meta e Resultado Seleccionar o dato na consulta "FOR. Formación e mobilidade do PDI" do portal de transparencia https://secretaria.uvigo.gal/uv/web/transparencia/informe/show/5/34/68 | E21: 4 | G21: 10 | H21: =+IF(AND(ISBLANK(F21),ISBLANK(G21)),"Introducir Meta e Resultado",IF(ISBLANK(F21),"Introducir Meta",IF(ISBLANK(G21),"Introducir Resultado",IF(G21>=F21,"Meta Conseguida","Meta Non Conseguida")))) -> Introducir Meta | L21: =+IF(AND(ISBLANK(J21),ISBLANK(K21)),"Introducir Meta e Resultado",IF(ISBLANK(J21),"Introducir Meta",IF(ISBLANK(K21),"Introducir Resultado",IF(K21>=J21,"Meta Conseguida","Meta Non Conseguida")))) -> Introducir Meta e Resultado | N21: 10 | P21: =+IF(AND(ISBLANK(N21),ISBLANK(O21)),"Introducir Meta e Resultado",IF(ISBLANK(N21),"Introducir Meta",IF(ISBLANK(O21),"Introducir Resultado",IF(O21>=N21,"Meta Conseguida","Meta Non Conseguida")))) -> Introducir Resultado
A22: I8-2 | B22: % de PDI que participa en programas de mobilidade | C22: PE-02 Xestión de PDI | D22: Só Cubrir a Meta. O Resultado calcúlase de xeito automático, a partir dos indicadores I8-1 e I46 % de PDI que participa en programas de mobilidade con relación ao PDI total, que se calcula | E22: 4 | G22: =+IFERROR(G$21/G$88,0) -> 0.1369863 | H22: =+IF(AND(ISBLANK(F22),ISBLANK(G22)),"Introducir Meta e Resultado",IF(ISBLANK(F22),"Introducir Meta",IF(ISBLANK(G22),"Introducir Resultado",IF(G22>=F22,"Meta Conseguida","Meta Non Conseguida")))) -> Introducir Meta | K22: =+IFERROR(K$21/K$88,0) -> 0 | L22: =+IF(AND(ISBLANK(J22),ISBLANK(K22)),"Introducir Meta e Resultado",IF(ISBLANK(J22),"Introducir Meta",IF(ISBLANK(K22),"Introducir Resultado",IF(K22>=J22,"Meta Conseguida","Meta Non Conseguida")))) -> Introducir Meta | N22: 0.1 | O22: =+IFERROR(O$21/O$88,0) -> 0 | P22: =+IF(AND(ISBLANK(N22),ISBLANK(O22)),"Introducir Meta e Resultado",IF(ISBLANK(N22),"Introducir Meta",IF(ISBLANK(O22),"Introducir Resultado",IF(O22>=N22,"Meta Conseguida","Meta Non Conseguida")))) -> Meta Non Conseguida
A23: I9 | B23: Distribución de alumnado por centros de prácticas | C23: DO-0204 Xestión de prácticas | D23: Este indicador atópase no rexistro "R1 DO-0204" na aplicación SGIC da secretaría virtual: https://secretaria.uvigo.gal/uv/web/sgic/admin/evidencias/list | E23: 5 | F23: ---- | G23: ---- | H23: ---- | J23: ---- | K23: ---- | L23: ---- | N23: ---- | O23: ---- | P23: ----
A24: I10 | B24: Indicadores de resultados | C24: DE-02 Seguimento e Medición; DE-03 Revisión do sistema pola dirección | D24: Nº dos obxectivos (I10-1 ata I10-12) que se acadan | E24: 6, 7 | F24: =+COUNTA(F25:F30)+COUNTA(F32:F33)+COUNTA(F35:F36) -> 5 | G24: =+COUNTIF(H25:H36,"Meta Conseguida") -> 4 | H24: =+IF((G24+F24)=0,"Introducir Meta e Resultado",IF(COUNTA(G25:G30)=0,"Indicador Sen Resultados",IF(G24=0,"Ningunha Meta Alcanzada",IF(G24>=F24,"Meta Totalmente Alcanzada",IF(G24>0,"Meta Parcialmente Alcanzada"))))) -> Meta Parcialmente Alcanzada | J24: =+COUNTA(J25:J30)+COUNTA(J32:J33)+COUNTA(J35:J36) -> 5 | K24: =+COUNTIF(L25:L36,"Meta Conseguida") -> 5 | L24: =+IF((K24+J24)=0,"Introducir Meta e Resultado",IF(COUNTA(K25:K30)=0,"Indicador Sen Resultados",IF(K24=0,"Ningunha Meta Alcanzada",IF(K24>=J24,"Meta Totalmente Alcanzada",IF(K24>0,"Meta Parcialmente Alcanzada"))))) -> Meta Totalmente Alcanzada | N24: =+COUNTA(N25:N30)+COUNTA(N32:N33)+COUNTA(N35:N36) -> 6 | O24: =+COUNTIF(P25:P36,"Meta Conseguida") -> 0 | P24: =+IF((O24+N24)=0,"Introducir Meta e Resultado",IF(COUNTA(O25:O30)=0,"Indicador Sen Resultados",IF(O24=0,"Ningunha Meta Alcanzada",IF(O24>=N24,"Meta Totalmente Alcanzada",IF(O24>0,"Meta Parcialmente Alcanzada"))))) -> Indicador Sen Resultados
A25: I10-1 | B25: Taxa de graduación da titulación | C25: DE-02 Seguimento e Medición; DE-03 Revisión do sistema pola dirección | D25: Cubrir Meta e Resultado Escoller o documento excel do grao ou máster segundo o caso, do menú de GRA. Graduación https://secretaria.uvigo.gal/uv/web/transparencia/informe/show/5/51/66 | E25: 7 | F25: 0.5 | G25: 0.53846154 | H25: =+IF(AND(ISBLANK(F25),ISBLANK(G25)),"Introducir Meta e Resultado",IF(ISBLANK(F25),"Introducir Meta",IF(ISBLANK(G25),"Introducir Resultado",IF(G25>=F25,"Meta Conseguida","Meta Non Conseguida")))) -> Meta Conseguida | J25: 0.5 | K25: 0.5 | L25: =+IF(AND(ISBLANK(J25),ISBLANK(K25)),"Introducir Meta e Resultado",IF(ISBLANK(J25),"Introducir Meta",IF(ISBLANK(K25),"Introducir Resultado",IF(K25>=J25,"Meta Conseguida","Meta Non Conseguida")))) -> Meta Conseguida | N25: 0.5 | P25: =+IF(AND(ISBLANK(N25),ISBLANK(O25)),"Introducir Meta e Resultado",IF(ISBLANK(N25),"Introducir Meta",IF(ISBLANK(O25),"Introducir Resultado",IF(O25>=N25,"Meta Conseguida","Meta Non Conseguida")))) -> Introducir Resultado
A26: I10-2 | B26: Taxa de abandono da titulación (CURSA) | C26: DE-02 Seguimento e Medición; DE-03 Revisión do sistema pola dirección | D26: Cubrir Meta e Resultado. O indicador acádase se o resultado é igual ou inferior á meta Escoller o documento excel do grao ou máster segundo o caso, do menú ABA: abandono https://secretaria.uvigo.gal/uv/web/transparencia/informe/show/5/51/65 | E26: 7 | F26: 0.2 | G26: 0.23529412 | H26: =+IF(AND(ISBLANK(F26),ISBLANK(G26)),"Introducir Meta e Resultado",IF(ISBLANK(F26),"Introducir Meta",IF(ISBLANK(G26),"Introducir Resultado",IF(G26<=F26,"Meta Conseguida","Meta Non Conseguida")))) -> Meta Non Conseguida | J26: 0.2 | K26: 0.097560976 | L26: =+IF(AND(ISBLANK(J26),ISBLANK(K26)),"Introducir Meta e Resultado",IF(ISBLANK(J26),"Introducir Meta",IF(ISBLANK(K26),"Introducir Resultado",IF(K26<=J26,"Meta Conseguida","Meta Non Conseguida")))) -> Meta Conseguida | N26: 0.2 | P26: =+IF(AND(ISBLANK(N26),ISBLANK(O26)),"Introducir Meta e Resultado",IF(ISBLANK(N26),"Introducir Meta",IF(ISBLANK(O26),"Introducir Resultado",IF(O26<=N26,"Meta Conseguida","Meta Non Conseguida")))) -> Introducir Resultado
A27: I10-3 | B27: Taxa de eficiencia | C27: DE-02 Seguimento e Medición; DE-03 Revisión do sistema pola dirección | D27: Cubrir Meta e Resultado Escoller o documento excel do grao ou máster segundo o caso, do menú de GRA. Graduación https://secretaria.uvigo.gal/uv/web/transparencia/informe/show/5/51/66 | E27: 7 | F27: 0.9 | G27: 0.9161351 | H27: =+IF(AND(ISBLANK(F27),ISBLANK(G27)),"Introducir Meta e Resultado",IF(ISBLANK(F27),"Introducir Meta",IF(ISBLANK(G27),"Introducir Resultado",IF(G27>=F27,"Meta Conseguida","Meta Non Conseguida")))) -> Meta Conseguida | J27: 0.9 | K27: 0.90638017 | L27: =+IF(AND(ISBLANK(J27),ISBLANK(K27)),"Introducir Meta e Resultado",IF(ISBLANK(J27),"Introducir Meta",IF(ISBLANK(K27),"Introducir Resultado",IF(K27>=J27,"Meta Conseguida","Meta Non Conseguida")))) -> Meta Conseguida | N27: 0.8 | P27: =+IF(AND(ISBLANK(N27),ISBLANK(O27)),"Introducir Meta e Resultado",IF(ISBLANK(N27),"Introducir Meta",IF(ISBLANK(O27),"Introducir Resultado",IF(O27>=N27,"Meta Conseguida","Meta Non Conseguida")))) -> Introducir Resultado
A28: I10-4 | B28: Taxa de Rendemento | C28: DE-02 Seguimento e Medición; DE-03 Revisión do sistema pola dirección | D28: Cubrir Meta e Resultado Elixir o documento excel do grao ou máster segundo o caso, do menú REN Rendemento https://secretaria.uvigo.gal/uv/web/transparencia/informe/show/5/51/64 | E28: 7 | F28: 0.8 | G28: 0.80968767 | H28: =+IF(AND(ISBLANK(F28),ISBLANK(G28)),"Introducir Meta e Resultado",IF(ISBLANK(F28),"Introducir Meta",IF(ISBLANK(G28),"Introducir Resultado",IF(G28>=F28,"Meta Conseguida","Meta Non Conseguida")))) -> Meta Conseguida | J28: 0.8 | K28: 0.81552076 | L28: =+IF(AND(ISBLANK(J28),ISBLANK(K28)),"Introducir Meta e Resultado",IF(ISBLANK(J28),"Introducir Meta",IF(ISBLANK(K28),"Introducir Resultado",IF(K28>=J28,"Meta Conseguida","Meta Non Conseguida")))) -> Meta Conseguida | N28: 0.75 | P28: =+IF(AND(ISBLANK(N28),ISBLANK(O28)),"Introducir Meta e Resultado",IF(ISBLANK(N28),"Introducir Meta",IF(ISBLANK(O28),"Introducir Resultado",IF(O28>=N28,"Meta Conseguida","Meta Non Conseguida")))) -> Introducir Resultado
A29: I10-5 | B29: Taxa de éxito | C29: DE-02 Seguimento e Medición; DE-03 Revisión do sistema pola dirección | D29: Cubrir Meta e Resultado Elixir o documento excel do grao ou máster segundo o caso, do menú REN Rendemento https://secretaria.uvigo.gal/uv/web/transparencia/informe/show/5/51/64 | E29: 7 | F29: 0.8 | G29: 0.8853835 | H29: =+IF(AND(ISBLANK(F29),ISBLANK(G29)),"Introducir Meta e Resultado",IF(ISBLANK(F29),"Introducir Meta",IF(ISBLANK(G29),"Introducir Resultado",IF(G29>=F29,"Meta Conseguida","Meta Non Conseguida")))) -> Meta Conseguida | J29: 0.8 | K29: 0.89684084 | L29: =+IF(AND(ISBLANK(J29),ISBLANK(K29)),"Introducir Meta e Resultado",IF(ISBLANK(J29),"Introducir Meta",IF(ISBLANK(K29),"Introducir Resultado",IF(K29>=J29,"Meta Conseguida","Meta Non Conseguida")))) -> Meta Conseguida | N29: 0.7 | P29: =+IF(AND(ISBLANK(N29),ISBLANK(O29)),"Introducir Meta e Resultado",IF(ISBLANK(N29),"Introducir Meta",IF(ISBLANK(O29),"Introducir Resultado",IF(O29>=N29,"Meta Conseguida","Meta Non Conseguida")))) -> Introducir Resultado
A30: I10-6 | B30: Taxa de avaliación | C30: DE-02 Seguimento e Medición; DE-03 Revisión do sistema pola dirección | D30: Cubrir Meta e Resultado Elixir o documento excel do grao ou máster segundo o caso, do menú REN Rendemento https://secretaria.uvigo.gal/uv/web/transparencia/informe/show/5/51/64 | E30: 7 | G30: 0.91450503 | H30: =+IF(AND(ISBLANK(F30),ISBLANK(G30)),"Introducir Meta e Resultado",IF(ISBLANK(F30),"Introducir Meta",IF(ISBLANK(G30),"Introducir Resultado",IF(G30>=F30,"Meta Conseguida","Meta Non Conseguida")))) -> Introducir Meta | K30: 0.90932607 | L30: =+IF(AND(ISBLANK(J30),ISBLANK(K30)),"Introducir Meta e Resultado",IF(ISBLANK(J30),"Introducir Meta",IF(ISBLANK(K30),"Introducir Resultado",IF(K30>=J30,"Meta Conseguida","Meta Non Conseguida")))) -> Introducir Meta | N30: 0.9 | P30: =+IF(AND(ISBLANK(N30),ISBLANK(O30)),"Introducir Meta e Resultado",IF(ISBLANK(N30),"Introducir Meta",IF(ISBLANK(O30),"Introducir Resultado",IF(O30>=N30,"Meta Conseguida","Meta Non Conseguida")))) -> Introducir Resultado
A31: I10-7 | B31: Taxa de Rendemento por materia | C31: DE-02 Seguimento e Medición; DE-03 Revisión do sistema pola dirección | D31: Engadir a información na Folla Anexos do Cadro de Mando, sobre as taxas de rendemento das titulación que se pode obter na consulta REN. Rendemento por materia https://secretaria.uvigo.gal/uv/web/transparencia/informe/show/5/51/64 | E31: 6 | F31: ---- | G31: ---- | H31: ---- | J31: ---- | K31: ---- | L31: ---- | N31: ---- | O31: ---- | P31: ----
A32: I10-8 | B32: Valor mínimo das taxas de Rendemento dunha materia da titulación | C32: DE-02 Seguimento e Medición; DE-03 Revisión do sistema pola dirección | D32: Só Cubrir a Meta. O Resultado calcúlase de xeito automático, a partir das taxas de rendemento das materias que se atopan na folla "Anexos" Indicar o valor mínimo das taxas de rendemento das materias da titulación, do indicador I10-7 | E32: 6 | G32: =+IFERROR(MIN('Anexos 1'!$Z$6:$Z$200),"----") -> 0.125 | H32: =+IF(AND(ISBLANK(F32),ISBLANK(G32)),"Introducir Meta e Resultado",IF(ISBLANK(F32),"Introducir Meta",IF(ISBLANK(G32),"Introducir Resultado",IF(G32>=F32,"Meta Conseguida","Meta Non Conseguida")))) -> Introducir Meta | K32: 0.32 | L32: =+IF(AND(ISBLANK(J32),ISBLANK(K32)),"Introducir Meta e Resultado",IF(ISBLANK(J32),"Introducir Meta",IF(ISBLANK(K32),"Introducir Resultado",IF(K32>=J32,"Meta Conseguida","Meta Non Conseguida")))) -> Introducir Meta | O32: =+IFERROR(MIN('Anexos 3'!$Z$6:$Z$200),"----") -> 0 | P32: =+IF(AND(ISBLANK(N32),ISBLANK(O32)),"Introducir Meta e Resultado",IF(ISBLANK(N32),"Introducir Meta",IF(ISBLANK(O32),"Introducir Resultado",IF(O32>=N32,"Meta Conseguida","Meta Non Conseguida")))) -> Introducir Meta
A33: I10-9 | B33: % de materias que acadan unha Taxa de Rendemento de XX% | C33: DE-02 Seguimento e Medición; DE-03 Revisión do sistema pola dirección | D33: Só Cubrir a Meta. O Resultado calcúlase de xeito automático indicando na columna T da folla "Anexos" o valor establecido da taxa de cada materia. Indicar a % de materias cunha taxa de rendemento igual ou superior a un valor establecido (Por exemplo o 50%). | E33: 6 | G33: =+'Anexos 1'!$AD$3 -> 0 | H33: =+IF(AND(ISBLANK(F33),ISBLANK(G33)),"Introducir Meta e Resultado",IF(ISBLANK(F33),"Introducir Meta",IF(ISBLANK(G33),"Introducir Resultado",IF(G33>=F33,"Meta Conseguida","Meta Non Conseguida")))) -> Introducir Meta | K33: =+'Anexos 2'!$AD$3 -> 0 | L33: =+IF(AND(ISBLANK(J33),ISBLANK(K33)),"Introducir Meta e Resultado",IF(ISBLANK(J33),"Introducir Meta",IF(ISBLANK(K33),"Introducir Resultado",IF(K33>=J33,"Meta Conseguida","Meta Non Conseguida")))) -> Introducir Meta | O33: =+'Anexos 3'!$AD$3 -> 0 | P33: =+IF(AND(ISBLANK(N33),ISBLANK(O33)),"Introducir Meta e Resultado",IF(ISBLANK(N33),"Introducir Meta",IF(ISBLANK(O33),"Introducir Resultado",IF(O33>=N33,"Meta Conseguida","Meta Non Conseguida")))) -> Introducir Meta
A34: I10-10 | B34: Taxa de éxito por materia | C34: DE-02 Seguimento e Medición; DE-03 Revisión do sistema pola dirección | D34: Engadir a información na Folla Anexos do Cadro de Mando, sobre as taxas de Éxito das titulación que se pode obter na consulta REN. Rendemento por materia https://secretaria.uvigo.gal/uv/web/transparencia/informe/show/5/51/64 | E34: 6 | F34: ---- | G34: ---- | H34: ---- | J34: ---- | K34: ---- | L34: ---- | N34: ---- | O34: ---- | P34: ----
A35: I10-11 | B35: Valor mínimo das taxas de Éxito dunha materia da titulación | C35: DE-02 Seguimento e Medición; DE-03 Revisión do sistema pola dirección | D35: Só Cubrir a Meta. O Resultado calcúlase de xeito automático, a partir das taxas de éxito das materias que se atopan na folla "Anexos" Indica o valor mínimo das taxas de Éxito das materias da titulación, do indicador I10-10 | E35: 6 | G35: =+IFERROR(MIN('Anexos 1'!$Y$6:$Y$200),"----") -> 0.33333333 | H35: =+IF(AND(ISBLANK(F35),ISBLANK(G35)),"Introducir Meta e Resultado",IF(ISBLANK(F35),"Introducir Meta",IF(ISBLANK(G35),"Introducir Resultado",IF(G35>=F35,"Meta Conseguida","Meta Non Conseguida")))) -> Introducir Meta | K35: 0.36 | L35: =+IF(AND(ISBLANK(J35),ISBLANK(K35)),"Introducir Meta e Resultado",IF(ISBLANK(J35),"Introducir Meta",IF(ISBLANK(K35),"Introducir Resultado",IF(K35>=J35,"Meta Conseguida","Meta Non Conseguida")))) -> Introducir Meta | O35: =+IFERROR(MIN('Anexos 3'!$Y$6:$Y$200),"----") -> 0 | P35: =+IF(AND(ISBLANK(N35),ISBLANK(O35)),"Introducir Meta e Resultado",IF(ISBLANK(N35),"Introducir Meta",IF(ISBLANK(O35),"Introducir Resultado",IF(O35>=N35,"Meta Conseguida","Meta Non Conseguida")))) -> Introducir Meta
A36: I10-12 | B36: Xº de materias que acadan unha Taxa de Éxito de XX% | C36: DE-02 Seguimento e Medición; DE-03 Revisión do sistema pola dirección | D36: Só Cubrir a Meta. O Resultado calcúlase de xeito automático indicando na columna S da folla "Anexos" o valor establecido da taxa de cada materia. Indicar a % de materias cunha taxa de Éxito igual ou superior a un valor establecido (Por exemplo o 50%). | E36: 6 | G36: =+'Anexos 1'!$AC$3 -> 0 | H36: =+IF(AND(ISBLANK(F36),ISBLANK(G36)),"Introducir Meta e Resultado",IF(ISBLANK(F36),"Introducir Meta",IF(ISBLANK(G36),"Introducir Resultado",IF(G36>=F36,"Meta Conseguida","Meta Non Conseguida")))) -> Introducir Meta | K36: =+'Anexos 2'!$AC$3 -> 0 | L36: =+IF(AND(ISBLANK(J36),ISBLANK(K36)),"Introducir Meta e Resultado",IF(ISBLANK(J36),"Introducir Meta",IF(ISBLANK(K36),"Introducir Resultado",IF(K36>=J36,"Meta Conseguida","Meta Non Conseguida")))) -> Introducir Meta | O36: =+'Anexos 3'!$AC$3 -> 0 | P36: =+IF(AND(ISBLANK(N36),ISBLANK(O36)),"Introducir Meta e Resultado",IF(ISBLANK(N36),"Introducir Meta",IF(ISBLANK(O36),"Introducir Resultado",IF(O36>=N36,"Meta Conseguida","Meta Non Conseguida")))) -> Introducir Meta
A37: I11 | B37: Relación de Oferta / Demanda de prazas | C37: AC-01: Acceso, evolución e Expedición de Titulos Oficiais | D37: Nº dos obxectivos (I11-1, I11-2 e I11-3) que se acadan | E37: 7 | F37: =+COUNTA(F38:F40) -> 3 | G37: =+COUNTIF(H38:H40,"Meta Conseguida") -> 2 | H37: =+IF(COUNTA(F38:F40)=0,"Indicador Sen Meta",IF(COUNTA(G38:G40)=0,"Indicador Sen Resultados",IF(G37=0,"Ningunha Meta Alcanzada",IF(G37>=F37,"Meta Totalmente Alcanzada",IF(G37>0,"Meta Parcialmente Alcanzada"))))) -> Meta Parcialmente Alcanzada | J37: =+COUNTA(J38:J40) -> 3 | K37: =+COUNTIF(L38:L40,"Meta Conseguida") -> 2 | L37: =+IF(COUNTA(J38:J40)=0,"Indicador Sen Meta",IF(COUNTA(K38:K40)=0,"Indicador Sen Resultados",IF(K37=0,"Ningunha Meta Alcanzada",IF(K37>=J37,"Meta Totalmente Alcanzada",IF(K37>0,"Meta Parcialmente Alcanzada"))))) -> Meta Parcialmente Alcanzada | N37: =+COUNTA(N38:N40) -> 3 | O37: =+COUNTIF(P38:P40,"Meta Conseguida") -> 0 | P37: =+IF(COUNTA(N38:N40)=0,"Indicador Sen Meta",IF(COUNTA(O38:O40)=0,"Indicador Sen Resultados",IF(O37=0,"Ningunha Meta Alcanzada",IF(O37>=N37,"Meta Totalmente Alcanzada",IF(O37>0,"Meta Parcialmente Alcanzada"))))) -> Indicador Sen Resultados
A38: I11-1 | B38: Taxa de Ocupación | C38: AC-01: Acceso, evolución e Expedición de Titulos Oficiais | D38: Cubrir Meta e Resultado Escoller PRE.GRA Admisión de Grao ou PRE.MÁS. Admisión de máster segundo o caso https://secretaria.uvigo.gal/uv/web/transparencia/grupo/show/5/51 o documento excel correspondente e posteriormente elixir a columna de Taxas de ocupación | E38: 7 | F38: 1 | G38: 0.80833333 | H38: =+IF(AND(ISBLANK(F38),ISBLANK(G38)),"Introducir Meta e Resultado",IF(ISBLANK(F38),"Introducir Meta",IF(ISBLANK(G38),"Introducir Resultado",IF(G38>=F38,"Meta Conseguida","Meta Non Conseguida")))) -> Meta Non Conseguida | J38: 1 | K38: 0.8 | L38: =+IF(AND(ISBLANK(J38),ISBLANK(K38)),"Introducir Meta e Resultado",IF(ISBLANK(J38),"Introducir Meta",IF(ISBLANK(K38),"Introducir Resultado",IF(K38>=J38,"Meta Conseguida","Meta Non Conseguida")))) -> Meta Non Conseguida | N38: 0.8 | P38: =+IF(AND(ISBLANK(N38),ISBLANK(O38)),"Introducir Meta e Resultado",IF(ISBLANK(N38),"Introducir Meta",IF(ISBLANK(O38),"Introducir Resultado",IF(O38>=N38,"Meta Conseguida","Meta Non Conseguida")))) -> Introducir Resultado
A39: I11-2 | B39: Taxa de Preferencia (só Graos) | C39: AC-01: Acceso, evolución e Expedición de Titulos Oficiais | D39: Cubrir Meta e Resultado (Só Graos) Seleccionar a columna Taxa de Preferencia no documento excel PRE.GRA Admisión de Grao, que se atopa en https://secretaria.uvigo.gal/uv/web/transparencia/informe/show/5/51/3 | E39: 7 | F39: 0.9 | G39: 1.1583333 | H39: =+IF(AND(ISBLANK(F39),ISBLANK(G39)),"Introducir Meta e Resultado",IF(ISBLANK(F39),"Introducir Meta",IF(ISBLANK(G39),"Introducir Resultado",IF(G39>=F39,"Meta Conseguida","Meta Non Conseguida")))) -> Meta Conseguida | J39: 0.9 | K39: 1.0417 | L39: =+IF(AND(ISBLANK(J39),ISBLANK(K39)),"Introducir Meta e Resultado",IF(ISBLANK(J39),"Introducir Meta",IF(ISBLANK(K39),"Introducir Resultado",IF(K39>=J39,"Meta Conseguida","Meta Non Conseguida")))) -> Meta Conseguida | N39: 0.9 | P39: =+IF(AND(ISBLANK(N39),ISBLANK(O39)),"Introducir Meta e Resultado",IF(ISBLANK(N39),"Introducir Meta",IF(ISBLANK(O39),"Introducir Resultado",IF(O39>=N39,"Meta Conseguida","Meta Non Conseguida")))) -> Introducir Resultado
A40: I11-3 | B40: Taxa de Adecuación (só Graos) | C40: AC-01: Acceso, evolución e Expedición de Titulos Oficiais | D40: Cubrir Meta e Resultado (Só Graos) Seleccionar a columna Taxa de Adecuación no documento excel PRE.GRA Admisión de Grao, que se atopa en https://secretaria.uvigo.gal/uv/web/transparencia/informe/show/5/51/3 | E40: 7 | F40: 0.7 | G40: 0.90721649 | H40: =+IF(AND(ISBLANK(F40),ISBLANK(G40)),"Introducir Meta e Resultado",IF(ISBLANK(F40),"Introducir Meta",IF(ISBLANK(G40),"Introducir Resultado",IF(G40>=F40,"Meta Conseguida","Meta Non Conseguida")))) -> Meta Conseguida | J40: 0.7 | K40: 0.9167 | L40: =+IF(AND(ISBLANK(J40),ISBLANK(K40)),"Introducir Meta e Resultado",IF(ISBLANK(J40),"Introducir Meta",IF(ISBLANK(K40),"Introducir Resultado",IF(K40>=J40,"Meta Conseguida","Meta Non Conseguida")))) -> Meta Conseguida | N40: 0.7 | P40: =+IF(AND(ISBLANK(N40),ISBLANK(O40)),"Introducir Meta e Resultado",IF(ISBLANK(N40),"Introducir Meta",IF(ISBLANK(O40),"Introducir Resultado",IF(O40>=N40,"Meta Conseguida","Meta Non Conseguida")))) -> Introducir Resultado
A41: I12 | B41: Resultados de inserción laboral | C41: DE-02 Seguimento e Medición; DE-03 Revisión do sistema pola dirección | D41: Este indicador atópase na seguinte ligazón: https://secretaria.uvigo.gal/uv/web/transparencia/grupo/show/5/69 | E41: 7 | F41: ---- | G41: 0.6 | H41: =+IF(ISBLANK(G41),"Introducir Resultado","Indicador Completado") -> Indicador Completado | J41: ---- | L41: =+IF(ISBLANK(K41),"Introducir Resultado","Indicador Completado") -> Introducir Resultado | N41: ---- | P41: =+IF(ISBLANK(O41),"Introducir Resultado","Indicador Completado") -> Introducir Resultado
A42: I13 | B42: Media alumnos por grupo de docencia ou PDA | C42: DO-0201 Planificación e desenvolvemento da ensinanza | D42: Este indicador atópase no rexistro "R1 DO-0201 PDA" na aplicación SGIC da secretaría virtual: https://secretaria.uvigo.gal/uv/web/sgic/admin/evidencias/list | E42: 1 | F42: ---- | G42: ---- | H42: ---- | J42: ---- | K42: ---- | L42: ---- | N42: ---- | O42: ---- | P42: ----
A44: Indicadores institucionais da Universidade de Vigo
A46: I20 | B46: Índice das enquisas de satisfacción coas titulacións | C46: MC-05 Medición satisfacción | D46: Nº dos obxectivos (I20-1, I20-2, I20-3 e I20-4) que se acadan | E46: 7 | F46: =+COUNTA(F47:F51) -> 3 | G46: =+COUNTIF(H47:H51,"Meta Conseguida") -> 2 | H46: =+IF((G46+F46)=0,"Introducir Meta e Resultado",IF(COUNTA(G47:G51)=0,"Indicador Sen Resultados",IF(G46=0,"Ningunha Meta Alcanzada",IF(G46>=F46,"Meta Totalmente Alcanzada",IF(G46>0,"Meta Parcialmente Alcanzada"))))) -> Meta Parcialmente Alcanzada | J46: =+COUNTA(J47:J51) -> 3 | K46: =+COUNTIF(L47:L51,"Meta Conseguida") -> 1 | L46: =+IF((K46+J46)=0,"Introducir Meta e Resultado",IF(COUNTA(K47:K51)=0,"Indicador Sen Resultados",IF(K46=0,"Ningunha Meta Alcanzada",IF(K46>=J46,"Meta Totalmente Alcanzada",IF(K46>0,"Meta Parcialmente Alcanzada"))))) -> Meta Parcialmente Alcanzada | N46: =+COUNTA(N47:N51) -> 5 | O46: =+COUNTIF(P47:P51,"Meta Conseguida") -> 0 | P46: =+IF((O46+N46)=0,"Introducir Meta e Resultado",IF(COUNTA(O47:O51)=0,"Indicador Sen Resultados",IF(O46=0,"Ningunha Meta Alcanzada",IF(O46>=N46,"Meta Totalmente Alcanzada",IF(O46>0,"Meta Parcialmente Alcanzada"))))) -> Indicador Sen Resultados
A47: I20-1 | B47: Índice de satisfacción do Estudantado coas titulacións | C47: MC-05 Medición satisfacción | D47: Cubrir Meta e Resultado. A meta poderá estar entre os valores [1-5] Introducir o Grao de satisfacción do estudantado coa titulación, que se atopa na folla "Titulación", na columna "Resultado" na fila de "ValoraciónTotal" da titulación do informe do portal de transparencia. https://secretaria.uvigo.gal/uv/web/transparencia/grupo/show/5/28 | E47: 7 | F47: 3 | G47: 3.13 | H47: =+IF(AND(ISBLANK(F47),ISBLANK(G47)),"Introducir Meta e Resultado",IF(ISBLANK(F47),"Introducir Meta",IF(ISBLANK(G47),"Introducir Resultado",IF(G47>=F47,"Meta Conseguida","Meta Non Conseguida")))) -> Meta Conseguida | J47: 3 | K47: 2.620438 | L47: =+IF(AND(ISBLANK(J47),ISBLANK(K47)),"Introducir Meta e Resultado",IF(ISBLANK(J47),"Introducir Meta",IF(ISBLANK(K47),"Introducir Resultado",IF(K47>=J47,"Meta Conseguida","Meta Non Conseguida")))) -> Meta Non Conseguida | N47: 3 | P47: =+IF(AND(ISBLANK(N47),ISBLANK(O47)),"Introducir Meta e Resultado",IF(ISBLANK(N47),"Introducir Meta",IF(ISBLANK(O47),"Introducir Resultado",IF(O47>=N47,"Meta Conseguida","Meta Non Conseguida")))) -> Introducir Resultado
A48: I20-2 | B48: Índice de satisfacción do Profesorado coas titulacións | C48: MC-05 Medición satisfacción | D48: Cubrir Meta e Resultado. A meta poderá estar entre os valores [1-5] Introducir o Grao de satisfacción do PDI coa titulación, que se atopa na folla "Titulación", na columna "Resultado" na fila de "Valoración Total" da titulación do informe do portal de transparencia. https://secretaria.uvigo.gal/uv/web/transparencia/grupo/show/5/28 No caso que no curso de referencia non houbera resultados, seleccionar o índice do curso pasado | E48: 7 | F48: 3.5 | G48: 3.8387681 | H48: =+IF(AND(ISBLANK(F48),ISBLANK(G48)),"Introducir Meta e Resultado",IF(ISBLANK(F48),"Introducir Meta",IF(ISBLANK(G48),"Introducir Resultado",IF(G48>=F48,"Meta Conseguida","Meta Non Conseguida")))) -> Meta Conseguida | J48: 3.5 | K48: 4.0207668 | L48: =+IF(AND(ISBLANK(J48),ISBLANK(K48)),"Introducir Meta e Resultado",IF(ISBLANK(J48),"Introducir Meta",IF(ISBLANK(K48),"Introducir Resultado",IF(K48>=J48,"Meta Conseguida","Meta Non Conseguida")))) -> Meta Conseguida | N48: 3.5 | P48: =+IF(AND(ISBLANK(N48),ISBLANK(O48)),"Introducir Meta e Resultado",IF(ISBLANK(N48),"Introducir Meta",IF(ISBLANK(O48),"Introducir Resultado",IF(O48>=N48,"Meta Conseguida","Meta Non Conseguida")))) -> Introducir Resultado
A49: I20-3 | B49: Índice de satisfacción das Persoas tituladas coas titulacións | C49: MC-05 Medición satisfacción | D49: Cubrir Meta e Resultado. A meta poderá estar entre os valores [1-5] Introducir o Grao de satisfacción das Persoas Tituladas coa titulación, que se atopa na folla "Titulación", na columna "Resultado" na fila de "Valoración Total" da titulación do informe do portal de transparencia. https://secretaria.uvigo.gal/uv/web/transparencia/grupo/show/5/28 | E49: 7 | F49: 3.5 | G49: 3.466899 | H49: =+IF(AND(ISBLANK(F49),ISBLANK(G49)),"Introducir Meta e Resultado",IF(ISBLANK(F49),"Introducir Meta",IF(ISBLANK(G49),"Introducir Resultado",IF(G49>=F49,"Meta Conseguida","Meta Non Conseguida")))) -> Meta Non Conseguida | J49: 3.5 | K49: 3.0714286 | L49: =+IF(AND(ISBLANK(J49),ISBLANK(K49)),"Introducir Meta e Resultado",IF(ISBLANK(J49),"Introducir Meta",IF(ISBLANK(K49),"Introducir Resultado",IF(K49>=J49,"Meta Conseguida","Meta Non Conseguida")))) -> Meta Non Conseguida | N49: 3.5 | P49: =+IF(AND(ISBLANK(N49),ISBLANK(O49)),"Introducir Meta e Resultado",IF(ISBLANK(N49),"Introducir Meta",IF(ISBLANK(O49),"Introducir Resultado",IF(O49>=N49,"Meta Conseguida","Meta Non Conseguida")))) -> Introducir Resultado
A50: I20-4 | B50: Índice de satisfacción do PTXAS coas titulacións | C50: MC-05 Medición satisfacción | D50: Cubrir Meta e Resultado. A meta poderá estar entre os valores [1-5] Introducir o Grao de satisfacción do PTXAS coa titulación, que se atopa na folla "Titulación", na columna "Resultado" na fila de "Valoración Total" da titulación do informe do portal de transparencia. https://secretaria.uvigo.gal/uv/web/transparencia/grupo/show/5/28 No caso que no curso de referencia non houbera resultados, seleccionar o índice do curso pasado | E50: 7 | G50: 3.0465116 | H50: =+IF(AND(ISBLANK(F50),ISBLANK(G50)),"Introducir Meta e Resultado",IF(ISBLANK(F50),"Introducir Meta",IF(ISBLANK(G50),"Introducir Resultado",IF(G50>=F50,"Meta Conseguida","Meta Non Conseguida")))) -> Introducir Meta | K50: 4.6666667 | L50: =+IF(AND(ISBLANK(J50),ISBLANK(K50)),"Introducir Meta e Resultado",IF(ISBLANK(J50),"Introducir Meta",IF(ISBLANK(K50),"Introducir Resultado",IF(K50>=J50,"Meta Conseguida","Meta Non Conseguida")))) -> Introducir Meta | N50: 3.5 | P50: =+IF(AND(ISBLANK(N50),ISBLANK(O50)),"Introducir Meta e Resultado",IF(ISBLANK(N50),"Introducir Meta",IF(ISBLANK(O50),"Introducir Resultado",IF(O50>=N50,"Meta Conseguida","Meta Non Conseguida")))) -> Introducir Resultado
A51: I20-5 | B51: Índice de satisfacción de entidades empregadoras coas titulacións | C51: MC-05 Medición satisfacción | D51: Cubrir Meta e Resultado. A meta poderá estar entre os valores [1-5] Introducir o Grao de satisfacción das entidades empregadoras coa titulación, que se atopa na folla "Titulación", na columna "Resultado" do informe achegado pola Área de Calidade. No caso que no curso de referencia non houbera resultados, seleccionar o índice do curso pasado | E51: 7 | G51: ---- | H51: =+IF(AND(ISBLANK(F51),ISBLANK(G51)),"Introducir Meta e Resultado",IF(ISBLANK(F51),"Introducir Meta",IF(ISBLANK(G51),"Introducir Resultado",IF(G51>=F51,"Meta Conseguida","Meta Non Conseguida")))) -> Introducir Meta | K51: ---- | L51: =+IF(AND(ISBLANK(J51),ISBLANK(K51)),"Introducir Meta e Resultado",IF(ISBLANK(J51),"Introducir Meta",IF(ISBLANK(K51),"Introducir Resultado",IF(K51>=J51,"Meta Conseguida","Meta Non Conseguida")))) -> Introducir Meta | N51: 3.5 | P51: =+IF(AND(ISBLANK(N51),ISBLANK(O51)),"Introducir Meta e Resultado",IF(ISBLANK(N51),"Introducir Meta",IF(ISBLANK(O51),"Introducir Resultado",IF(O51>=N51,"Meta Conseguida","Meta Non Conseguida")))) -> Introducir Resultado
A52: I21 | B52: Taxa de abandono (Egreso) | C52: DE-02 Seguimento e Medición; DE-03 Revisión do sistema pola dirección | D52: Cubrir Meta e Resultado. O indicador acádase se o resultado é igual ou inferior á meta Elixir o documento excel do grao ou máster segundo o caso, do menú ABA. abandono https://secretaria.uvigo.gal/uv/web/transparencia/informe/show/5/51/65 | E52: 7 | F52: 0.2 | G52: 0.34188034 | H52: =+IF(AND(ISBLANK(F52),ISBLANK(G52)),"Introducir Meta e Resultado",IF(ISBLANK(F52),"Introducir Meta",IF(ISBLANK(G52),"Introducir Resultado",IF(G52<=F52,"Meta Conseguida","Meta Non Conseguida")))) -> Meta Non Conseguida | J52: 0.2 | K52: 0.33636364 | L52: =+IF(AND(ISBLANK(J52),ISBLANK(K52)),"Introducir Meta e Resultado",IF(ISBLANK(J52),"Introducir Meta",IF(ISBLANK(K52),"Introducir Resultado",IF(K52<=J52,"Meta Conseguida","Meta Non Conseguida")))) -> Meta Non Conseguida | N52: 0.2 | P52: =+IF(AND(ISBLANK(N52),ISBLANK(O52)),"Introducir Meta e Resultado",IF(ISBLANK(N52),"Introducir Meta",IF(ISBLANK(O52),"Introducir Resultado",IF(O52<=N52,"Meta Conseguida","Meta Non Conseguida")))) -> Introducir Resultado
A53: I22 | B53: Taxa de cambio de estudo | C53: DE-02 Seguimento e Medición; DE-03 Revisión do sistema pola dirección | D53: Cubrir Meta e Resultado. O indicador acádase se o resultado é igual ou inferior á meta Elixir o documento excel do grao ou máster segundo o caso, do menú ABA. abandono https://secretaria.uvigo.gal/uv/web/transparencia/informe/show/5/51/65 | E53: 7 | G53: 0.058823529 | H53: =+IF(AND(ISBLANK(F53),ISBLANK(G53)),"Introducir Meta e Resultado",IF(ISBLANK(F53),"Introducir Meta",IF(ISBLANK(G53),"Introducir Resultado",IF(G53<=F53,"Meta Conseguida","Meta Non Conseguida")))) -> Introducir Meta | K53: 0.0122 | L53: =+IF(AND(ISBLANK(J53),ISBLANK(K53)),"Introducir Meta e Resultado",IF(ISBLANK(J53),"Introducir Meta",IF(ISBLANK(K53),"Introducir Resultado",IF(K53<=J53,"Meta Conseguida","Meta Non Conseguida")))) -> Introducir Meta | N53: 0.02 | P53: =+IF(AND(ISBLANK(N53),ISBLANK(O53)),"Introducir Meta e Resultado",IF(ISBLANK(N53),"Introducir Meta",IF(ISBLANK(O53),"Introducir Resultado",IF(O53<=N53,"Meta Conseguida","Meta Non Conseguida")))) -> Introducir Resultado
A54: I23 | B54: Índice de satisfacción cos recursos materiais e servizos | C54: IA-01: Xestión dos recursos materiais e dos servizos | D54: Nº dos obxectivos (I23-1, I23-2, I23-3 e I23-4) que se acadan | E54: 5 | F54: =+COUNTA(F55:F58) -> 0 | G54: =+COUNTIF(H55:H58,"Meta Conseguida") -> 0 | H54: =+IF((G54+F54)=0,"Introducir Meta e Resultado",IF(COUNTA(G55:G58)=0,"Indicador Sen Resultados",IF(G54=0,"Ningunha Meta Alcanzada",IF(G54>=F54,"Meta Totalmente Alcanzada",IF(G54>0,"Meta Parcialmente Alcanzada"))))) -> Introducir Meta e Resultado | J54: =+COUNTA(J55:J58) -> 0 | K54: =+COUNTIF(L55:L58,"Meta Conseguida") -> 0 | L54: =+IF((K54+J54)=0,"Introducir Meta e Resultado",IF(COUNTA(K55:K58)=0,"Indicador Sen Resultados",IF(K54=0,"Ningunha Meta Alcanzada",IF(K54>=J54,"Meta Totalmente Alcanzada",IF(K54>0,"Meta Parcialmente Alcanzada"))))) -> Introducir Meta e Resultado | N54: =+COUNTA(N55:N58) -> 4 | O54: =+COUNTIF(P55:P58,"Meta Conseguida") -> 0 | P54: =+IF((O54+N54)=0,"Introducir Meta e Resultado",IF(COUNTA(O55:O58)=0,"Indicador Sen Resultados",IF(O54=0,"Ningunha Meta Alcanzada",IF(O54>=N54,"Meta Totalmente Alcanzada",IF(O54>0,"Meta Parcialmente Alcanzada"))))) -> Indicador Sen Resultados
A55: I23-1 | B55: Satisfacción do Estudantado cos recursos materiais e servizos | C55: IA-01: Xestión dos recursos materiais e dos servizos | D55: Cubrir Meta e Resultado. A meta poderá estar entre os valores [1-5] Introducir o valor que se atopa na folla de "Bloque", na columna "Resultado" na fila "Valoración Total" do "Bloque 5 Recursos materiais e servizos" da titulación do informe de "Enquisas de Satisfacción de estudantado" do portal de transparencia. https://secretaria.uvigo.gal/uv/web/transparencia/grupo/show/5/28 | E55: 5 | G55: 3.16 | H55: =+IF(AND(ISBLANK(F55),ISBLANK(G55)),"Introducir Meta e Resultado",IF(ISBLANK(F55),"Introducir Meta",IF(ISBLANK(G55),"Introducir Resultado",IF(G55>=F55,"Meta Conseguida","Meta Non Conseguida")))) -> Introducir Meta | K55: 2.6551724 | L55: =+IF(AND(ISBLANK(J55),ISBLANK(K55)),"Introducir Meta e Resultado",IF(ISBLANK(J55),"Introducir Meta",IF(ISBLANK(K55),"Introducir Resultado",IF(K55>=J55,"Meta Conseguida","Meta Non Conseguida")))) -> Introducir Meta | N55: 3 | P55: =+IF(AND(ISBLANK(N55),ISBLANK(O55)),"Introducir Meta e Resultado",IF(ISBLANK(N55),"Introducir Meta",IF(ISBLANK(O55),"Introducir Resultado",IF(O55>=N55,"Meta Conseguida","Meta Non Conseguida")))) -> Introducir Resultado
A56: I23-2 | B56: Satisfacción do Profesorado cos recursos materiais e servizos | C56: IA-01: Xestión dos recursos materiais e dos servizos | D56: Cubrir Meta e Resultado. A meta poderá estar entre os valores [1-5] Introducir o valor que se atopa na folla de "Bloque", na columna "Resultado" na fila "Valoración Total" do "Bloque 5 Recursos materiais e servizos" da titulación do informe de "Enquisas de Satisfacción do Profesorado" do portal de transparencia. https://secretaria.uvigo.gal/uv/web/transparencia/grupo/show/5/28 No caso que no curso de referencia non houbera resultados, seleccionar o índice do curso pasado | E56: 5 | G56: 4.2644628 | H56: =+IF(AND(ISBLANK(F56),ISBLANK(G56)),"Introducir Meta e Resultado",IF(ISBLANK(F56),"Introducir Meta",IF(ISBLANK(G56),"Introducir Resultado",IF(G56>=F56,"Meta Conseguida","Meta Non Conseguida")))) -> Introducir Meta | K56: 4.3233083 | L56: =+IF(AND(ISBLANK(J56),ISBLANK(K56)),"Introducir Meta e Resultado",IF(ISBLANK(J56),"Introducir Meta",IF(ISBLANK(K56),"Introducir Resultado",IF(K56>=J56,"Meta Conseguida","Meta Non Conseguida")))) -> Introducir Meta | N56: 4 | P56: =+IF(AND(ISBLANK(N56),ISBLANK(O56)),"Introducir Meta e Resultado",IF(ISBLANK(N56),"Introducir Meta",IF(ISBLANK(O56),"Introducir Resultado",IF(O56>=N56,"Meta Conseguida","Meta Non Conseguida")))) -> Introducir Resultado
A57: I23-3 | B57: Satisfacción das Persoas tituladas cos recursos materiais e servizos | C57: IA-01: Xestión dos recursos materiais e dos servizos | D57: Cubrir Meta e Resultado. A meta poderá estar entre os valores [1-5] Introducir o valor que se atopa na folla de "Bloque", na columna "Resultado" na fila "Valoración Total" do "Bloque 5 Recursos materiais e servizos" da titulación do informe de "Enquisas de Satisfacción dos/das egresados/as " do portal de transparencia. https://secretaria.uvigo.gal/uv/web/transparencia/grupo/show/5/28 | E57: 5 | G57: 3.5208333 | H57: =+IF(AND(ISBLANK(F57),ISBLANK(G57)),"Introducir Meta e Resultado",IF(ISBLANK(F57),"Introducir Meta",IF(ISBLANK(G57),"Introducir Resultado",IF(G57>=F57,"Meta Conseguida","Meta Non Conseguida")))) -> Introducir Meta | K57: 1 | L57: =+IF(AND(ISBLANK(J57),ISBLANK(K57)),"Introducir Meta e Resultado",IF(ISBLANK(J57),"Introducir Meta",IF(ISBLANK(K57),"Introducir Resultado",IF(K57>=J57,"Meta Conseguida","Meta Non Conseguida")))) -> Introducir Meta | N57: 3 | P57: =+IF(AND(ISBLANK(N57),ISBLANK(O57)),"Introducir Meta e Resultado",IF(ISBLANK(N57),"Introducir Meta",IF(ISBLANK(O57),"Introducir Resultado",IF(O57>=N57,"Meta Conseguida","Meta Non Conseguida")))) -> Introducir Resultado
A58: I23-4 | B58: Satisfacción do PTXAS cos recursos materiais e servizos | C58: IA-01: Xestión dos recursos materiais e dos servizos | D58: Cubrir Meta e Resultado. A meta poderá estar entre os valores [1-5] Introducir o valor que se atopa na folla de "Bloque", na columna "Resultado" na fila "Valoración Total" do "Bloque 4 Recursos materiais e servizos" da titulación do informe de "Enquisas de Satisfacción do PTXAS" do portal de transparencia. https://secretaria.uvigo.gal/uv/web/transparencia/grupo/show/5/28 No caso que no curso de referencia non houbera resultados, seleccionar o índice do curso pasado | E58: 5 | G58: 3.1666667 | H58: =+IF(AND(ISBLANK(F58),ISBLANK(G58)),"Introducir Meta e Resultado",IF(ISBLANK(F58),"Introducir Meta",IF(ISBLANK(G58),"Introducir Resultado",IF(G58>=F58,"Meta Conseguida","Meta Non Conseguida")))) -> Introducir Meta | K58: 5 | L58: =+IF(AND(ISBLANK(J58),ISBLANK(K58)),"Introducir Meta e Resultado",IF(ISBLANK(J58),"Introducir Meta",IF(ISBLANK(K58),"Introducir Resultado",IF(K58>=J58,"Meta Conseguida","Meta Non Conseguida")))) -> Introducir Meta | N58: 3.5 | P58: =+IF(AND(ISBLANK(N58),ISBLANK(O58)),"Introducir Meta e Resultado",IF(ISBLANK(N58),"Introducir Meta",IF(ISBLANK(O58),"Introducir Resultado",IF(O58>=N58,"Meta Conseguida","Meta Non Conseguida")))) -> Introducir Resultado
A59: I24 | B59: Índice de satisfacción coa orientación recibida no centro | C59: DO-0203: Orientación do estudantado e atención ás NEAE | D59: Nº dos obxectivos (I24-1, I24-2, I24-3 e I24-4) que se acadan | E59: 5 | F59: =+COUNTA(F60:F63) -> 0 | G59: =+COUNTIF(H60:H63,"Meta Conseguida") -> 0 | H59: =+IF((G59+F59)=0,"Introducir Meta e Resultado",IF(COUNTA(G60:G63)=0,"Indicador Sen Resultados",IF(G59=0,"Ningunha Meta Alcanzada",IF(G59>=F59,"Meta Totalmente Alcanzada",IF(G59>0,"Meta Parcialmente Alcanzada"))))) -> Introducir Meta e Resultado | J59: =+COUNTA(J60:J63) -> 0 | K59: =+COUNTIF(L60:L63,"Meta Conseguida") -> 0 | L59: =+IF((K59+J59)=0,"Introducir Meta e Resultado",IF(COUNTA(K60:K63)=0,"Indicador Sen Resultados",IF(K59=0,"Ningunha Meta Alcanzada",IF(K59>=J59,"Meta Totalmente Alcanzada",IF(K59>0,"Meta Parcialmente Alcanzada"))))) -> Introducir Meta e Resultado | N59: =+COUNTA(N60:N63) -> 4 | O59: =+COUNTIF(P60:P63,"Meta Conseguida") -> 0 | P59: =+IF((O59+N59)=0,"Introducir Meta e Resultado",IF(COUNTA(O60:O63)=0,"Indicador Sen Resultados",IF(O59=0,"Ningunha Meta Alcanzada",IF(O59>=N59,"Meta Totalmente Alcanzada",IF(O59>0,"Meta Parcialmente Alcanzada"))))) -> Indicador Sen Resultados
A60: I24-1 | B60: Satisfacción do Estudantado coa orientación recibida no centro | C60: DO-0203: Orientación do estudantado e atención ás NEAE | D60: Cubrir Meta e Resultado. A meta poderá estar entre os valores [1-5] Introducir o Valor que se atopa na folla "Preguntas", na columna "Resultado" na fila "Valoración Total" da pregunta Nº 6 "Orientación académica recibida no PAT"do informe "Enquisas de Satisfacción de estudantado", do portal de transparencia. https://secretaria.uvigo.gal/uv/web/transparencia/grupo/show/5/28 | E60: 5 | G60: 3 | H60: =+IF(AND(ISBLANK(F60),ISBLANK(G60)),"Introducir Meta e Resultado",IF(ISBLANK(F60),"Introducir Meta",IF(ISBLANK(G60),"Introducir Resultado",IF(G60>=F60,"Meta Conseguida","Meta Non Conseguida")))) -> Introducir Meta | K60: 2.1666667 | L60: =+IF(AND(ISBLANK(J60),ISBLANK(K60)),"Introducir Meta e Resultado",IF(ISBLANK(J60),"Introducir Meta",IF(ISBLANK(K60),"Introducir Resultado",IF(K60>=J60,"Meta Conseguida","Meta Non Conseguida")))) -> Introducir Meta | N60: 3 | P60: =+IF(AND(ISBLANK(N60),ISBLANK(O60)),"Introducir Meta e Resultado",IF(ISBLANK(N60),"Introducir Meta",IF(ISBLANK(O60),"Introducir Resultado",IF(O60>=N60,"Meta Conseguida","Meta Non Conseguida")))) -> Introducir Resultado
A61: I24-2 | B61: Satisfacción do Profesorado coa orientación académica recibida no centro | C61: DO-0203: Orientación do estudantado e atención ás NEAE | D61: Cubrir Meta e Resultado. A meta poderá estar entre os valores [1-5] Introducir o Valor que se atopa na folla "Preguntas", na columna "Resultado" na fila "Valoración Total" da pregunta Nº 6 "Orientación académica programada no PAT"do informe "Enquisas de Satisfacción de profesorado do portal de transparencia. https://secretaria.uvigo.gal/uv/web/transparencia/grupo/show/5/28 | E61: 5 | G61: 4.3 | H61: =+IF(AND(ISBLANK(F61),ISBLANK(G61)),"Introducir Meta e Resultado",IF(ISBLANK(F61),"Introducir Meta",IF(ISBLANK(G61),"Introducir Resultado",IF(G61>=F61,"Meta Conseguida","Meta Non Conseguida")))) -> Introducir Meta | K61: 4.1071429 | L61: =+IF(AND(ISBLANK(J61),ISBLANK(K61)),"Introducir Meta e Resultado",IF(ISBLANK(J61),"Introducir Meta",IF(ISBLANK(K61),"Introducir Resultado",IF(K61>=J61,"Meta Conseguida","Meta Non Conseguida")))) -> Introducir Meta | N61: 4 | P61: =+IF(AND(ISBLANK(N61),ISBLANK(O61)),"Introducir Meta e Resultado",IF(ISBLANK(N61),"Introducir Meta",IF(ISBLANK(O61),"Introducir Resultado",IF(O61>=N61,"Meta Conseguida","Meta Non Conseguida")))) -> Introducir Resultado
A62: I24-3 | B62: Satisfacción das Persoas tituladas coa orientación académica recibida no centro | C62: DO-0203: Orientación do estudantado e atención ás NEAE | D62: Cubrir Meta e Resultado. A meta poderá estar entre os valores [1-5] Introducir o valor que se atopa na folla "Preguntas", na columna "Resultado" nas filas "Valoración Total da pregunta Nº4 "Orientación académica recibida" do informe "Enquisas de Satisfacción dos/das egresados/as", do portal de transparencia. https://secretaria.uvigo.gal/uv/web/transparencia/grupo/show/5/28 | E62: 5 | G62: 3.875 | H62: =+IF(AND(ISBLANK(F62),ISBLANK(G62)),"Introducir Meta e Resultado",IF(ISBLANK(F62),"Introducir Meta",IF(ISBLANK(G62),"Introducir Resultado",IF(G62>=F62,"Meta Conseguida","Meta Non Conseguida")))) -> Introducir Meta | K62: 1 | L62: =+IF(AND(ISBLANK(J62),ISBLANK(K62)),"Introducir Meta e Resultado",IF(ISBLANK(J62),"Introducir Meta",IF(ISBLANK(K62),"Introducir Resultado",IF(K62>=J62,"Meta Conseguida","Meta Non Conseguida")))) -> Introducir Meta | N62: 3.5 | P62: =+IF(AND(ISBLANK(N62),ISBLANK(O62)),"Introducir Meta e Resultado",IF(ISBLANK(N62),"Introducir Meta",IF(ISBLANK(O62),"Introducir Resultado",IF(O62>=N62,"Meta Conseguida","Meta Non Conseguida")))) -> Introducir Resultado
A63: I24-4 | B63: Satisfacción das Persoas tituladas coa orientación profesional e laboral recibida no centro | C63: DO-0203: Orientación do estudantado e atención ás NEAE | D63: Cubrir Meta e Resultado Introducir o valor que se atopa na folla "Preguntas", na columna "Resultado" nas filas "Valoración Total da pregunta Nº5 "Orientación profesional e laboral recibida", do informe "Enquisas de Satisfacción dos/das egresados/as", do portal de transparencia" https://secretaria.uvigo.gal/uv/web/transparencia/grupo/show/5/28 | E63: 5 | G63: 2.875 | H63: =+IF(AND(ISBLANK(F63),ISBLANK(G63)),"Introducir Meta e Resultado",IF(ISBLANK(F63),"Introducir Meta",IF(ISBLANK(G63),"Introducir Resultado",IF(G63>=F63,"Meta Conseguida","Meta Non Conseguida")))) -> Introducir Meta | K63: 4 | L63: =+IF(AND(ISBLANK(J63),ISBLANK(K63)),"Introducir Meta e Resultado",IF(ISBLANK(J63),"Introducir Meta",IF(ISBLANK(K63),"Introducir Resultado",IF(K63>=J63,"Meta Conseguida","Meta Non Conseguida")))) -> Introducir Meta | N63: 3 | P63: =+IF(AND(ISBLANK(N63),ISBLANK(O63)),"Introducir Meta e Resultado",IF(ISBLANK(N63),"Introducir Meta",IF(ISBLANK(O63),"Introducir Resultado",IF(O63>=N63,"Meta Conseguida","Meta Non Conseguida")))) -> Introducir Resultado
A64: I25 | B64: % Alumnado en prácticas académicas | C64: DO-0204: Xestión das prácticas académicas | D64: Cubrir Meta e Resultado Esta porcentaxe é o estudantado que realiza prácticas sobre o total do estudantado que está matriculado na titulación, non sobre o estudantado que pode realizar prácticas. Elixir "% estudantes en prácticas sobre matrícula" da titulación, na folla "total_Centro_titulación" do documento "prácticas" https://secretaria.uvigo.gal/uv/web/transparencia/informe/show/5/5/9 | E64: 5 | G64: 0.14868106 | H64: =+IF(AND(ISBLANK(F64),ISBLANK(G64)),"Introducir Meta e Resultado",IF(ISBLANK(F64),"Introducir Meta",IF(ISBLANK(G64),"Introducir Resultado",IF(G64>=F64,"Meta Conseguida","Meta Non Conseguida")))) -> Introducir Meta | K64: 0.17929293 | L64: =+IF(AND(ISBLANK(J64),ISBLANK(K64)),"Introducir Meta e Resultado",IF(ISBLANK(J64),"Introducir Meta",IF(ISBLANK(K64),"Introducir Resultado",IF(K64>=J64,"Meta Conseguida","Meta Non Conseguida")))) -> Introducir Meta | N64: 0.15 | P64: =+IF(AND(ISBLANK(N64),ISBLANK(O64)),"Introducir Meta e Resultado",IF(ISBLANK(N64),"Introducir Meta",IF(ISBLANK(O64),"Introducir Resultado",IF(O64>=N64,"Meta Conseguida","Meta Non Conseguida")))) -> Introducir Resultado
A65: I26 | B65: Índice de satisfacción coa promoción da titulación e a información pública na web | C65: DO-0301 Información Pública | D65: Nº dos obxectivos (I26-1, I26-2, I26-3 e I26-4) que se acadan | E65: 2 | F65: =+COUNTA(F66:F69) -> 0 | G65: =+COUNTIF(H66:H69,"Meta Conseguida") -> 0 | H65: =+IF((G65+F65)=0,"Introducir Meta e Resultado",IF(COUNTA(G66:G69)=0,"Indicador Sen Resultados",IF(G65=0,"Ningunha Meta Alcanzada",IF(G65>=F65,"Meta Totalmente Alcanzada",IF(G65>0,"Meta Parcialmente Alcanzada"))))) -> Introducir Meta e Resultado | J65: =+COUNTA(J66:J69) -> 0 | K65: =+COUNTIF(L66:L69,"Meta Conseguida") -> 0 | L65: =+IF((K65+J65)=0,"Introducir Meta e Resultado",IF(COUNTA(K66:K69)=0,"Indicador Sen Resultados",IF(K65=0,"Ningunha Meta Alcanzada",IF(K65>=J65,"Meta Totalmente Alcanzada",IF(K65>0,"Meta Parcialmente Alcanzada"))))) -> Introducir Meta e Resultado | N65: =+COUNTA(N66:N69) -> 4 | O65: =+COUNTIF(P66:P69,"Meta Conseguida") -> 0 | P65: =+IF((O65+N65)=0,"Introducir Meta e Resultado",IF(COUNTA(O66:O69)=0,"Indicador Sen Resultados",IF(O65=0,"Ningunha Meta Alcanzada",IF(O65>=N65,"Meta Totalmente Alcanzada",IF(O65>0,"Meta Parcialmente Alcanzada"))))) -> Indicador Sen Resultados
A66: I26-1 | B66: Satisfacción do Estudantado coa promoción da titulación e a información pública na web | C66: DO-0301 Información Pública | D66: Cubrir Meta e Resultado. A meta poderá estar entre os valores [1-5] Indicar o Valor que se atopa na folla de "Bloque", na columna "Resultado" na fila "Valoración Total" do "Bloque 2 Información e Transparencia" da titulación correspondente do informe de "Enquisas de Satisfacción de estudantado" do portal de transparencia. https://secretaria.uvigo.gal/uv/web/transparencia/grupo/show/5/28 | E66: 2 | G66: 3.29 | H66: =+IF(AND(ISBLANK(F66),ISBLANK(G66)),"Introducir Meta e Resultado",IF(ISBLANK(F66),"Introducir Meta",IF(ISBLANK(G66),"Introducir Resultado",IF(G66>=F66,"Meta Conseguida","Meta Non Conseguida")))) -> Introducir Meta | K66: 2.5185185 | L66: =+IF(AND(ISBLANK(J66),ISBLANK(K66)),"Introducir Meta e Resultado",IF(ISBLANK(J66),"Introducir Meta",IF(ISBLANK(K66),"Introducir Resultado",IF(K66>=J66,"Meta Conseguida","Meta Non Conseguida")))) -> Introducir Meta | N66: 3 | P66: =+IF(AND(ISBLANK(N66),ISBLANK(O66)),"Introducir Meta e Resultado",IF(ISBLANK(N66),"Introducir Meta",IF(ISBLANK(O66),"Introducir Resultado",IF(O66>=N66,"Meta Conseguida","Meta Non Conseguida")))) -> Introducir Resultado
A67: I26-2 | B67: Satisfacción do Profesorado coa promoción da titulación e a información pública na web | C67: DO-0301 Información Pública | D67: Cubrir Meta e Resultado. A meta poderá estar entre os valores [1-5] Indicar o Valor que se atopa na folla de "Bloque", na columna "Resultado" na fila "Valoración Total" do "Bloque 2 Información e Transparencia" da titulación correspondente do informe de "Enquisas de Satisfacción do Profesorado" do portal de transparencia. https://secretaria.uvigo.gal/uv/web/transparencia/grupo/show/5/28 No caso que no curso de referencia non houbera resultados, seleccionar o índice do curso pasado | E67: 2 | G67: 3.7767857 | H67: =+IF(AND(ISBLANK(F67),ISBLANK(G67)),"Introducir Meta e Resultado",IF(ISBLANK(F67),"Introducir Meta",IF(ISBLANK(G67),"Introducir Resultado",IF(G67>=F67,"Meta Conseguida","Meta Non Conseguida")))) -> Introducir Meta | K67: 4.12 | L67: =+IF(AND(ISBLANK(J67),ISBLANK(K67)),"Introducir Meta e Resultado",IF(ISBLANK(J67),"Introducir Meta",IF(ISBLANK(K67),"Introducir Resultado",IF(K67>=J67,"Meta Conseguida","Meta Non Conseguida")))) -> Introducir Meta | N67: 3.5 | P67: =+IF(AND(ISBLANK(N67),ISBLANK(O67)),"Introducir Meta e Resultado",IF(ISBLANK(N67),"Introducir Meta",IF(ISBLANK(O67),"Introducir Resultado",IF(O67>=N67,"Meta Conseguida","Meta Non Conseguida")))) -> Introducir Resultado
A68: I26-3 | B68: Satisfacción das Persoas tituladas coa promoción da titulación e a información pública na web | C68: DO-0301 Información Pública | D68: Cubrir Meta e Resultado. A meta poderá estar entre os valores [1-5] Indicar o Valor que se atopa na folla de "Bloque", na columna "Resultado" na fila "Valoración Total" do "Bloque 2 Información e Transparencia" da titulación correspondente do informe de "Enquisas de Satisfacción dos/das egresados/as " do portal de transparencia. https://secretaria.uvigo.gal/uv/web/transparencia/grupo/show/5/28 | E68: 2 | G68: 3.84375 | H68: =+IF(AND(ISBLANK(F68),ISBLANK(G68)),"Introducir Meta e Resultado",IF(ISBLANK(F68),"Introducir Meta",IF(ISBLANK(G68),"Introducir Resultado",IF(G68>=F68,"Meta Conseguida","Meta Non Conseguida")))) -> Introducir Meta | K68: 1 | L68: =+IF(AND(ISBLANK(J68),ISBLANK(K68)),"Introducir Meta e Resultado",IF(ISBLANK(J68),"Introducir Meta",IF(ISBLANK(K68),"Introducir Resultado",IF(K68>=J68,"Meta Conseguida","Meta Non Conseguida")))) -> Introducir Meta | N68: 3.5 | P68: =+IF(AND(ISBLANK(N68),ISBLANK(O68)),"Introducir Meta e Resultado",IF(ISBLANK(N68),"Introducir Meta",IF(ISBLANK(O68),"Introducir Resultado",IF(O68>=N68,"Meta Conseguida","Meta Non Conseguida")))) -> Introducir Resultado
A69: I26-4 | B69: Satisfacción do PTXAS coa promoción da titulación e a información pública na web | C69: DO-0301 Información Pública | D69: Cubrir Meta e Resultado. A meta poderá estar entre os valores [1-5] Indicar o Valor que se atopa na folla de "Bloque", na columna "Resultado" na fila "Valoración Total" do "Bloque 1 Información Xeral" da titulación do informe de "Enquisas de Satisfacción do PAS" do portal de transparencia. https://secretaria.uvigo.gal/uv/web/transparencia/grupo/show/5/28 No caso que no curso de referencia non houbera resultados, seleccionar o índice do curso pasado | E69: 2 | G69: 3 | H69: =+IF(AND(ISBLANK(F69),ISBLANK(G69)),"Introducir Meta e Resultado",IF(ISBLANK(F69),"Introducir Meta",IF(ISBLANK(G69),"Introducir Resultado",IF(G69>=F69,"Meta Conseguida","Meta Non Conseguida")))) -> Introducir Meta | K69: 4.6666667 | L69: =+IF(AND(ISBLANK(J69),ISBLANK(K69)),"Introducir Meta e Resultado",IF(ISBLANK(J69),"Introducir Meta",IF(ISBLANK(K69),"Introducir Resultado",IF(K69>=J69,"Meta Conseguida","Meta Non Conseguida")))) -> Introducir Meta | N69: 3.5 | P69: =+IF(AND(ISBLANK(N69),ISBLANK(O69)),"Introducir Meta e Resultado",IF(ISBLANK(N69),"Introducir Meta",IF(ISBLANK(O69),"Introducir Resultado",IF(O69>=N69,"Meta Conseguida","Meta Non Conseguida")))) -> Introducir Resultado
A70: I34 | B70: Nº Accións de mellora definidas neste curso | C70: DO-0102: Seguimento e mellora das titulacións | D70: Só cubrir o Resultado, é un indicador informativo Nº de melloras rexistradas asociadas á titulación na aplicación SGIC neste curso | E70: 3 | F70: ---- | G70: 1 | H70: =+IF(ISBLANK(G70),"Introducir Resultado","Indicador Completado") -> Indicador Completado | J70: ---- | L70: =+IF(ISBLANK(K70),"Introducir Resultado","Indicador Completado") -> Introducir Resultado | N70: ---- | P70: =+IF(ISBLANK(O70),"Introducir Resultado","Indicador Completado") -> Introducir Resultado
A71: I35 | B71: Nota media do acceso | C71: DO-0202 Promoción das titulacións | D71: Cubrir Meta e Resultado Escoller o documento de Nota Media dos graos ou másters segundo o caso: https://secretaria.uvigo.gal/uv/web/transparencia/informe/show/5/51/63 Posteriormente elixir a columna "Nota media de acceso" da fila "Título de Bacharelato do Sistema Educativo Español" da titulación. | E71: 7 | F71: 7 | G71: 9.9397826 | H71: =+IF(AND(ISBLANK(F71),ISBLANK(G71)),"Introducir Meta e Resultado",IF(ISBLANK(F71),"Introducir Meta",IF(ISBLANK(G71),"Introducir Resultado",IF(G71>=F71,"Meta Conseguida","Meta Non Conseguida")))) -> Meta Conseguida | J71: 7 | K71: 9.85 | L71: =+IF(AND(ISBLANK(J71),ISBLANK(K71)),"Introducir Meta e Resultado",IF(ISBLANK(J71),"Introducir Meta",IF(ISBLANK(K71),"Introducir Resultado",IF(K71>=J71,"Meta Conseguida","Meta Non Conseguida")))) -> Meta Conseguida | N71: 7 | P71: =+IF(AND(ISBLANK(N71),ISBLANK(O71)),"Introducir Meta e Resultado",IF(ISBLANK(N71),"Introducir Meta",IF(ISBLANK(O71),"Introducir Resultado",IF(O71>=N71,"Meta Conseguida","Meta Non Conseguida")))) -> Introducir Resultado
A72: I36 | B72: Nº Estudantado titorizado | C72: DO-0203: Orientación do estudantado e atención ás NEAE | D72: Só cubrir o Resultado, é un indicador informativo Nº de estudantado incluído no PAT | E72: 5 | F72: ---- | H72: =+IF(ISBLANK(G72),"Introducir Resultado","Indicador Completado") -> Introducir Resultado | J72: ---- | L72: =+IF(ISBLANK(K72),"Introducir Resultado","Indicador Completado") -> Introducir Resultado | N72: ---- | P72: =+IF(ISBLANK(O72),"Introducir Resultado","Indicador Completado") -> Introducir Resultado
